Workbook
Name D_불명: OFFSET(#REF!,0,0,COUNTA(#REF!),6)
Name D_불명: OFFSET(#REF!,0,0,COUNTA(#REF!),6)
Name D_불명: OFFSET(#REF!,0,0,COUNTA(#REF!),6)
Name D_불명: OFFSET(#REF!,0,0,COUNTA(#REF!),6)
Name D_불명: OFFSET(#REF!,0,0,COUNTA(#REF!),6)
Name D_불명: OFFSET(#REF!,0,0,COUNTA(#REF!),6)
Name D_세대수: OFFSET(#REF!,0,0,COUNTA(#REF!),6)
Name D_세대수: OFFSET(#REF!,0,0,COUNTA(#REF!),6)
Name D_세대수: OFFSET(#REF!,0,0,COUNTA(#REF!),6)
Name D_세대수: OFFSET(#REF!,0,0,COUNTA(#REF!),6)
Name D_세대수: OFFSET(#REF!,0,0,COUNTA(#REF!),6)
Name D_세대수: OFFSET(#REF!,0,0,COUNTA(#REF!),6)
Name D_연령: OFFSET(#REF!,0,0,COUNTA(#REF!),9)
Name D_연령: OFFSET(#REF!,0,0,COUNTA(#REF!),9)
Name D_연령: OFFSET(#REF!,0,0,COUNTA(#REF!),9)
Name D_연령: OFFSET(#REF!,0,0,COUNTA(#REF!),9)
Name D_연령: OFFSET(#REF!,0,0,COUNTA(#REF!),9)
Name D_연령: OFFSET(#REF!,0,0,COUNTA(#REF!),9)
Name D_외국인: OFFSET(#REF!,0,0,COUNTA(#REF!),6)
Name D_외국인: OFFSET(#REF!,0,0,COUNTA(#REF!),6)
Name D_외국인: OFFSET(#REF!,0,0,COUNTA(#REF!),6)
Name D_외국인: OFFSET(#REF!,0,0,COUNTA(#REF!),6)
Name D_외국인: OFFSET(#REF!,0,0,COUNTA(#REF!),6)
Name D_외국인: OFFSET(#REF!,0,0,COUNTA(#REF!),6)
Name D_외국인_상세: OFFSET(#REF!,0,0,COUNTA(#REF!),8)
Name D_외국인_상세: OFFSET(#REF!,0,0,COUNTA(#REF!),8)
Name D_외국인_상세: OFFSET(#REF!,0,0,COUNTA(#REF!),8)
Name D_외국인_상세: OFFSET(#REF!,0,0,COUNTA(#REF!),8)
Name D_외국인_상세: OFFSET(#REF!,0,0,COUNTA(#REF!),8)
Name D_외국인_상세: OFFSET(#REF!,0,0,COUNTA(#REF!),8)
Name DATA_국적별외국인: #REF!
Name DATA_국적별외국인: #REF!
Name DATA_국적별외국인: #REF!
Name DATA_국적별외국인: #REF!
Name DATA_국적별외국인: '3-1. 국적별 외국인 현황'!$A$6:$BR$62
Name DATA_국적별외국인: #REF!
Name DATA_세대인구총괄: '1-2. 읍면동별 인구 및 세대현황'!$A$6:$L$191
Name DATA_세대인구총괄: '1-2. 읍면동별 인구 및 세대현황'!$A$6:$L$191
Name DATA_세대인구총괄: '1-2. 읍면동별 인구 및 세대현황'!$A$6:$L$191
Name DATA_세대인구총괄: '1-2. 읍면동별 인구 및 세대현황'!$A$6:$L$191
Name DATA_세대인구총괄: #REF!
Name DATA_체류자격: #REF!
Name DATA_체류자격: #REF!
Name DATA_체류자격: #REF!
Name DATA_체류자격: #REF!
Name DATA_체류자격: #REF!
Name DATA_체류자격: #REF!
Name DATA1: OFFSET([1]D1!$A$1,0,0,COUNTA([1]D1!$A:$A),9)
Name DATA1: OFFSET([1]D1!$A$1,0,0,COUNTA([1]D1!$A:$A),9)
Name DATA1: OFFSET([1]D1!$A$1,0,0,COUNTA([1]D1!$A:$A),9)
Name DATA1: OFFSET([1]D1!$A$1,0,0,COUNTA([1]D1!$A:$A),9)
Name DATA1: OFFSET([1]D1!$A$1,0,0,COUNTA([1]D1!$A:$A),9)
Name DATA1: OFFSET([1]D1!$A$1,0,0,COUNTA([1]D1!$A:$A),9)
Name DATA2: OFFSET([1]D2!$A$1,0,0,COUNTA([1]D2!$A:$A),13)
Name DATA2: OFFSET([1]D2!$A$1,0,0,COUNTA([1]D2!$A:$A),13)
Name DATA2: OFFSET([1]D2!$A$1,0,0,COUNTA([1]D2!$A:$A),13)
Name DATA2: OFFSET([1]D2!$A$1,0,0,COUNTA([1]D2!$A:$A),13)
Name DATA2: OFFSET([1]D2!$A$1,0,0,COUNTA([1]D2!$A:$A),13)
Name DATA2: OFFSET([1]D2!$A$1,0,0,COUNTA([1]D2!$A:$A),13)
Name DATA3: OFFSET([1]D3!$A$1,0,0,COUNTA([1]D3!$A:$A),9)

Sheet 1-1. 시군별 인구 및 세대현황
A2: 1-1. 시군별 인구 및 세대현황
I3: (단위 : 세대, 명)
A4: 연도(분기) | B4: 세대수 | C4: 총계 | F4: 내국인 | I4: 외국인
C5: 총계 | D5: 남 | E5: 여 | F5: 소계 | G5: 남 | H5: 여 | I5: 소계 | J5: 남 | K5: 여
A6: 2013년 | B6: 1139387 | C6: 2742939 | D6: 1382922 | E6: 1360017 | F6: 2699440 | G6: 1355951 | H6: 1343489 | I6: 43499 | J6: 26971 | K6: 16528
A7: 2014년 | B7: 1153559 | C7: 2748599 | D7: 1386564 | E7: 1362035 | F7: 2700794 | G7: 1356182 | H7: 1344612 | I7: 47805 | J7: 30382 | K7: 17423
A8: 2015년 | B8: 1169648 | C8: 2752591 | D8: 1388885 | E8: 1363706 | F8: 2702826 | G8: 1357306 | H8: 1345520 | I8: 49765 | J8: 31579 | K8: 18186
A9: 2016년 | B9: 1180643 | C9: 2751749 | D9: 1389260 | E9: 1362489 | F9: 2700398 | G9: 1356868 | H9: 1343530 | I9: 51351 | J9: 32392 | K9: 18959
A10: 2017년 | B10: 1193261 | C10: 2745070 | D10: 1386747 | E10: 1358323 | F10: 2691706 | G10: 1353164 | H10: 1338542 | I10: 53364 | J10: 33583 | K10: 19781
A11: 2018년 | B11: 1207351 | C11: 2733800 | D11: 1382582 | E11: 1351218 | F11: 2676831 | G11: 1346689 | H11: 1330142 | I11: 56969 | J11: 35893 | K11: 21076
A12: 2019년 | B12: 1227548 | C12: 2723955 | D12: 1378492 | E12: 1345463 | F12: 2665836 | G12: 1342037 | H12: 1323799 | I12: 58119 | J12: 36455 | K12: 21664
A13: 2020년 | B13: 1254662 | C13: 2691891 | D13: 1361907 | E13: 1329984 | F13: 2639422 | G13: 1329211 | H13: 1310211 | I13: 52469 | J13: 32696 | K13: 19773
A14: 2021년 | B14: 1276846 | C14: 2677709 | D14: 1355128 | E14: 1322581 | F14: 2626609 | G14: 1323661 | H14: 1302948 | I14: 51100 | J14: 31467 | K14: 19633
A15: 2022년 | B15: 1286873 | C15: 2657547 | D15: 1347878 | E15: 1309669 | F15: 2600492 | G15: 1311881 | H15: 1288611 | I15: 57055 | J15: 35997 | K15: 21058
A16: 2023년 1분기 | B16: 1291726 | C16: 2651548 | D16: 1346085 | E16: 1305463 | F16: 2593210 | G16: 1309056 | H16: 1284154 | I16: 58338 | J16: 37029 | K16: 21309
A17: 2023년 2분기 | B17: 1295243 | C17: 2651637 | D17: 1347526 | E17: 1304111 | F17: 2588860 | G17: 1307284 | H17: 1281576 | I17: 62777 | J17: 40242 | K17: 22535
A19: ※ 군위군 대구광역시 편입('23.7.1.)으로 금분기 결과부터 군위군 제외
A20: 2023년 3분기 경상북도 | B20: =SUM(B21:B42) -> 1282575 | C20: =IF(SUM(C21:C42)=D20+E20,SUM(C21:C42),error) -> 2625372 | D20: =IF(SUM(D21:D42)=G20+J20,SUM(D21:D42),error) -> 1335085 | E20: =IF(SUM(E21:E42)=H20+K20,SUM(E21:E42),error) -> 1290287 | F20: =SUM(F21:F42) -> 2559924 | G20: =SUM(G21:G42) -> 1292868 | H20: =SUM(H21:H42) -> 1267056 | I20: =SUM(I21:I42) -> 65448 | J20: =SUM(J21:J42) -> 42217 | K20: =SUM(K21:K42) -> 23231
A21: 포항시 | B21: 233509 | C21: =IF(D21+E21=F21+I21,D21+E21,error) -> 499954 | D21: =G21+J21 -> 254642 | E21: =H21+K21 -> 245312 | F21: 493102 | G21: 250120 | H21: 242982 | I21: =SUM(J21:K21) -> 6852 | J21: =SUMIF('1-2. 읍면동별 인구 및 세대현황'!$A$7:$A$352,'1-1. 시군별 인구 및 세대현황'!A21,'1-2. 읍면동별 인구 및 세대현황'!$J$7:$J$136) -> 4522 | K21: =SUMIF('1-2. 읍면동별 인구 및 세대현황'!$A$7:$A$352,'1-1. 시군별 인구 및 세대현황'!A21,'1-2. 읍면동별 인구 및 세대현황'!$K$7:$K$136) -> 2330
A22: 경주시 | B22: 124772 | C22: =IF(D22+E22=F22+I22,D22+E22,error) -> 258968 | D22: =G22+J22 -> 131392 | E22: =H22+K22 -> 127576 | F22: 248244 | G22: 124299 | H22: 123945 | I22: =SUM(J22:K22) -> 10724 | J22: =SUMIF('1-2. 읍면동별 인구 및 세대현황'!$A$7:$A$352,'1-1. 시군별 인구 및 세대현황'!A22,'1-2. 읍면동별 인구 및 세대현황'!$J$7:$J$136) -> 7093 | K22: =SUMIF('1-2. 읍면동별 인구 및 세대현황'!$A$7:$A$352,'1-1. 시군별 인구 및 세대현황'!A22,'1-2. 읍면동별 인구 및 세대현황'!$K$7:$K$136) -> 3631
A23: 김천시 | B23: 69346 | C23: =IF(D23+E23=F23+I23,D23+E23,error) -> 141125 | D23: =G23+J23 -> 71299 | E23: =H23+K23 -> 69826 | F23: 138059 | G23: 69330 | H23: 68729 | I23: =SUM(J23:K23) -> 3066 | J23: =SUMIF('1-2. 읍면동별 인구 및 세대현황'!$A$7:$A$352,'1-1. 시군별 인구 및 세대현황'!A23,'1-2. 읍면동별 인구 및 세대현황'!$J$7:$J$136) -> 1969 | K23: =SUMIF('1-2. 읍면동별 인구 및 세대현황'!$A$7:$A$352,'1-1. 시군별 인구 및 세대현황'!A23,'1-2. 읍면동별 인구 및 세대현황'!$K$7:$K$136) -> 1097
A24: 안동시 | B24: 78260 | C24: =IF(D24+E24=F24+I24,D24+E24,error) -> 155223 | D24: =G24+J24 -> 76704 | E24: =H24+K24 -> 78519 | F24: 153306 | G24: 75750 | H24: 77556 | I24: =SUM(J24:K24) -> 1917 | J24: =SUMIF('1-2. 읍면동별 인구 및 세대현황'!$A$7:$A$352,'1-1. 시군별 인구 및 세대현황'!A24,'1-2. 읍면동별 인구 및 세대현황'!$J$7:$J$136) -> 954 | K24: =SUMIF('1-2. 읍면동별 인구 및 세대현황'!$A$7:$A$352,'1-1. 시군별 인구 및 세대현황'!A24,'1-2. 읍면동별 인구 및 세대현황'!$K$7:$K$136) -> 963
A25: 구미시 | B25: 186960 | C25: =IF(D25+E25=F25+I25,D25+E25,error) -> 411787 | D25: =G25+J25 -> 212806 | E25: =H25+K25 -> 198981 | F25: 406053 | G25: 209388 | H25: 196665 | I25: =SUM(J25:K25) -> 5734 | J25: =SUMIF('1-2. 읍면동별 인구 및 세대현황'!$A$7:$A$352,'1-1. 시군별 인구 및 세대현황'!A25,'1-2. 읍면동별 인구 및 세대현황'!$J$7:$J$136) -> 3418 | K25: =SUMIF('1-2. 읍면동별 인구 및 세대현황'!$A$7:$A$352,'1-1. 시군별 인구 및 세대현황'!A25,'1-2. 읍면동별 인구 및 세대현황'!$K$7:$K$136) -> 2316
A26: 영주시 | B26: 51228 | C26: =IF(D26+E26=F26+I26,D26+E26,error) -> 101278 | D26: =G26+J26 -> 50288 | E26: =H26+K26 -> 50990 | F26: 100011 | G26: 49553 | H26: 50458 | I26: =SUM(J26:K26) -> 1267 | J26: =SUMIF('1-2. 읍면동별 인구 및 세대현황'!$A$7:$A$352,'1-1. 시군별 인구 및 세대현황'!A26,'1-2. 읍면동별 인구 및 세대현황'!$J$7:$J$136) -> 735 | K26: =SUMIF('1-2. 읍면동별 인구 및 세대현황'!$A$7:$A$352,'1-1. 시군별 인구 및 세대현황'!A26,'1-2. 읍면동별 인구 및 세대현황'!$K$7:$K$136) -> 532
A27: 영천시 | B27: 54866 | C27: =IF(D27+E27=F27+I27,D27+E27,error) -> 103855 | D27: =G27+J27 -> 53688 | E27: =H27+K27 -> 50167 | F27: 100416 | G27: 51183 | H27: 49233 | I27: =SUM(J27:K27) -> 3439 | J27: =SUMIF('1-2. 읍면동별 인구 및 세대현황'!$A$7:$A$352,'1-1. 시군별 인구 및 세대현황'!A27,'1-2. 읍면동별 인구 및 세대현황'!$J$7:$J$136) -> 2505 | K27: =SUMIF('1-2. 읍면동별 인구 및 세대현황'!$A$7:$A$352,'1-1. 시군별 인구 및 세대현황'!A27,'1-2. 읍면동별 인구 및 세대현황'!$K$7:$K$136) -> 934
A28: 상주시 | B28: 49592 | C28: =IF(D28+E28=F28+I28,D28+E28,error) -> 95805 | D28: =G28+J28 -> 47218 | E28: =H28+K28 -> 48587 | F28: 94168 | G28: 46364 | H28: 47804 | I28: =SUM(J28:K28) -> 1637 | J28: =SUMIF('1-2. 읍면동별 인구 및 세대현황'!$A$7:$A$352,'1-1. 시군별 인구 및 세대현황'!A28,'1-2. 읍면동별 인구 및 세대현황'!$J$7:$J$136) -> 854 | K28: =SUMIF('1-2. 읍면동별 인구 및 세대현황'!$A$7:$A$352,'1-1. 시군별 인구 및 세대현황'!A28,'1-2. 읍면동별 인구 및 세대현황'!$K$7:$K$136) -> 783
A29: 문경시 | B29: 36957 | C29: =IF(D29+E29=F29+I29,D29+E29,error) -> 70069 | D29: =G29+J29 -> 34505 | E29: =H29+K29 -> 35564 | F29: 69171 | G29: 34012 | H29: 35159 | I29: =SUM(J29:K29) -> 898 | J29: =SUMIF('1-2. 읍면동별 인구 및 세대현황'!$A$7:$A$352,'1-1. 시군별 인구 및 세대현황'!A29,'1-2. 읍면동별 인구 및 세대현황'!$J$7:$J$136) -> 493 | K29: =SUMIF('1-2. 읍면동별 인구 및 세대현황'!$A$7:$A$352,'1-1. 시군별 인구 및 세대현황'!A29,'1-2. 읍면동별 인구 및 세대현황'!$K$7:$K$136) -> 405
A30: 경산시 | B30: 129501 | C30: =IF(D30+E30=F30+I30,D30+E30,error) -> 281512 | D30: =G30+J30 -> 143103 | E30: =H30+K30 -> 138409 | F30: 267076 | G30: 134335 | H30: 132741 | I30: =SUM(J30:K30) -> 14436 | J30: =SUMIF('1-2. 읍면동별 인구 및 세대현황'!$A$7:$A$352,'1-1. 시군별 인구 및 세대현황'!A30,'1-2. 읍면동별 인구 및 세대현황'!$J$7:$J$136) -> 8768 | K30: =SUMIF('1-2. 읍면동별 인구 및 세대현황'!$A$7:$A$352,'1-1. 시군별 인구 및 세대현황'!A30,'1-2. 읍면동별 인구 및 세대현황'!$K$7:$K$136) -> 5668
A31: 의성군 | B31: 29324 | C31: =IF(D31+E31=F31+I31,D31+E31,error) -> 50828 | D31: =G31+J31 -> 25207 | E31: =H31+K31 -> 25621 | F31: 50016 | G31: 24726 | H31: 25290 | I31: =SUM(J31:K31) -> 812 | J31: =SUMIF('1-2. 읍면동별 인구 및 세대현황'!$A$7:$A$352,'1-1. 시군별 인구 및 세대현황'!A31,'1-2. 읍면동별 인구 및 세대현황'!$J$7:$J$136) -> 481 | K31: =SUMIF('1-2. 읍면동별 인구 및 세대현황'!$A$7:$A$352,'1-1. 시군별 인구 및 세대현황'!A31,'1-2. 읍면동별 인구 및 세대현황'!$K$7:$K$136) -> 331
A32: 청송군 | B32: 14009 | C32: =IF(D32+E32=F32+I32,D32+E32,error) -> 24432 | D32: =G32+J32 -> 12264 | E32: =H32+K32 -> 12168 | F32: 24068 | G32: 12083 | H32: 11985 | I32: =SUM(J32:K32) -> 364 | J32: =SUMIF('1-2. 읍면동별 인구 및 세대현황'!$A$7:$A$352,'1-1. 시군별 인구 및 세대현황'!A32,'1-2. 읍면동별 인구 및 세대현황'!$J$7:$J$136) -> 181 | K32: =SUMIF('1-2. 읍면동별 인구 및 세대현황'!$A$7:$A$352,'1-1. 시군별 인구 및 세대현황'!A32,'1-2. 읍면동별 인구 및 세대현황'!$K$7:$K$136) -> 183
... A42: 울릉군 | B42: 5590 | C42: =IF(D42+E42=F42+I42,D42+E42,error) -> 9254 | D42: =G42+J42 -> 5172 | E42: =H42+K42 -> 4082 | F42: 9114 | G42: 5059 | H42: 4055 | I42: =SUM(J42:K42) -> 140 | J42: =SUMIF('1-2. 읍면동별 인구 및 세대현황'!$A$7:$A$352,'1-1. 시군별 인구 및 세대현황'!A42,'1-2. 읍면동별 인구 및 세대현황'!$J$7:$J$136) -> 113 | K42: =SUMIF('1-2. 읍면동별 인구 및 세대현황'!$A$7:$A$352,'1-1. 시군별 인구 및 세대현황'!A42,'1-2. 읍면동별 인구 및 세대현황'!$K$7:$K$136) -> 27

Sheet 1-2. 읍면동별 인구 및 세대현황
A2: 1-2. 읍면동별 인구 및 세대현황 (2023년 3분기)
A3: * 행정동 기준 | K3: (단위 : 세대, 명)
A4: 구분 | B4: 세대수 | C4: 총계 | F4: 한국인 | I4: 외국인
C5: 총 계 | D5: 남 | E5: 여 | F5: 소 계 | G5: 남 | H5: 여 | I5: 소계 | J5: 남 | K5: 여
A6: 경상북도 | B6: =B7+B39+B63+B86+B111+B137+B157+B174+B199++B214+B230+B249+B258+B265+B275+B285+B294+B305+B314+B327+B338+B349 -> 1282575 | C6: =IF((C7+C39+C63+C86+C111+C137+C157+C174+C199+C214+C230+C249+C258+C265+C275+C285+C294+C305+C314+C327+C338+C349)=F6+I6,F6+I6) -> 2625372 | D6: =IF((D7+D39+D63+D86+D111+D137+D157+D174+D199+D214+D230+D249+D258+D265+D275+D285+D294+D305+D314+D327+D338+D349)=G6+J6,G6+J6) -> 1335085 | E6: =IF((E7+E39+E63+E86+E111+E137+E157+E174+E199+E214+E230+E249+E258+E265+E275+E285+E294+E305+E314+E327+E338+E349)=H6+K6,H6+K6) -> 1290287 | F6: =F7+F39+F63+F86+F111+F137+F157+F174+F199++F214+F230+F249+F258+F265+F275+F285+F294+F305+F314+F327+F338+F349 -> 2559924 | G6: =G7+G39+G63+G86+G111+G137+G157+G174+G199++G214+G230+G249+G258+G265+G275+G285+G294+G305+G314+G327+G338+G349 -> 1292868 | H6: =H7+H39+H63+H86+H111+H137+H157+H174+H199++H214+H230+H249+H258+H265+H275+H285+H294+H305+H314+H327+H338+H349 -> 1267056 | I6: =I7+I39+I63+I86+I111+I137+I157+I174+I199++I214+I230+I249+I258+I265+I275+I285+I294+I305+I314+I327+I338+I349 -> 65448 | J6: =J7+J39+J63+J86+J111+J137+J157+J174+J199++J214+J230+J249+J258+J265+J275+J285+J294+J305+J314+J327+J338+J349 -> 42217 | K6: =K7+K39+K63+K86+K111+K137+K157+K174+K199++K214+K230+K249+K258+K265+K275+K285+K294+K305+K314+K327+K338+K349 -> 23231
A7: 포항시 | B7: 233509 | C7: 499954 | D7: 254642 | E7: 245312 | F7: 493102 | G7: 250120 | H7: 242982 | I7: 6852 | J7: 4522 | K7: 2330
A8: 남구 | B8: 110576 | C8: 230411 | D8: 120245 | E8: 110166 | F8: 226578 | G8: 117524 | H8: 109054 | I8: 3833 | J8: 2721 | K8: 1112
A9: 구룡포읍 | B9: 4392 | C9: 7789 | D9: 4328 | E9: 3461 | F9: 6883 | G9: 3484 | H9: 3399 | I9: 906 | J9: 844 | K9: 62
A10: 연일읍 | B10: 12397 | C10: 29527 | D10: 14998 | E10: 14529 | F10: 29290 | G10: 14867 | H10: 14423 | I10: 237 | J10: 131 | K10: 106
A11: 오천읍 | B11: 27490 | C11: 58047 | D11: 31155 | E11: 26892 | F11: 57302 | G11: 30734 | H11: 26568 | I11: 745 | J11: 421 | K11: 324
A12: 대송면 | B12: 1903 | C12: 3456 | D12: 1887 | E12: 1569 | F12: 3246 | G12: 1694 | H12: 1552 | I12: 210 | J12: 193 | K12: 17
A13: 동해면 | B13: 4785 | C13: 9609 | D13: 4876 | E13: 4733 | F13: 9507 | G13: 4811 | H13: 4696 | I13: 102 | J13: 65 | K13: 37
A14: 장기면 | B14: 2406 | C14: 4152 | D14: 2163 | E14: 1989 | F14: 3880 | G14: 1903 | H14: 1977 | I14: 272 | J14: 260 | K14: 12
A15: 호미곶면 | B15: 1126 | C15: 1896 | D15: 987 | E15: 909 | F15: 1738 | G15: 846 | H15: 892 | I15: 158 | J15: 141 | K15: 17
A16: 상대동 | B16: 13754 | C16: 24297 | D16: 12703 | E16: 11594 | F16: 24104 | G16: 12632 | H16: 11472 | I16: 193 | J16: 71 | K16: 122
A17: 해도동 | B17: 9936 | C17: 16759 | D17: 8601 | E17: 8158 | F17: 16626 | G17: 8545 | H17: 8081 | I17: 133 | J17: 56 | K17: 77
A18: 송도동 | B18: 6476 | C18: 11884 | D18: 5960 | E18: 5924 | F18: 11716 | G18: 5839 | H18: 5877 | I18: 168 | J18: 121 | K18: 47
... A352: 북면 | B352: 860 | C352: 1309 | D352: 730 | E352: 579 | F352: 1302 | G352: 725 | H352: 577 | I352: 7 | J352: 5 | K352: 2

Sheet 1-3. 리별 인구 및 세대현황(시)
A2: 1-3. 리별 인구 및 세대현황(시)_외국인 제외 (2023년 3분기)
A3: (단위 : 세대, 명) | AW3: (단위:명,세대)
A4: 포항시 | F4: 경주시 | K4: 김천시 | P4: 안동시 | U4: 구미시 | Z4: 영주시 | AE4: 영천시 | AJ4: 상주시 | AO4: 문경시 | AT4: 경산시
A5: 행정구역 | B5: 계 | C5: 남 | D5: 여 | E5: 세대수 | F5: 행정구역 | G5: 계 | H5: 남 | I5: 여 | J5: 세대수 | K5: 행정구역 | L5: 계 | M5: 남 | N5: 여 | O5: 세대수 | P5: 행정구역 | Q5: 계 | R5: 남 | S5: 여 | T5: 세대수 | U5: 행정구역 | V5: 계 | W5: 남 | X5: 여 | Y5: 세대수 | Z5: 행정구역 | AA5: 계 | AB5: 남 | AC5: 여 | AD5: 세대수 | AE5: 행정구역 | AF5: 계 | AG5: 남 | AH5: 여 | AI5: 세대수 | AJ5: 행정구역 | AK5: 계 | AL5: 남 | AM5: 여 | AN5: 세대수 | AO5: 행정구역 | AP5: 계 | AQ5: 남 | AR5: 여 | AS5: 세대수 | AT5: 행정구역 | AU5: 계 | AV5: 남 | AW5: 여 | AX5: 세대수
A6: 구룡포읍 | B6: 6883 | C6: 3484 | D6: 3399 | E6: 4392 | F6: 감포읍 | G6: 5274 | H6: 2642 | I6: 2632 | J6: 3158 | K6: 아포읍 | L6: 7736 | M6: 3880 | N6: 3856 | O6: 4106 | P6: 풍산읍 | Q6: 6133 | R6: 3092 | S6: 3041 | T6: 3519 | U6: 선산읍 | V6: 14083 | W6: 6964 | X6: 7119 | Y6: 6757 | Z6: 풍기읍 | AA6: 10427 | AB6: 5207 | AC6: 5220 | AD6: 5762 | AE6: 금호읍 | AF6: 10432 | AG6: 5526 | AH6: 4906 | AI6: 6223 | AJ6: 함창읍 | AK6: 6184 | AL6: 3011 | AM6: 3173 | AN6: 3408 | AO6: 문경읍 | AP6: 6796 | AQ6: 3292 | AR6: 3504 | AS6: 3798 | AT6: 하양읍 | AU6: =SUM(AV6:AW6) -> 31374 | AV6: =SUM(AV7:AV48) -> 15847 | AW6: =SUM(AW7:AW48) -> 15527 | AX6: =SUM(AX7:AX48) -> 15482
A7: 구룡포1리 | B7: 757 | C7: 383 | D7: 374 | E7: 472 | F7: 감포1리 | G7: 367 | H7: 183 | I7: 184 | J7: 221 | K7: 인1리 | L7: 219 | M7: 108 | N7: 111 | O7: 118 | P7: 안교1리 | Q7: 781 | R7: 382 | S7: 399 | T7: 448 | U7: 완전리 | V7: 1321 | W7: 643 | X7: 678 | Y7: 667 | Z7: 성내1리 | AA7: 326 | AB7: 136 | AC7: 190 | AD7: 178 | AE7: 교대1리 | AF7: 866 | AG7: 442 | AH7: 424 | AI7: 472 | AJ7: 구향1리 | AK7: 192 | AL7: 95 | AM7: 97 | AN7: 99 | AO7: 상1리 | AP7: 207 | AQ7: 106 | AR7: 101 | AS7: 121 | AT7: 금락1리 | AU7: =SUM(AV7:AW7) -> 1695 | AV7: 880 | AW7: 815 | AX7: 1165
A8: 구룡포2리 | B8: 1084 | C8: 545 | D8: 539 | E8: 611 | F8: 감포2리 | G8: 875 | H8: 440 | I8: 435 | J8: 511 | K8: 인2리 | L8: 174 | M8: 96 | N8: 78 | O8: 98 | P8: 안교2리 | Q8: 373 | R8: 170 | S8: 203 | T8: 228 | U8: 동부리 | V8: 1066 | W8: 538 | X8: 528 | Y8: 534 | Z8: 성내2리 | AA8: 214 | AB8: 90 | AC8: 124 | AD8: 118 | AE8: 교대2리 | AF8: 519 | AG8: 266 | AH8: 253 | AI8: 290 | AJ8: 구향2리 | AK8: 749 | AL8: 360 | AM8: 389 | AN8: 392 | AO8: 상2리 | AP8: 457 | AQ8: 211 | AR8: 246 | AS8: 253 | AT8: 금락2리 | AU8: =SUM(AV8:AW8) -> 1428 | AV8: 742 | AW8: 686 | AX8: 915
A9: 구룡포3리 | B9: 262 | C9: 129 | D9: 133 | E9: 196 | F9: 감포3리 | G9: 441 | H9: 235 | I9: 206 | J9: 273 | K9: 인3리 | L9: 78 | M9: 37 | N9: 41 | O9: 49 | P9: 안교3리 | Q9: 125 | R9: 70 | S9: 55 | T9: 76 | U9: 노상리 | V9: 2013 | W9: 898 | X9: 1115 | Y9: 995 | Z9: 성내3리 | AA9: 460 | AB9: 215 | AC9: 245 | AD9: 248 | AE9: 교대3리 | AF9: 358 | AG9: 196 | AH9: 162 | AI9: 194 | AJ9: 구향3리 | AK9: 608 | AL9: 289 | AM9: 319 | AN9: 341 | AO9: 하1리 | AP9: 579 | AQ9: 280 | AR9: 299 | AS9: 315 | AT9: 금락3리 | AU9: =SUM(AV9:AW9) -> 70 | AV9: 27 | AW9: 43 | AX9: 43
A10: 구룡포4리 | B10: 409 | C10: 199 | D10: 210 | E10: 281 | F10: 감포4리 | G10: 482 | H10: 242 | I10: 240 | J10: 285 | K10: 인4리 | L10: 127 | M10: 63 | N10: 64 | O10: 65 | P10: 상리1리 | Q10: 209 | R10: 108 | S10: 101 | T10: 110 | U10: 이문리 | V10: 1821 | W10: 915 | X10: 906 | Y10: 874 | Z10: 성내4리 | AA10: 952 | AB10: 460 | AC10: 492 | AD10: 489 | AE10: 교대4리 | AF10: 987 | AG10: 468 | AH10: 519 | AI10: 441 | AJ10: 구향4리 | AK10: 200 | AL10: 97 | AM10: 103 | AN10: 118 | AO10: 하2리 | AP10: 623 | AQ10: 303 | AR10: 320 | AS10: 346 | AT10: 금락4리 | AU10: =SUM(AV10:AW10) -> 1464 | AV10: 726 | AW10: 738 | AX10: 1007
A11: 구룡포5리 | B11: 403 | C11: 197 | D11: 206 | E11: 270 | F11: 감포5리 | G11: 288 | H11: 140 | I11: 148 | J11: 167 | K11: 의1리 | L11: 331 | M11: 167 | N11: 164 | O11: 190 | P11: 상리2리 | Q11: 103 | R11: 56 | S11: 47 | T11: 50 | U11: 죽장1리 | V11: 208 | W11: 112 | X11: 96 | Y11: 105 | Z11: 동부1리 | AA11: 1105 | AB11: 547 | AC11: 558 | AD11: 505 | AE11: 덕성리 | AF11: 784 | AG11: 381 | AH11: 403 | AI11: 447 | AJ11: 구향5리 | AK11: 381 | AL11: 189 | AM11: 192 | AN11: 272 | AO11: 교촌리 | AP11: 738 | AQ11: 330 | AR11: 408 | AS11: 449 | AT11: 금락5리 | AU11: =SUM(AV11:AW11) -> 1421 | AV11: 663 | AW11: 758 | AX11: 615
A12: 구룡포6리 | B12: 533 | C12: 263 | D12: 270 | E12: 364 | F12: 오류1리 | G12: 179 | H12: 88 | I12: 91 | J12: 110 | K12: 의2리 | L12: 104 | M12: 49 | N12: 55 | O12: 63 | P12: 상리3리 | Q12: 146 | R12: 82 | S12: 64 | T12: 87 | U12: 죽장2리 | V12: 205 | W12: 102 | X12: 103 | Y12: 104 | Z12: 동부2리 | AA12: 627 | AB12: 313 | AC12: 314 | AD12: 308 | AE12: 성천리 | AF12: 126 | AG12: 66 | AH12: 60 | AI12: 74 | AJ12: 구향6리 | AK12: 415 | AL12: 201 | AM12: 214 | AN12: 169 | AO12: 요성리 | AP12: 333 | AQ12: 152 | AR12: 181 | AS12: 177 | AT12: 금락6리 | AU12: =SUM(AV12:AW12) -> 2872 | AV12: 1367 | AW12: 1505 | AX12: 1123
A13: 구룡포7리 | B13: 112 | C13: 55 | D13: 57 | E13: 60 | F13: 오류2리 | G13: 351 | H13: 173 | I13: 178 | J13: 216 | K13: 예1리 | L13: 121 | M13: 64 | N13: 57 | O13: 67 | P13: 하리1리 | Q13: 226 | R13: 107 | S13: 119 | T13: 122 | U13: 봉곡1리 | V13: 151 | W13: 72 | X13: 79 | Y13: 92 | Z13: 동부3리 | AA13: 719 | AB13: 341 | AC13: 378 | AD13: 434 | AE13: 대미1리 | AF13: 163 | AG13: 93 | AH13: 70 | AI13: 95 | AJ13: 오동1리 | AK13: 534 | AL13: 228 | AM13: 306 | AN13: 205 | AO13: 지곡1리 | AP13: 80 | AQ13: 39 | AR13: 41 | AS13: 47 | AT13: 금락7리 | AU13: =SUM(AV13:AW13) -> 1541 | AV13: 734 | AW13: 807 | AX13: 674
A14: 삼정1리 | B14: 111 | C14: 51 | D14: 60 | E14: 68 | F14: 오류3리 | G14: 121 | H14: 68 | I14: 53 | J14: 77 | K14: 예2리 | L14: 152 | M14: 75 | N14: 77 | O14: 75 | P14: 하리2리 | Q14: 357 | R14: 189 | S14: 168 | T14: 199 | U14: 봉곡2리 | V14: 66 | W14: 32 | X14: 34 | Y14: 38 | Z14: 동부4리 | AA14: 969 | AB14: 477 | AC14: 492 | AD14: 439 | AE14: 대미2리 | AF14: 130 | AG14: 66 | AH14: 64 | AI14: 72 | AJ14: 오동2리 | AK14: 239 | AL14: 123 | AM14: 116 | AN14: 145 | AO14: 지곡2리 | AP14: 89 | AQ14: 41 | AR14: 48 | AS14: 57 | AT14: 금락8리 | AU14: =SUM(AV14:AW14) -> 1262 | AV14: 642 | AW14: 620 | AX14: 543
A15: 삼정2리 | B15: 166 | C15: 76 | D15: 90 | E15: 106 | F15: 오류4리 | G15: 239 | H15: 118 | I15: 121 | J15: 153 | K15: 지1리 | L15: 193 | M15: 88 | N15: 105 | O15: 99 | P15: 마애리 | Q15: 162 | R15: 78 | S15: 84 | T15: 99 | U15: 포상1리 | V15: 89 | W15: 49 | X15: 40 | Y15: 47 | Z15: 동부5리 | AA15: 203 | AB15: 105 | AC15: 98 | AD15: 115 | AE15: 석섬리 | AF15: 152 | AG15: 85 | AH15: 67 | AI15: 99 | AJ15: 오사1리 | AK15: 264 | AL15: 133 | AM15: 131 | AN15: 149 | AO15: 마원1리 | AP15: 195 | AQ15: 95 | AR15: 100 | AS15: 115 | AT15: 동서1리 | AU15: =SUM(AV15:AW15) -> 954 | AV15: 489 | AW15: 465 | AX15: 510
A16: 삼정3리 | B16: 141 | C16: 65 | D16: 76 | E16: 90 | F16: 전동리 | G16: 251 | H16: 138 | I16: 113 | J16: 152 | K16: 지2리 | L16: 98 | M16: 50 | N16: 48 | O16: 62 | P16: 수1리 | Q16: 184 | R16: 87 | S16: 97 | T16: 94 | U16: 포상2리 | V16: 93 | W16: 48 | X16: 45 | Y16: 55 | Z16: 동부6리 | AA16: 224 | AB16: 105 | AC16: 119 | AD16: 131 | AE16: 원제1리 | AF16: 330 | AG16: 181 | AH16: 149 | AI16: 191 | AJ16: 오사2리 | AK16: 26 | AL16: 19 | AM16: 7 | AN16: 17 | AO16: 마원2리 | AP16: 132 | AQ16: 65 | AR16: 67 | AS16: 73 | AT16: 동서2리 | AU16: =SUM(AV16:AW16) -> 497 | AV16: 268 | AW16: 229 | AX16: 273
A17: 석병1리 | B17: 191 | C17: 99 | D17: 92 | E17: 129 | F17: 전촌1리 | G17: 182 | H17: 89 | I17: 93 | J17: 113 | K17: 대신1리 | L17: 221 | M17: 110 | N17: 111 | O17: 122 | P17: 수2리 | Q17: 120 | R17: 68 | S17: 52 | T17: 61 | U17: 소재리 | V17: 137 | W17: 77 | X17: 60 | Y17: 77 | Z17: 산법리 | AA17: 644 | AB17: 381 | AC17: 263 | AD17: 538 | AE17: 원제2리 | AF17: 1085 | AG17: 705 | AH17: 380 | AI17: 961 | AJ17: 증촌1리 | AK17: 311 | AL17: 146 | AM17: 165 | AN17: 152 | AO17: 마원3리 | AP17: 112 | AQ17: 54 | AR17: 58 | AS17: 61 | AT17: 동서3리 | AU17: =SUM(AV17:AW17) -> 139 | AV17: 66 | AW17: 73 | AX17: 72
A18: 석병2리 | B18: 282 | C18: 148 | D18: 134 | E18: 192 | F18: 전촌2리 | G18: 210 | H18: 106 | I18: 104 | J18: 118 | K18: 대신2리 | L18: 147 | M18: 71 | N18: 76 | O18: 78 | P18: 회곡리 | Q18: 149 | R18: 73 | S18: 76 | T18: 88 | U18: 내고1리 | V18: 187 | W18: 88 | X18: 99 | Y18: 92 | Z18: 미곡리 | AA18: 111 | AB18: 64 | AC18: 47 | AD18: 63 | AE18: 냉천1리 | AF18: 659 | AG18: 334 | AH18: 325 | AI18: 346 | AJ18: 증촌2리 | AK18: 127 | AL18: 65 | AM18: 62 | AN18: 68 | AO18: 진안리 | AP18: 127 | AQ18: 67 | AR18: 60 | AS18: 72 | AT18: 동서4리 | AU18: =SUM(AV18:AW18) -> 1178 | AV18: 547 | AW18: 631 | AX18: 505
... A48: 유강3리 | B48: 1004 | C48: 484 | D48: 520 | E48: 385 | F48: 산대5리 | G48: 2707 | H48: 1282 | I48: 1425 | J48: 1438 | K48: 용암2리 | L48: 67 | M48: 36 | N48: 31 | O48: 45 | P48: 산야3리 | Q48: 65 | R48: 31 | S48: 34 | T48: 39 | U48: 횡산리 | V48: 146 | W48: 67 | X48: 79 | Y48: 89 | Z48: 용상2리 | AA48: 140 | AB48: 70 | AC48: 70 | AD48: 69 | AE48: 대평리 | AF48: 215 | AG48: 115 | AH48: 100 | AI48: 135 | AJ48: 목가리 | AK48: 199 | AL48: 107 | AM48: 92 | AN48: 104 | AO48: 작천2리 | AP48: 128 | AQ48: 65 | AR48: 63 | AS48: 66 | AT48: 양지3리 | AU48: =SUM(AV48:AW48) -> 590 | AV48: 308 | AW48: 282 | AX48: 564
A49: 유강4리 | B49: 1432 | C49: 727 | D49: 705 | E49: 498 | F49: 산대6리 | G49: 1049 | H49: 514 | I49: 535 | J49: 548 | K49: 도공촌리 | L49: 320 | M49: 168 | N49: 152 | O49: 167 | P49: 주계리 | Q49: 199 | R49: 104 | S49: 95 | T49: 107 | U49: 외예리 | V49: 199 | W49: 101 | X49: 98 | Y49: 107 | Z49: 신천1리 | AA49: 64 | AB49: 30 | AC49: 34 | AD49: 30 | AE49: 죽정리 | AF49: 154 | AG49: 82 | AH49: 72 | AI49: 92 | AJ49: 덕가리 | AK49: 187 | AL49: 93 | AM49: 94 | AN49: 97 | AO49: 성저1리 | AP49: 159 | AQ49: 75 | AR49: 84 | AS49: 92 | AT49: 진량읍 | AU49: =SUM(AV49:AW49) -> 34483 | AV49: =SUM(AV50:AV103) -> 17985 | AW49: =SUM(AW50:AW103) -> 16498 | AX49: =SUM(AX50:AX103) -> 17360
A50: 유강5리 | B50: 2164 | C50: 1132 | D50: 1032 | E50: 923 | F50: 산대7리 | G50: 2040 | H50: 1014 | I50: 1026 | J50: 809 | K50: 봉곡1리 | L50: 315 | M50: 162 | N50: 153 | O50: 63 | P50: 가야리 | Q50: 169 | R50: 90 | S50: 79 | T50: 99 | U50: 내예리 | V50: 94 | W50: 42 | X50: 52 | Y50: 57 | Z50: 신천2리 | AA50: 91 | AB50: 41 | AC50: 50 | AD50: 53 | AE50: 송천리 | AF50: 309 | AG50: 160 | AH50: 149 | AI50: 178 | AJ50: 용담1리 | AK50: 123 | AL50: 59 | AM50: 64 | AN50: 66 | AO50: 성저2리 | AP50: 72 | AQ50: 41 | AR50: 31 | AS50: 35 | AT50: 신상1리 | AU50: =SUM(AV50:AW50) -> 571 | AV50: 308 | AW50: 263 | AX50: 286
A51: 유강6리 | B51: 1676 | C51: 867 | D51: 809 | E51: 657 | F51: 산대8리 | G51: 1169 | H51: 565 | I51: 604 | J51: 756 | K51: 봉곡2리 | L51: 123 | M51: 63 | N51: 60 | O51: 128 | P51: 지내1리 | Q51: 149 | R51: 76 | S51: 73 | T51: 91 | U51: 원호1리 | V51: 50 | W51: 22 | X51: 28 | Y51: 27 | Z51: 운문1리 | AA51: 161 | AB51: 76 | AC51: 85 | AD51: 89 | AE51: 원촌1리 | AF51: 248 | AG51: 136 | AH51: 112 | AI51: 146 | AJ51: 용담2리 | AK51: 113 | AL51: 60 | AM51: 53 | AN51: 56 | AO51: 수예리 | AP51: 64 | AQ51: 35 | AR51: 29 | AS51: 36 | AT51: 신상2리 | AU51: =SUM(AV51:AW51) -> 584 | AV51: 354 | AW51: 230 | AX51: 340
A52: 유강7리 | B52: 2235 | C52: 1106 | D52: 1129 | E52: 759 | F52: 산대9리 | G52: 1603 | H52: 790 | I52: 813 | J52: 831 | K52: 연명리 | L52: 246 | M52: 121 | N52: 125 | O52: 86 | P52: 지내2리 | Q52: 154 | R52: 82 | S52: 72 | T52: 75 | U52: 원호2리 | V52: 387 | W52: 206 | X52: 181 | Y52: 165 | Z52: 운문2리 | AA52: 179 | AB52: 96 | AC52: 83 | AD52: 98 | AE52: 원촌2리 | AF52: 114 | AG52: 52 | AH52: 62 | AI52: 76 | AJ52: 용담3리 | AK52: 72 | AL52: 36 | AM52: 36 | AN52: 41 | AO52: 민지1리 | AP52: 67 | AQ52: 37 | AR52: 30 | AS52: 45 | AT52: 신상3리 | AU52: =SUM(AV52:AW52) -> 779 | AV52: 506 | AW52: 273 | AX52: 541
A53: 자명1리 | B53: 183 | C53: 88 | D53: 95 | E53: 95 | F53: 산대10리 | G53: 971 | H53: 485 | I53: 486 | J53: 387 | K53: 노곡리 | L53: 160 | M53: 80 | N53: 80 | O53: 124 | P53: 태1리 | Q53: 264 | R53: 140 | S53: 124 | T53: 151 | U53: 원호3리 | V53: 624 | W53: 325 | X53: 299 | Y53: 315 | Z53: 두월1리 | AA53: 117 | AB53: 60 | AC53: 57 | AD53: 57 | AE53: 신학1리 | AF53: 250 | AG53: 130 | AH53: 120 | AI53: 143 | AJ53: 묵상리 | AK53: 218 | AL53: 109 | AM53: 109 | AN53: 133 | AO53: 민지2리 | AP53: 47 | AQ53: 19 | AR53: 28 | AS53: 22 | AT53: 신상4리 | AU53: =SUM(AV53:AW53) -> 1223 | AV53: 602 | AW53: 621 | AX53: 486
A54: 자명2리 | B54: 186 | C54: 93 | D54: 93 | E54: 86 | F54: 산대11리 | G54: 2239 | H54: 1085 | I54: 1154 | J54: 990 | K54: 남면 | L54: 3034 | M54: 1570 | N54: 1464 | O54: 1753 | P54: 태2리 | Q54: 144 | R54: 75 | S54: 69 | T54: 72 | U54: 원호4리 | V54: 1794 | W54: 866 | X54: 928 | Y54: 769 | Z54: 두월2리 | AA54: 93 | AB54: 52 | AC54: 41 | AD54: 54 | AE54: 신학2리 | AF54: 80 | AG54: 41 | AH54: 39 | AI54: 43 | AJ54: 묵하리 | AK54: 208 | AL54: 104 | AM54: 104 | AN54: 105 | AO54: 전곡1리 | AP54: 102 | AQ54: 49 | AR54: 53 | AS54: 53 | AT54: 신상5리 | AU54: =SUM(AV54:AW54) -> 1390 | AV54: 685 | AW54: 705 | AX54: 505
A55: 학전리 | B55: 184 | C55: 100 | D55: 84 | E55: 105 | F55: 옥산1리 | G55: 151 | H55: 78 | I55: 73 | J55: 91 | K55: 옥산1리 | L55: 219 | M55: 115 | N55: 104 | O55: 120 | P55: 서지리 | Q55: 158 | R55: 80 | S55: 78 | T55: 86 | U55: 원호5리 | V55: 1540 | W55: 726 | X55: 814 | Y55: 651 | Z55: 내림1리 | AA55: 51 | AB55: 26 | AC55: 25 | AD55: 28 | AE55: 치일1리 | AF55: 260 | AG55: 132 | AH55: 128 | AI55: 165 | AJ55: 매협1리 | AK55: 131 | AL55: 66 | AM55: 65 | AN55: 79 | AO55: 전곡2리 | AP55: 55 | AQ55: 23 | AR55: 32 | AS55: 34 | AT55: 신상6리 | AU55: =SUM(AV55:AW55) -> 804 | AV55: 508 | AW55: 296 | AX55: 598
A56: 달전리 | B56: 163 | C56: 89 | D56: 74 | E56: 102 | F56: 옥산2리 | G56: 143 | H56: 71 | I56: 72 | J56: 81 | K56: 옥산2리 | L56: 173 | M56: 91 | N56: 82 | O56: 98 | P56: 이하1리 | Q56: 173 | R56: 89 | S56: 84 | T56: 101 | U56: 원호6리 | V56: 1347 | W56: 656 | X56: 691 | Y56: 520 | Z56: 내림2리 | AA56: 46 | AB56: 23 | AC56: 23 | AD56: 22 | AE56: 치일2리 | AF56: 129 | AG56: 68 | AH56: 61 | AI56: 83 | AJ56: 매협2리 | AK56: 112 | AL56: 56 | AM56: 56 | AN56: 56 | AO56: 전곡3리 | AP56: 68 | AQ56: 36 | AR56: 32 | AS56: 40 | AT56: 신상7리 | AU56: =SUM(AV56:AW56) -> 186 | AV56: 134 | AW56: 52 | AX56: 155
A57: 중명1리 | B57: 149 | C57: 76 | D57: 73 | E57: 76 | F57: 옥산3리 | G57: 521 | H57: 282 | I57: 239 | J57: 236 | K57: 운곡1리 | L57: 252 | M57: 128 | N57: 124 | O57: 142 | P57: 이하2리 | Q57: 97 | R57: 44 | S57: 53 | T57: 54 | U57: 원호7리 | V57: 2075 | W57: 1042 | X57: 1033 | Y57: 726 | Z57: 평은면 | AA57: 1393 | AB57: 713 | AC57: 680 | AD57: 793 | AE57: 애련리 | AF57: 227 | AG57: 128 | AH57: 99 | AI57: 145 | AJ57: 매호1리 | AK57: 37 | AL57: 19 | AM57: 18 | AN57: 23 | AO57: 성유1리 | AP57: 103 | AQ57: 54 | AR57: 49 | AS57: 58 | AT57: 선화1리 | AU57: =SUM(AV57:AW57) -> 175 | AV57: 94 | AW57: 81 | AX57: 89
A58: 중명2리 | B58: 284 | C58: 138 | D58: 146 | E58: 132 | F58: 옥산4리 | G58: 194 | H58: 98 | I58: 96 | J58: 117 | K58: 운곡2리 | L58: 117 | M58: 60 | N58: 57 | O58: 50 | P58: 이상리 | Q58: 170 | R58: 91 | S58: 79 | T58: 87 | U58: 원호8리 | V58: 1912 | W58: 970 | X58: 942 | Y58: 638 | Z58: 평온1리 | AA58: 252 | AB58: 116 | AC58: 136 | AD58: 134 | AE58: 계포리 | AF58: 237 | AG58: 134 | AH58: 103 | AI58: 137 | AJ58: 매호2리 | AK58: 147 | AL58: 67 | AM58: 80 | AN58: 91 | AO58: 성유2리 | AP58: 43 | AQ58: 21 | AR58: 22 | AS58: 27 | AT58: 선화2리 | AU58: =SUM(AV58:AW58) -> 258 | AV58: 130 | AW58: 128 | AX58: 137
A59: 중단1리 | B59: 177 | C59: 93 | D59: 84 | E59: 93 | F59: 하곡리 | G59: 191 | H59: 95 | I59: 96 | J59: 105 | K59: 송곡1리 | L59: 156 | M59: 85 | N59: 71 | O59: 84 | P59: 주하1리 | Q59: 93 | R59: 43 | S59: 50 | T59: 48 | U59: 원호9리 | V59: 2409 | W59: 1217 | X59: 1192 | Y59: 792 | Z59: 평온2리 | AA59: 139 | AB59: 75 | AC59: 64 | AD59: 75 | AE59: 계지1리 | AF59: 197 | AG59: 108 | AH59: 89 | AI59: 107 | AJ59: 퇴강리 | AK59: 110 | AL59: 57 | AM59: 53 | AN59: 62 | AO59: 죽문1리 | AP59: 102 | AQ59: 49 | AR59: 53 | AS59: 71 | AT59: 선화3리 | AU59: =SUM(AV59:AW59) -> 150 | AV59: 85 | AW59: 65 | AX59: 96
A60: 중단2리 | B60: 91 | C60: 47 | D60: 44 | E60: 48 | F60: 강교1리 | G60: 137 | H60: 61 | I60: 76 | J60: 84 | K60: 송곡2리 | L60: 81 | M60: 41 | N60: 40 | O60: 41 | P60: 주하2리 | Q60: 106 | R60: 61 | S60: 45 | T60: 58 | U60: 원호10리 | V60: 1616 | W60: 824 | X60: 792 | Y60: 559 | Z60: 강동1리 | AA60: 98 | AB60: 52 | AC60: 46 | AD60: 57 | AE60: 계지2리 | AF60: 163 | AG60: 84 | AH60: 79 | AI60: 92 | AJ60: 엄암리 | AK60: 274 | AL60: 137 | AM60: 137 | AN60: 152 | AO60: 죽문2리 | AP60: 71 | AQ60: 46 | AR60: 25 | AS60: 46 | AT60: 선화4리 | AU60: =SUM(AV60:AW60) -> 180 | AV60: 92 | AW60: 88 | AX60: 78
A61: 택전1리 | B61: 625 | C61: 330 | D61: 295 | E61: 347 | F61: 강교2리 | G61: 68 | H61: 39 | I61: 29 | J61: 48 | K61: 월명1리 | L61: 251 | M61: 99 | N61: 152 | O61: 164 | P61: 감애1리 | Q61: 252 | R61: 127 | S61: 125 | T61: 133 | U61: 문성1리 | V61: 930 | W61: 462 | X61: 468 | Y61: 408 | Z61: 강동2리 | AA61: 37 | AB61: 19 | AC61: 18 | AD61: 24 | AE61: 용천리 | AF61: 106 | AG61: 62 | AH61: 44 | AI61: 63 | AJ61: 금흔1리 | AK61: 138 | AL61: 64 | AM61: 74 | AN61: 74 | AO61: 완장1리 | AP61: 146 | AQ61: 70 | AR61: 76 | AS61: 96 | AT61: 선화5리 | AU61: =SUM(AV61:AW61) -> 2192 | AV61: 1123 | AW61: 1069 | AX61: 1165
... A103: 세계5리 | B103: 1418 | C103: 687 | D103: 731 | E103: 748 | F103: 입실3리 | G103: 1070 | H103: 606 | I103: 464 | J103: 658 | K103: 삼성2리 | L103: 95 | M103: 47 | N103: 48 | O103: 51 | P103: 명2리 | Q103: 273 | R103: 142 | S103: 131 | T103: 204 | U103: 신당10리 | V103: 1134 | W103: 562 | X103: 572 | Y103: 376 | Z103: 화기1리 | AA103: 107 | AB103: 57 | AC103: 50 | AD103: 63 | AE103: 가상리 | AF103: 162 | AG103: 80 | AH103: 82 | AI103: 106 | AJ103: 신오리 | AK103: 220 | AL103: 114 | AM103: 106 | AN103: 120 | AO103: 위만1리 | AP103: 152 | AQ103: 83 | AR103: 69 | AS103: 85 | AT103: 가야리 | AU103: =SUM(AV103:AW103) -> 178 | AV103: 100 | AW103: 78 | AX103: 96
A104: 용덕1리 | B104: 1118 | C104: 579 | D104: 539 | E104: 570 | F104: 입실4리 | G104: 770 | H104: 368 | I104: 402 | J104: 467 | K104: 광덕1리 | L104: 109 | M104: 64 | N104: 45 | O104: 69 | P104: 대두서리 | Q104: 205 | R104: 110 | S104: 95 | T104: 115 | U104: 신당11리 | V104: 1135 | W104: 584 | X104: 551 | Y104: 358 | Z104: 화기2리 | AA104: 96 | AB104: 52 | AC104: 44 | AD104: 47 | AE104: 대기리 | AF104: 123 | AG104: 67 | AH104: 56 | AI104: 71 | AJ104: 유곡1리 | AK104: 115 | AL104: 57 | AM104: 58 | AN104: 58 | AO104: 위만2리 | AP104: 41 | AQ104: 23 | AR104: 18 | AS104: 29 | AT104: 압량읍 | AU104: =SUM(AV104:AW104) -> 20611 | AV104: =SUM(AV105:AV133) -> 10969 | AW104: =SUM(AW105:AW133) -> 9642 | AX104: =SUM(AX105:AX133) -> 10716
A105: 용덕2리 | B105: 326 | C105: 172 | D105: 154 | E105: 159 | F105: 입실5리 | G105: 1403 | H105: 744 | I105: 659 | J105: 671 | K105: 광덕2리 | L105: 137 | M105: 72 | N105: 65 | O105: 74 | P105: 자품리 | Q105: 212 | R105: 120 | S105: 92 | T105: 123 | U105: 신당12리 | V105: 1105 | W105: 558 | X105: 547 | Y105: 464 | Z105: 소룡1리 | AA105: 37 | AB105: 17 | AC105: 20 | AD105: 22 | AE105: 암기리 | AF105: 130 | AG105: 64 | AH105: 66 | AI105: 72 | AJ105: 유곡2리 | AK105: 110 | AL105: 51 | AM105: 59 | AN105: 68 | AO105: 우본1리 | AP105: 73 | AQ105: 38 | AR105: 35 | AS105: 50 | AT105: 부적1리 | AU105: =SUM(AV105:AW105) -> 911 | AV105: 512 | AW105: 399 | AX105: 658
A106: 용덕3리 | B106: 1402 | C106: 683 | D106: 719 | E106: 650 | F106: 구어1리 | G106: 300 | H106: 169 | I106: 131 | J106: 193 | K106: 덕남1리 | L106: 149 | M106: 77 | N106: 72 | O106: 86 | P106: 풍천면 | Q106: 7164 | R106: 3666 | S106: 3498 | T106: 4207 | U106: 신당13리 | V106: 1135 | W106: 575 | X106: 560 | Y106: 534 | Z106: 소룡2리 | AA106: 84 | AB106: 38 | AC106: 46 | AD106: 58 | AE106: 삼부리 | AF106: 134 | AG106: 68 | AH106: 66 | AI106: 89 | AJ106: 청리면 | AK106: 2513 | AL106: 1224 | AM106: 1289 | AN106: 1405 | AO106: 우본2리 | AP106: 47 | AQ106: 21 | AR106: 26 | AS106: 26 | AT106: 부적2리 | AU106: =SUM(AV106:AW106) -> 421 | AV106: 231 | AW106: 190 | AX106: 199
A107: 용덕4리 | B107: 1571 | C107: 776 | D107: 795 | E107: 788 | F107: 구어2리 | G107: 817 | H107: 430 | I107: 387 | J107: 431 | K107: 덕남2리 | L107: 155 | M107: 78 | N107: 77 | O107: 89 | P107: 갈전1리 | Q107: 189 | R107: 100 | S107: 89 | T107: 114 | U107: 신당14리 | V107: 1100 | W107: 579 | X107: 521 | Y107: 457 | Z107: 소룡3리 | AA107: 71 | AB107: 42 | AC107: 29 | AD107: 36 | AE107: 석촌리 | AF107: 154 | AG107: 73 | AH107: 81 | AI107: 95 | AJ107: 원장1리 | AK107: 379 | AL107: 184 | AM107: 195 | AN107: 210 | AO107: 연소1리 | AP107: 68 | AQ107: 33 | AR107: 35 | AS107: 39 | AT107: 부적3리 | AU107: =SUM(AV107:AW107) -> 402 | AV107: 200 | AW107: 202 | AX107: 197
A108: 용덕5리 | B108: 1238 | C108: 629 | D108: 609 | E108: 638 | F108: 모화1리 | G108: 414 | H108: 214 | I108: 200 | J108: 247 | K108: 태촌1리 | L108: 115 | M108: 61 | N108: 54 | O108: 63 | P108: 갈전2리 | Q108: 339 | R108: 172 | S108: 167 | T108: 212 | U108: 신당15리 | V108: 913 | W108: 488 | X108: 425 | Y108: 452 | Z108: 호문1리 | AA108: 53 | AB108: 27 | AC108: 26 | AD108: 31 | AE108: 당곡리 | AF108: 111 | AG108: 60 | AH108: 51 | AI108: 71 | AJ108: 원장2리 | AK108: 87 | AL108: 46 | AM108: 41 | AN108: 54 | AO108: 연소2리 | AP108: 124 | AQ108: 65 | AR108: 59 | AS108: 59 | AT108: 부적4리 | AU108: =SUM(AV108:AW108) -> 1189 | AV108: 629 | AW108: 560 | AX108: 761
A109: 용덕6리 | B109: 1344 | C109: 678 | D109: 666 | E109: 673 | F109: 모화2리 | G109: 380 | H109: 206 | I109: 174 | J109: 223 | K109: 태촌2리 | L109: 85 | M109: 39 | N109: 46 | O109: 52 | P109: 갈전3리 | Q109: 350 | R109: 172 | S109: 178 | T109: 222 | U109: 봉산1리 | V109: 218 | W109: 129 | X109: 89 | Y109: 137 | Z109: 호문2리 | AA109: 21 | AB109: 8 | AC109: 13 | AD109: 14 | AE109: 유성1리 | AF109: 102 | AG109: 58 | AH109: 44 | AI109: 67 | AJ109: 월로리 | AK109: 176 | AL109: 78 | AM109: 98 | AN109: 98 | AO109: 불암리 | AP109: 285 | AQ109: 133 | AR109: 152 | AS109: 173 | AT109: 부적5리 | AU109: =SUM(AV109:AW109) -> 1872 | AV109: 1114 | AW109: 758 | AX109: 1446
A110: 구정1리 | B110: 448 | C110: 236 | D110: 212 | E110: 270 | F110: 모화3리 | G110: 641 | H110: 351 | I110: 290 | J110: 374 | K110: 태촌3리 | L110: 174 | M110: 85 | N110: 89 | O110: 97 | P110: 갈전4리 | Q110: 621 | R110: 318 | S110: 303 | T110: 339 | U110: 봉산2리 | V110: 623 | W110: 500 | X110: 123 | Y110: 580 | Z110: 호문3리 | AA110: 115 | AB110: 53 | AC110: 62 | AD110: 62 | AE110: 유성2리 | AF110: 152 | AG110: 76 | AH110: 76 | AI110: 103 | AJ110: 청하1리 | AK110: 189 | AL110: 92 | AM110: 97 | AN110: 99 | AO110: 존도1리 | AP110: 108 | AQ110: 55 | AR110: 53 | AS110: 66 | AT110: 부적6리 | AU110: =SUM(AV110:AW110) -> 1202 | AV110: 564 | AW110: 638 | AX110: 542
A111: 구정2리 | B111: 1554 | C111: 786 | D111: 768 | E111: 802 | F111: 모화4리 | G111: 672 | H111: 337 | I111: 335 | J111: 337 | K111: 성촌리 | L111: 178 | M111: 87 | N111: 91 | O111: 102 | P111: 갈전5리 | Q111: 620 | R111: 294 | S111: 326 | T111: 300 | U111: 임천리 | V111: 410 | W111: 221 | X111: 189 | Y111: 218 | Z111: 안정면 | AA111: 2851 | AB111: 1426 | AC111: 1425 | AD111: 1598 | AE111: 유성3리 | AF111: 146 | AG111: 74 | AH111: 72 | AI111: 85 | AJ111: 청하2리 | AK111: 115 | AL111: 52 | AM111: 63 | AN111: 63 | AO111: 존도2리 | AP111: 161 | AQ111: 84 | AR111: 77 | AS111: 92 | AT111: 신대1리 | AU111: =SUM(AV111:AW111) -> 2240 | AV111: 1430 | AW111: 810 | AX111: 1773
A112: 구정3리 | B112: 2636 | C112: 1321 | D112: 1315 | E112: 1063 | F112: 모화5리 | G112: 721 | H112: 379 | I112: 342 | J112: 348 | K112: 대양1리 | L112: 90 | M112: 43 | N112: 47 | O112: 52 | P112: 갈전6리 | Q112: 675 | R112: 343 | S112: 332 | T112: 299 | U112: 인덕1리 | V112: 292 | W112: 167 | X112: 125 | Y112: 217 | Z112: 신전1리 | AA112: 121 | AB112: 58 | AC112: 63 | AD112: 62 | AE112: 부계리 | AF112: 108 | AG112: 61 | AH112: 47 | AI112: 71 | AJ112: 청하3리 | AK112: 81 | AL112: 40 | AM112: 41 | AN112: 45 | AO112: 봉정1리 | AP112: 64 | AQ112: 34 | AR112: 30 | AS112: 45 | AT112: 신대2리 | AU112: =SUM(AV112:AW112) -> 134 | AV112: 65 | AW112: 69 | AX112: 85
A113: 구정4리 | B113: 1187 | C113: 587 | D113: 600 | E113: 462 | F113: 모화6리 | G113: 3507 | H113: 1818 | I113: 1689 | J113: 1624 | K113: 대양2리 | L113: 84 | M113: 41 | N113: 43 | O113: 47 | P113: 갈전7리 | Q113: 541 | R113: 280 | S113: 261 | T113: 262 | U113: 인덕2리 | V113: 148 | W113: 79 | X113: 69 | Y113: 69 | Z113: 신전2리 | AA113: 103 | AB113: 54 | AC113: 49 | AD113: 55 | AE113: 용평리 | AF113: 194 | AG113: 95 | AH113: 99 | AI113: 112 | AJ113: 청상리 | AK113: 177 | AL113: 84 | AM113: 93 | AN113: 106 | AO113: 봉정2리 | AP113: 77 | AQ113: 36 | AR113: 41 | AS113: 49 | AT113: 신대3리 | AU113: =SUM(AV113:AW113) -> 2099 | AV113: 1052 | AW113: 1047 | AX113: 842
A114: 대송면 | B114: 3246 | C114: 1694 | D114: 1552 | E114: 1903 | F114: 모화7리 | G114: 2751 | H114: 1446 | I114: 1305 | J114: 1329 | K114: 어모면 | L114: 3999 | M114: 2046 | N114: 1953 | O114: 2165 | P114: 갈전8리 | Q114: 442 | R114: 224 | S114: 218 | T114: 416 | U114: 인덕3리 | V114: 1330 | W114: 654 | X114: 676 | Y114: 395 | Z114: 신전3리 | AA114: 147 | AB114: 73 | AC114: 74 | AD114: 71 | AE114: 화북면 | AF114: 2167 | AG114: 1072 | AH114: 1095 | AI114: 1350 | AJ114: 마공리 | AK114: 245 | AL114: 127 | AM114: 118 | AN114: 140 | AO114: 진정1리 | AP114: 98 | AQ114: 47 | AR114: 51 | AS114: 58 | AT114: 신대4리 | AU114: =SUM(AV114:AW114) -> 2463 | AV114: 1237 | AW114: 1226 | AX114: 809
A115: 남성1리 | B115: 133 | C115: 60 | D115: 73 | E115: 72 | F115: 문산1리 | G115: 105 | H115: 53 | I115: 52 | J115: 68 | K115: 중왕1리 | L115: 194 | M115: 95 | N115: 99 | O115: 106 | P115: 갈전9리 | Q115: 328 | R115: 204 | S115: 124 | T115: 309 | U115: 인덕4리 | V115: 1255 | W115: 627 | X115: 628 | Y115: 381 | Z115: 생현1리 | AA115: 106 | AB115: 55 | AC115: 51 | AD115: 51 | AE115: 자천1리 | AF115: 164 | AG115: 77 | AH115: 87 | AI115: 96 | AJ115: 가천1리 | AK115: 148 | AL115: 77 | AM115: 71 | AN115: 77 | AO115: 진정2리 | AP115: 123 | AQ115: 72 | AR115: 51 | AS115: 85 | AT115: 신대5리 | AU115: =SUM(AV115:AW115) -> 1748 | AV115: 857 | AW115: 891 | AX115: 666
A116: 남성2리 | B116: 135 | C116: 63 | D116: 72 | E116: 76 | F116: 문산2리 | G116: 358 | H116: 242 | I116: 116 | J116: 266 | K116: 중왕2리 | L116: 132 | M116: 64 | N116: 68 | O116: 83 | P116: 도양1리 | Q116: 191 | R116: 95 | S116: 96 | T116: 110 | U116: 인덕5리 | V116: 1336 | W116: 692 | X116: 644 | Y116: 415 | Z116: 생현2리 | AA116: 100 | AB116: 53 | AC116: 47 | AD116: 52 | AE116: 자천2리 | AF116: 263 | AG116: 136 | AH116: 127 | AI116: 168 | AJ116: 가천2리 | AK116: 96 | AL116: 44 | AM116: 52 | AN116: 51 | AO116: 반곡1리 | AP116: 208 | AQ116: 111 | AR116: 97 | AS116: 109 | AT116: 신대6리 | AU116: =SUM(AV116:AW116) -> 2090 | AV116: 1046 | AW116: 1044 | AX116: 721
... A133: 도구1리 | B133: 279 | C133: 136 | D133: 143 | E133: 149 | F133: 개곡2리 | G133: 213 | H133: 108 | I133: 105 | J133: 119 | K133: 구례3리 | L133: 70 | M133: 39 | N133: 31 | O133: 47 | P133: 하회1리 | Q133: 212 | R133: 111 | S133: 101 | T133: 118 | U133: 상송리 | V133: 122 | W133: 61 | X133: 61 | Y133: 78 | Z133: 동촌1리 | AA133: 158 | AB133: 80 | AC133: 78 | AD133: 87 | AE133: 화남면 | AF133: 3190 | AG133: 1701 | AH133: 1489 | AI133: 1905 | AJ133: 거창1리 | AK133: 80 | AL133: 36 | AM133: 44 | AN133: 54 | AO133: 지천리 | AP133: 136 | AQ133: 68 | AR133: 68 | AS133: 77 | AT133: 당리리 | AU133: =SUM(AV133:AW133) -> 298 | AV133: 159 | AW133: 139 | AX133: 151
A134: 도구2리 | B134: 1443 | C134: 723 | D134: 720 | E134: 715 | F134: 연안1리 | G134: 206 | H134: 111 | I134: 95 | J134: 126 | K134: 옥계1리 | L134: 32 | M134: 18 | N134: 14 | O134: 18 | P134: 하회2리 | Q134: 144 | R134: 74 | S134: 70 | T134: 81 | U134: 안곡1리 | V134: 124 | W134: 56 | X134: 68 | Y134: 70 | Z134: 동촌2리 | AA134: 100 | AB134: 52 | AC134: 48 | AD134: 60 | AE134: 금호1리 | AF134: 155 | AG134: 82 | AH134: 73 | AI134: 95 | AJ134: 거창2리 | AK134: 93 | AL134: 48 | AM134: 45 | AN134: 53 | AO134: 가도리 | AP134: 156 | AQ134: 76 | AR134: 80 | AS134: 87 | AT134: 와촌면 | AU134: =SUM(AV134:AW134) -> 5434 | AV134: =SUM(AV135:AV160) -> 2925 | AW134: =SUM(AW135:AW160) -> 2509 | AX134: =SUM(AX135:AX160) -> 2965
A135: 도구3리 | B135: 867 | C135: 440 | D135: 427 | E135: 401 | F135: 연안2리 | G135: 387 | H135: 213 | I135: 174 | J135: 245 | K135: 옥계2리 | L135: 114 | M135: 64 | N135: 50 | O135: 67 | P135: 가곡1리 | Q135: 195 | R135: 106 | S135: 89 | T135: 103 | U135: 안곡2리 | V135: 97 | W135: 52 | X135: 45 | Y135: 59 | Z135: 봉현면 | AA135: 2574 | AB135: 1299 | AC135: 1275 | AD135: 1402 | AE135: 금호2리 | AF135: 155 | AG135: 82 | AH135: 73 | AI135: 95 | AJ135: 영오리 | AK135: 121 | AL135: 68 | AM135: 53 | AN135: 75 | AO135: 구산리 | AP135: 157 | AQ135: 84 | AR135: 73 | AS135: 83 | AT135: 소월1리 | AU135: =SUM(AV135:AW135) -> 222 | AV135: 130 | AW135: 92 | AX135: 131
A136: 약전1리 | B136: 325 | C136: 159 | D136: 166 | E136: 171 | F136: 문무대왕면 | G136: 4178 | H136: 2179 | I136: 1999 | J136: 2348 | K136: 능치1리 | L136: 56 | M136: 29 | N136: 27 | O136: 29 | P136: 가곡2리 | Q136: 110 | R136: 54 | S136: 56 | T136: 55 | U136: 무등1리 | V136: 98 | W136: 56 | X136: 42 | Y136: 54 | Z136: 두산1리 | AA136: 83 | AB136: 44 | AC136: 39 | AD136: 46 | AE136: 죽곡1리 | AF136: 141 | AG136: 71 | AH136: 70 | AI136: 89 | AJ136: 이화1리 | AK136: 226 | AL136: 112 | AM136: 114 | AN136: 133 | AO136: 우로1리 | AP136: 103 | AQ136: 51 | AR136: 52 | AS136: 60 | AT136: 소월2리 | AU136: =SUM(AV136:AW136) -> 174 | AV136: 82 | AW136: 92 | AX136: 98
A137: 약전2리 | B137: 1190 | C137: 571 | D137: 619 | E137: 632 | F137: 어일1리 | G137: 416 | H137: 211 | I137: 205 | J137: 225 | K137: 능치2리 | L137: 93 | M137: 40 | N137: 53 | O137: 60 | P137: 일직면 | Q137: 2,526 | R137: 1226 | S137: 1300 | T137: 1471 | U137: 무등2리 | V137: 54 | W137: 26 | X137: 28 | Y137: 34 | Z137: 두산2리 | AA137: 142 | AB137: 72 | AC137: 70 | AD137: 78 | AE137: 죽곡2리 | AF137: 91 | AG137: 55 | AH137: 36 | AI137: 55 | AJ137: 이화2리 | AK137: 138 | AL137: 65 | AM137: 73 | AN137: 74 | AO137: 우로2리 | AP137: 83 | AQ137: 43 | AR137: 40 | AS137: 42 | AT137: 소월3리 | AU137: =SUM(AV137:AW137) -> 280 | AV137: 182 | AW137: 98 | AX137: 99
A138: 약전3리 | B138: 1015 | C138: 498 | D138: 517 | E138: 525 | F138: 어일2리 | G138: 1070 | H138: 579 | I138: 491 | J138: 546 | K138: 능치3리 | L138: 170 | M138: 76 | N138: 94 | O138: 95 | P138: 귀미1리 | Q138: 147 | R138: 74 | S138: 73 | T138: 87 | U138: 원1리 | V138: 64 | W138: 33 | X138: 31 | Y138: 37 | Z138: 두산3리 | AA138: 182 | AB138: 99 | AC138: 83 | AD138: 95 | AE138: 신호1리 | AF138: 124 | AG138: 66 | AH138: 58 | AI138: 73 | AJ138: 산현1리 | AK138: 330 | AL138: 168 | AM138: 162 | AN138: 117 | AO138: 막곡1리 | AP138: 140 | AQ138: 79 | AR138: 61 | AS138: 86 | AT138: 덕촌1리 | AU138: =SUM(AV138:AW138) -> 212 | AV138: 119 | AW138: 93 | AX138: 112
A139: 신정1리 | B139: 93 | C139: 45 | D139: 48 | E139: 49 | F139: 와읍리 | G139: 196 | H139: 104 | I139: 92 | J139: 111 | K139: 능치4리 | L139: 288 | M139: 155 | N139: 133 | O139: 142 | P139: 귀미2리 | Q139: 94 | R139: 41 | S139: 53 | T139: 58 | U139: 원2리 | V139: 85 | W139: 45 | X139: 40 | Y139: 54 | Z139: 오현1리 | AA139: 424 | AB139: 202 | AC139: 222 | AD139: 230 | AE139: 신호2리 | AF139: 98 | AG139: 45 | AH139: 53 | AI139: 62 | AJ139: 산현2리 | AK139: 273 | AL139: 127 | AM139: 146 | AN139: 162 | AO139: 막곡2리 | AP139: 121 | AQ139: 56 | AR139: 65 | AS139: 66 | AT139: 덕촌2리 | AU139: =SUM(AV139:AW139) -> 659 | AV139: 359 | AW139: 300 | AX139: 370
A140: 신정2리 | B140: 2078 | C140: 1039 | D140: 1039 | E140: 825 | F140: 용동1리 | G140: 201 | H140: 97 | I140: 104 | J140: 110 | K140: 도암1리 | L140: 111 | M140: 48 | N140: 63 | O140: 62 | P140: 구천리 | Q140: 87 | R140: 44 | S140: 43 | T140: 57 | U140: 백자리 | V140: 141 | W140: 70 | X140: 71 | Y140: 83 | Z140: 오현2리 | AA140: 144 | AB140: 77 | AC140: 67 | AD140: 73 | AE140: 사천1리 | AF140: 266 | AG140: 137 | AH140: 129 | AI140: 152 | AJ140: 산현3리 | AK140: 75 | AL140: 41 | AM140: 34 | AN140: 47 | AO140: 봉서1리 | AP140: 39 | AQ140: 20 | AR140: 19 | AS140: 26 | AT140: 시천1리 | AU140: =SUM(AV140:AW140) -> 234 | AV140: 126 | AW140: 108 | AX140: 131
A141: 금광1리 | B141: 150 | C141: 82 | D141: 68 | E141: 73 | F141: 용동2리 | G141: 193 | H141: 102 | I141: 91 | J141: 117 | K141: 도암2리 | L141: 123 | M141: 64 | N141: 59 | O141: 56 | P141: 망호1리 | Q141: 107 | R141: 61 | S141: 46 | T141: 55 | U141: 웅곡리 | V141: 139 | W141: 65 | X141: 74 | Y141: 83 | Z141: 오현3리 | AA141: 97 | AB141: 44 | AC141: 53 | AD141: 48 | AE141: 사천2리 | AF141: 64 | AG141: 39 | AH141: 25 | AI141: 38 | AJ141: 산현4리 | AK141: 54 | AL141: 22 | AM141: 32 | AN141: 35 | AO141: 봉서2리 | AP141: 16 | AQ141: 9 | AR141: 7 | AS141: 13 | AT141: 시천2리 | AU141: =SUM(AV141:AW141) -> 80 | AV141: 42 | AW141: 38 | AX141: 45
A142: 금광2리 | B142: 110 | C142: 66 | D142: 44 | E142: 76 | F142: 권이리 | G142: 72 | H142: 34 | I142: 38 | J142: 50 | K142: 도암3리 | L142: 80 | M142: 48 | N142: 32 | O142: 45 | P142: 망호2리 | Q142: 92 | R142: 43 | S142: 49 | T142: 47 | U142: 무이리 | V142: 164 | W142: 86 | X142: 78 | Y142: 85 | Z142: 오현4리 | AA142: 49 | AB142: 27 | AC142: 22 | AD142: 28 | AE142: 대천1리 | AF142: 107 | AG142: 56 | AH142: 51 | AI142: 68 | AJ142: 평천1리 | AK142: 173 | AL142: 91 | AM142: 82 | AN142: 92 | AO142: 산북면 | AP142: 2678 | AQ142: 1347 | AR142: 1331 | AS142: 1619 | AT142: 용천1리 | AU142: =SUM(AV142:AW142) -> 289 | AV142: 155 | AW142: 134 | AX142: 166
A143: 석리 | B143: 781 | C143: 430 | D143: 351 | E143: 458 | F143: 호암리 | G143: 104 | H143: 60 | I143: 44 | J143: 62 | K143: 은기1리 | L143: 50 | M143: 25 | N143: 25 | O143: 24 | P143: 망호3리 | Q143: 137 | R143: 66 | S143: 71 | T143: 74 | U143: 옥성면 | V143: 1655 | W143: 856 | X143: 799 | Y143: 926 | Z143: 대촌1리 | AA143: 451 | AB143: 228 | AC143: 223 | AD143: 232 | AE143: 대천2리 | AF143: 207 | AG143: 106 | AH143: 101 | AI143: 125 | AJ143: 평천2리 | AK143: 81 | AL143: 39 | AM143: 42 | AN143: 40 | AO143: 서중리 | AP143: 138 | AQ143: 75 | AR143: 63 | AS143: 81 | AT143: 용천2리 | AU143: =SUM(AV143:AW143) -> 49 | AV143: 24 | AW143: 25 | AX143: 27
A144: 임곡1리 | B144: 121 | C144: 63 | D144: 58 | E144: 73 | F144: 안동1리 | G144: 139 | H144: 80 | I144: 59 | J144: 77 | K144: 은기2리 | L144: 65 | M144: 28 | N144: 37 | O144: 42 | P144: 원리 | Q144: 166 | R144: 80 | S144: 86 | T144: 104 | U144: 초곡리 | V144: 234 | W144: 110 | X144: 124 | Y144: 130 | Z144: 대촌2리 | AA144: 87 | AB144: 45 | AC144: 42 | AD144: 49 | AE144: 선천1리 | AF144: 99 | AG144: 48 | AH144: 51 | AI144: 56 | AJ144: 무곡리 | AK144: 61 | AL144: 34 | AM144: 27 | AN144: 36 | AO144: 대상1리 | AP144: 204 | AQ144: 95 | AR144: 109 | AS144: 119 | AT144: 계당1리 | AU144: =SUM(AV144:AW144) -> 262 | AV144: 134 | AW144: 128 | AX144: 153
A145: 임곡2리 | B145: 126 | C145: 72 | D145: 54 | E145: 64 | F145: 안동2리 | G145: 144 | H145: 70 | I145: 74 | J145: 82 | K145: 은기3리 | L145: 76 | M145: 40 | N145: 36 | O145: 48 | P145: 광연리 | Q145: 157 | R145: 76 | S145: 81 | T145: 92 | U145: 농소1리 | V145: 147 | W145: 73 | X145: 74 | Y145: 86 | Z145: 한천리 | AA145: 108 | AB145: 50 | AC145: 58 | AD145: 64 | AE145: 선천2리 | AF145: 132 | AG145: 65 | AH145: 67 | AI145: 84 | AJ145: 용안리 | AK145: 131 | AL145: 71 | AM145: 60 | AN145: 83 | AO145: 대상2리 | AP145: 76 | AQ145: 39 | AR145: 37 | AS145: 42 | AT145: 계당2리 | AU145: =SUM(AV145:AW145) -> 193 | AV145: 110 | AW145: 83 | AX145: 105
A146: 입암1리 | B146: 60 | C146: 39 | D146: 21 | E146: 37 | F146: 장항1리 | G146: 105 | H146: 57 | I146: 48 | J146: 57 | K146: 동좌1리 | L146: 90 | M146: 40 | N146: 50 | O146: 51 | P146: 명진1리 | Q146: 98 | R146: 48 | S146: 50 | T146: 59 | U146: 농소2리 | V146: 96 | W146: 53 | X146: 43 | Y146: 58 | Z146: 유전1리 | AA146: 179 | AB146: 89 | AC146: 90 | AD146: 105 | AE146: 선천3리 | AF146: 131 | AG146: 72 | AH146: 59 | AI146: 81 | AJ146: 초오1리 | AK146: 73 | AL146: 33 | AM146: 40 | AN146: 43 | AO146: 대하1리 | AP146: 76 | AQ146: 38 | AR146: 38 | AS146: 41 | AT146: 상암1리 | AU146: =SUM(AV146:AW146) -> 205 | AV146: 109 | AW146: 96 | AX146: 103
A147: 입암2리 | B147: 63 | C147: 36 | D147: 27 | E147: 38 | F147: 장항2리 | G147: 174 | H147: 90 | I147: 84 | J147: 103 | K147: 동좌2리 | L147: 132 | M147: 68 | N147: 64 | O147: 74 | P147: 명진2리 | Q147: 55 | R147: 25 | S147: 30 | T147: 36 | U147: 주아1리 | V147: 180 | W147: 92 | X147: 88 | Y147: 94 | Z147: 유전2리 | AA147: 92 | AB147: 47 | AC147: 45 | AD147: 49 | AE147: 삼창1리 | AF147: 121 | AG147: 63 | AH147: 58 | AI147: 72 | AJ147: 초오2리 | AK147: 52 | AL147: 25 | AM147: 27 | AN147: 31 | AO147: 대하2리 | AP147: 99 | AQ147: 54 | AR147: 45 | AS147: 56 | AT147: 상암2리 | AU147: =SUM(AV147:AW147) -> 103 | AV147: 48 | AW147: 55 | AX147: 51
A148: 마산리 | B148: 84 | C148: 40 | D148: 44 | E148: 52 | F148: 범곡리 | G148: 117 | H148: 63 | I148: 54 | J148: 70 | K148: 봉산면 | L148: 2938 | M148: 1535 | N148: 1403 | O148: 1574 | P148: 평팔1리 | Q148: 62 | R148: 32 | S148: 30 | T148: 39 | U148: 주아2리 | V148: 84 | W148: 42 | X148: 42 | Y148: 46 | Z148: 노좌1리 | AA148: 177 | AB148: 83 | AC148: 94 | AD148: 102 | AE148: 삼창2리 | AF148: 208 | AG148: 110 | AH148: 98 | AI148: 126 | AJ148: 초오3리 | AK148: 54 | AL148: 25 | AM148: 29 | AN148: 28 | AO148: 이곡리 | AP148: 106 | AQ148: 52 | AR148: 54 | AS148: 74 | AT148: 계전1리 | AU148: =SUM(AV148:AW148) -> 220 | AV148: 124 | AW148: 96 | AX148: 119
... A157: 공당리 | B157: 128 | C157: 80 | D157: 48 | E157: 100 | F157: 양남면 | G157: 6407 | H157: 3398 | I157: 3009 | J157: 3630 | K157: 태화2리 | L157: 91 | M157: 50 | N157: 41 | O157: 45 | P157: 운산리 | Q157: 450 | R157: 213 | S157: 237 | T157: 243 | U157: 대원2리 | V157: 57 | W157: 35 | X157: 22 | Y157: 32 | Z157: 태장3리 | AA157: 150 | AB157: 90 | AC157: 60 | AD157: 91 | AE157: 용계리 | AF157: 67 | AG157: 42 | AH157: 25 | AI157: 47 | AJ157: 봉산3리 | AK157: 54 | AL157: 24 | AM157: 30 | AN157: 34 | AO157: 창구리 | AP157: 89 | AQ157: 47 | AR157: 42 | AS157: 52 | AT157: 강학1리 | AU157: =SUM(AV157:AW157) -> 132 | AV157: 70 | AW157: 62 | AX157: 66
A158: 장기면 | B158: 3880 | C158: 1903 | D158: 1977 | E158: 2406 | F158: 하서1리 | G158: 428 | H158: 222 | I158: 206 | J158: 243 | K158: 테화3리 | L158: 201 | M158: 100 | N158: 101 | O158: 102 | P158: 남후면 | Q158: 1666 | R158: 843 | S158: 823 | T158: 972 | U158: 덕촌1리 | V158: 146 | W158: 76 | X158: 70 | Y158: 72 | Z158: 지동1리 | AA158: 93 | AB158: 43 | AC158: 50 | AD158: 48 | AE158: 월곡1리 | AF158: 104 | AG158: 56 | AH158: 48 | AI158: 62 | AJ158: 오광1리 | AK158: 93 | AL158: 51 | AM158: 42 | AN158: 54 | AO158: 소야리 | AP158: 98 | AQ158: 51 | AR158: 47 | AS158: 55 | AT158: 강학2리 | AU158: =SUM(AV158:AW158) -> 141 | AV158: 66 | AW158: 75 | AX158: 85
A159: 읍내리 | B159: 239 | C159: 108 | D159: 131 | E159: 142 | F159: 하서2리 | G159: 267 | H159: 136 | I159: 131 | J159: 147 | K159: 상금1리 | L159: 174 | M159: 98 | N159: 76 | O159: 90 | P159: 광음1리 | Q159: 199 | R159: 92 | S159: 107 | T159: 101 | U159: 덕촌2리 | V159: 111 | W159: 52 | X159: 59 | Y159: 57 | Z159: 지동2리 | AA159: 115 | AB159: 66 | AC159: 49 | AD159: 66 | AE159: 월곡2리 | AF159: 49 | AG159: 24 | AH159: 25 | AI159: 31 | AJ159: 오광2리 | AK159: 73 | AL159: 38 | AM159: 35 | AN159: 37 | AO159: 종곡리 | AP159: 73 | AQ159: 40 | AR159: 33 | AS159: 48 | AT159: 음양1리 | AU159: =SUM(AV159:AW159) -> 331 | AV159: 175 | AW159: 156 | AX159: 189
A160: 마현리 | B160: 82 | C160: 46 | D160: 36 | E160: 51 | F160: 하서3리 | G160: 238 | H160: 120 | I160: 118 | J160: 144 | K160: 상금2리 | L160: 92 | M160: 43 | N160: 49 | O160: 54 | P160: 광음2리 | Q160: 148 | R160: 79 | S160: 69 | T160: 98 | U160: 도개면 | V160: 2098 | W160: 1082 | X160: 1016 | Y160: 1161 | Z160: 지동3리 | AA160: 62 | AB160: 32 | AC160: 30 | AD160: 37 | AE160: 자양면 | AF160: 1333 | AG160: 684 | AH160: 649 | AI160: 872 | AJ160: 우하리 | AK160: 91 | AL160: 45 | AM160: 46 | AN160: 58 | AO160: 내화리 | AP160: 164 | AQ160: 78 | AR160: 86 | AS160: 108 | AT160: 음양2리 | AU160: =SUM(AV160:AW160) -> 185 | AV160: 102 | AW160: 83 | AX160: 98
A161: 금곡리 | B161: 49 | C161: 25 | D161: 24 | E161: 31 | F161: 하서4리 | G161: 182 | H161: 102 | I161: 80 | J161: 109 | K161: 신암1리 | L161: 217 | M161: 122 | N161: 95 | O161: 120 | P161: 무릉1리 | Q161: 227 | R161: 120 | S161: 107 | T161: 121 | U161: 가산1리 | V161: 128 | W161: 59 | X161: 69 | Y161: 76 | Z161: 석교1리 | AA161: 114 | AB161: 51 | AC161: 63 | AD161: 73 | AE161: 용화리 | AF161: 65 | AG161: 34 | AH161: 31 | AI161: 41 | AJ161: 신곡1리 | AK161: 63 | AL161: 29 | AM161: 34 | AN161: 35 | AO161: 약석리 | AP161: 189 | AQ161: 88 | AR161: 101 | AS161: 107 | AT161: 자인면 | AU161: =SUM(AV161:AW161) -> 5366 | AV161: =SUM(AV162:AV182) -> 2731 | AW161: =SUM(AW162:AW182) -> 2635 | AX161: =SUM(AX162:AX182) -> 2973
A162: 영암1리 | B162: 121 | C162: 61 | D162: 60 | E162: 67 | F162: 환서1리 | G162: 175 | H162: 92 | I162: 83 | J162: 111 | K162: 신암2리 | L162: 148 | M162: 79 | N162: 69 | O162: 82 | P162: 무릉2리 | Q162: 146 | R162: 78 | S162: 68 | T162: 77 | U162: 가산2리 | V162: 53 | W162: 28 | X162: 25 | Y162: 34 | Z162: 석교2리 | AA162: 100 | AB162: 42 | AC162: 58 | AD162: 61 | AE162: 성곡리 | AF162: 122 | AG162: 63 | AH162: 59 | AI162: 83 | AJ162: 신곡2리 | AK162: 26 | AL162: 12 | AM162: 14 | AN162: 16 | AO162: 회룡리 | AP162: 113 | AQ162: 56 | AR162: 57 | AS162: 72 | AT162: 동부1리 | AU162: =SUM(AV162:AW162) -> 196 | AV162: 101 | AW162: 95 | AX162: 107
A163: 영암2리 | B163: 55 | C163: 28 | D163: 27 | E163: 38 | F163: 환서2리 | G163: 122 | H163: 62 | I163: 60 | J163: 70 | K163: 광천1리 | L163: 134 | M163: 73 | N163: 61 | O163: 86 | P163: 무릉3리 | Q163: 30 | R163: 15 | S163: 15 | T163: 21 | U163: 동산리 | V163: 176 | W163: 99 | X163: 77 | Y163: 106 | Z163: 읍내1리 | AA163: 182 | AB163: 93 | AC163: 89 | AD163: 109 | AE163: 노항리 | AF163: 25 | AG163: 16 | AH163: 9 | AI163: 17 | AJ163: 도곡리 | AK163: 142 | AL163: 75 | AM163: 67 | AN163: 83 | AO163: 가곡리 | AP163: 74 | AQ163: 36 | AR163: 38 | AS163: 50 | AT163: 동부2리 | AU163: =SUM(AV163:AW163) -> 577 | AV163: 273 | AW163: 304 | AX163: 332
A164: 영암3리 | B164: 102 | C164: 51 | D164: 51 | E164: 68 | F164: 수렴1리 | G164: 269 | H164: 142 | I164: 127 | J164: 149 | K164: 광천2리 | L164: 94 | M164: 50 | N164: 44 | O164: 65 | P164: 개곡리 | Q164: 136 | R164: 66 | S164: 70 | T164: 85 | U164: 용산1리 | V164: 89 | W164: 47 | X164: 42 | Y164: 53 | Z164: 읍내2리 | AA164: 152 | AB164: 76 | AC164: 76 | AD164: 80 | AE164: 신방1리 | AF164: 61 | AG164: 32 | AH164: 29 | AI164: 37 | AJ164: 외남면 | AK164: 1563 | AL164: 783 | AM164: 780 | AN164: 867 | AO164: 월천리 | AP164: 98 | AQ164: 56 | AR164: 42 | AS164: 57 | AT164: 서부1리 | AU164: =SUM(AV164:AW164) -> 285 | AV164: 140 | AW164: 145 | AX164: 162
A165: 신창1리 | B165: 209 | C165: 113 | D165: 96 | E165: 117 | F165: 수렴2리 | G165: 200 | H165: 104 | I165: 96 | J165: 112 | K165: 대항면 | L165: 3329 | M165: 1700 | N165: 1629 | O165: 1787 | P165: 검암1리 | Q165: 88 | R165: 47 | S165: 41 | T165: 51 | U165: 용산2리 | V165: 74 | W165: 39 | X165: 35 | Y165: 40 | Z165: 읍내3리 | AA165: 72 | AB165: 34 | AC165: 38 | AD165: 38 | AE165: 신방2리 | AF165: 91 | AG165: 48 | AH165: 43 | AI165: 52 | AJ165: 구서1리 | AK165: 105 | AL165: 53 | AM165: 52 | AN165: 63 | AO165: 지내1리 | AP165: 50 | AQ165: 26 | AR165: 24 | AS165: 36 | AT165: 서부2리 | AU165: =SUM(AV165:AW165) -> 407 | AV165: 213 | AW165: 194 | AX165: 221
A166: 신창2리 | B166: 142 | C166: 71 | D166: 71 | E166: 78 | F166: 신서리 | G166: 297 | H166: 145 | I166: 152 | J166: 166 | K166: 향천1리 | L166: 363 | M166: 167 | N166: 196 | O166: 192 | P166: 검암2리 | Q166: 50 | R166: 22 | S166: 28 | T166: 32 | U166: 월림1리 | V166: 133 | W166: 58 | X166: 75 | Y166: 76 | Z166: 내죽1리 | AA166: 119 | AB166: 54 | AC166: 65 | AD166: 70 | AE166: 용산리 | AF166: 102 | AG166: 55 | AH166: 47 | AI166: 65 | AJ166: 구서2리 | AK166: 119 | AL166: 64 | AM166: 55 | AN166: 61 | AO166: 지내2리 | AP166: 64 | AQ166: 29 | AR166: 35 | AS166: 44 | AT166: 북사1리 | AU166: =SUM(AV166:AW166) -> 1212 | AV166: 589 | AW166: 623 | AX166: 660
A167: 양포리 | B167: 517 | C167: 243 | D167: 274 | E167: 311 | F167: 서동리 | G167: 140 | H167: 69 | I167: 71 | J167: 76 | K167: 향천2리 | L167: 217 | M167: 106 | N167: 111 | O167: 126 | P167: 고하리 | Q167: 112 | R167: 60 | S167: 52 | T167: 71 | U167: 월림2리 | V167: 131 | W167: 64 | X167: 67 | Y167: 69 | Z167: 내죽2리 | AA167: 71 | AB167: 32 | AC167: 39 | AD167: 44 | AE167: 삼귀리 | AF167: 80 | AG167: 41 | AH167: 39 | AI167: 53 | AJ167: 소상1리 | AK167: 95 | AL167: 47 | AM167: 48 | AN167: 51 | AO167: 흑송리 | AP167: 79 | AQ167: 42 | AR167: 37 | AS167: 45 | AT167: 북사2리 | AU167: =SUM(AV167:AW167) -> 122 | AV167: 64 | AW167: 58 | AX167: 65
A168: 계원1리 | B168: 148 | C168: 73 | D168: 75 | E168: 92 | F168: 상계리 | G168: 242 | H168: 132 | I168: 110 | J168: 139 | K168: 향천3리 | L168: 144 | M168: 76 | N168: 68 | O168: 77 | P168: 고상리 | Q168: 134 | R168: 66 | S168: 68 | T168: 88 | U168: 신곡리 | V168: 171 | W168: 82 | X168: 89 | Y168: 102 | Z168: 청구1리 | AA168: 118 | AB168: 63 | AC168: 55 | AD168: 71 | AE168: 충효1리 | AF168: 22 | AG168: 12 | AH168: 10 | AI168: 17 | AJ168: 소상2리 | AK168: 69 | AL168: 38 | AM168: 31 | AN168: 37 | AO168: 동로면 | AP168: 1980 | AQ168: 1029 | AR168: 951 | AS168: 1179 | AT168: 교촌리 | AU168: =SUM(AV168:AW168) -> 414 | AV168: 218 | AW168: 196 | AX168: 227
A169: 계원2리 | B169: 137 | C169: 73 | D169: 64 | E169: 85 | F169: 신대리 | G169: 360 | H169: 197 | I169: 163 | J169: 214 | K169: 향천4리 | L169: 83 | M169: 42 | N169: 41 | O169: 44 | P169: 상아리 | Q169: 69 | R169: 38 | S169: 31 | T169: 45 | U169: 궁기1리 | V169: 373 | W169: 198 | X169: 175 | Y169: 178 | Z169: 청구2리 | AA169: 74 | AB169: 38 | AC169: 36 | AD169: 47 | AE169: 충효2리 | AF169: 42 | AG169: 22 | AH169: 20 | AI169: 23 | AJ169: 신촌1리 | AK169: 103 | AL169: 50 | AM169: 53 | AN169: 59 | AO169: 마광리 | AP169: 78 | AQ169: 47 | AR169: 31 | AS169: 50 | AT169: 읍천리 | AU169: =SUM(AV169:AW169) -> 161 | AV169: 84 | AW169: 77 | AX169: 93
A170: 두원리 | B170: 146 | C170: 65 | D170: 81 | E170: 99 | F170: 기구리 | G170: 139 | H170: 70 | I170: 69 | J170: 84 | K170: 운수1리 | L170: 249 | M170: 139 | N170: 110 | O170: 140 | P170: 하아리 | Q170: 118 | R170: 59 | S170: 59 | T170: 59 | U170: 궁기2리 | V170: 181 | W170: 97 | X170: 84 | Y170: 97 | Z170: 배점1리 | AA170: 120 | AB170: 56 | AC170: 64 | AD170: 68 | AE170: 충효3리 | AF170: 33 | AG170: 15 | AH170: 18 | AI170: 22 | AJ170: 신촌2리 | AK170: 49 | AL170: 18 | AM170: 31 | AN170: 27 | AO170: 인곡1리 | AP170: 54 | AQ170: 31 | AR170: 23 | AS170: 34 | AT170: 신도리 | AU170: =SUM(AV170:AW170) -> 105 | AV170: 57 | AW170: 48 | AX170: 56
A171: 수성리 | B171: 140 | C171: 64 | D171: 76 | E171: 90 | F171: 석촌리 | G171: 218 | H171: 117 | I171: 101 | J171: 132 | K171: 운수2리 | L171: 79 | M171: 40 | N171: 39 | O171: 52 | P171: 단호1리 | Q171: 93 | R171: 46 | S171: 47 | T171: 51 | U171: 신림리 | V171: 162 | W171: 86 | X171: 76 | Y171: 83 | Z171: 배점2리 | AA171: 107 | AB171: 54 | AC171: 53 | AD171: 59 | AE171: 도일리 | AF171: 98 | AG171: 45 | AH171: 53 | AI171: 66 | AJ171: 송지리 | AK171: 139 | AL171: 74 | AM171: 65 | AN171: 80 | AO171: 인곡2리 | AP171: 39 | AQ171: 23 | AR171: 16 | AS171: 27 | AT171: 신관리 | AU171: =SUM(AV171:AW171) -> 147 | AV171: 74 | AW171: 73 | AX171: 82
A172: 임중1리 | B172: 84 | C172: 36 | D172: 48 | E172: 50 | F172: 석읍리 | G172: 130 | H172: 55 | I172: 75 | J172: 86 | K172: 운수3리 | L172: 43 | M172: 26 | N172: 17 | O172: 25 | P172: 단호2리 | Q172: 116 | R172: 55 | S172: 61 | T172: 72 | U172: 도개1리 | V172: 153 | W172: 77 | X172: 76 | Y172: 91 | Z172: 덕현리 | AA172: 109 | AB172: 59 | AC172: 50 | AD172: 63 | AE172: 보현1리 | AF172: 162 | AG172: 84 | AH172: 78 | AI172: 94 | AJ172: 신상1리 | AK172: 161 | AL172: 81 | AM172: 80 | AN172: 90 | AO172: 수평1리 | AP172: 60 | AQ172: 29 | AR172: 31 | AS172: 41 | AT172: 울옥리 | AU172: =SUM(AV172:AW172) -> 206 | AV172: 108 | AW172: 98 | AX172: 112
A173: 임중2리 | B173: 159 | C173: 68 | D173: 91 | E173: 90 | F173: 효동1리 | G173: 110 | H173: 57 | I173: 53 | J173: 69 | K173: 주례1리 | L173: 75 | M173: 48 | N173: 27 | O173: 49 | P173: 남선면 | Q173: 2026 | R173: 1039 | S173: 987 | T173: 1138 | U173: 도개2리 | V173: 62 | W173: 33 | X173: 29 | Y173: 37 | Z173: 단산면 | AA173: 1774 | AB173: 869 | AC173: 905 | AD173: 1066 | AE173: 보현2리 | AF173: 138 | AG173: 66 | AH173: 72 | AI173: 95 | AJ173: 신상2리 | AK173: 68 | AL173: 31 | AM173: 37 | AN173: 43 | AO173: 수평2리 | AP173: 78 | AQ173: 42 | AR173: 36 | AS173: 45 | AT173: 옥천1리 | AU173: =SUM(AV173:AW173) -> 122 | AV173: 67 | AW173: 55 | AX173: 67
... A182: 모포2리 | B182: 121 | C182: 55 | D182: 66 | E182: 66 | F182: 용장2리 | G182: 73 | H182: 38 | I182: 35 | J182: 43 | K182: 대룡2리 | L182: 246 | M182: 123 | N182: 123 | O182: 120 | P182: 현내1리 | Q182: 140 | R182: 64 | S182: 76 | T182: 81 | U182: 문량2리 | V182: 213 | W182: 111 | X182: 102 | Y182: 112 | Z182: 병산2리 | AA182: 79 | AB182: 43 | AC182: 36 | AD182: 51 | AE182: 삼매1리 | AF182: 226 | AG182: 109 | AH182: 117 | AI182: 130 | AJ182: 능암1리 | AK182: 84 | AL182: 43 | AM182: 41 | AN182: 50 | AO182: 적성1리 | AP182: 189 | AQ182: 87 | AR182: 102 | AS182: 110 | AT182: 남신리 | AU182: =SUM(AV182:AW182) -> 141 | AV182: 78 | AW182: 63 | AX182: 77
A183: 학계리 | B183: 68 | C183: 31 | D183: 37 | E183: 49 | F183: 용장3리 | G183: 85 | H183: 42 | I183: 43 | J183: 38 | K183: 복전1리 | L183: 218 | M183: 110 | N183: 108 | O183: 117 | P183: 현내2리 | Q183: 63 | R183: 30 | S183: 33 | T183: 41 | U183: 괴곡1리 | V183: 144 | W183: 72 | X183: 72 | Y183: 85 | Z183: 병산3리 | AA183: 75 | AB183: 44 | AC183: 31 | AD183: 47 | AE183: 삼매2리 | AF183: 52 | AG183: 28 | AH183: 24 | AI183: 28 | AJ183: 능암2리 | AK183: 156 | AL183: 80 | AM183: 76 | AN183: 92 | AO183: 적성2리 | AP183: 179 | AQ183: 93 | AR183: 86 | AS183: 93 | AT183: 용성면 | AU183: =SUM(AV183:AW183) -> 3264 | AV183: =SUM(AV184:AV212) -> 1728 | AW183: =SUM(AW184:AW212) -> 1536 | AX183: =SUM(AX184:AX212) -> 1838
A184: 학곡리 | B184: 66 | C184: 30 | D184: 36 | E184: 45 | F184: 용장4리 | G184: 97 | H184: 50 | I184: 47 | J184: 61 | K184: 복전2리 | L184: 299 | M184: 156 | N184: 143 | O184: 145 | P184: 원림1리 | Q184: 309 | R184: 155 | S184: 154 | T184: 161 | U184: 괴곡2리 | V184: 161 | W184: 98 | X184: 63 | Y184: 91 | Z184: 단곡1리 | AA184: 134 | AB184: 70 | AC184: 64 | AD184: 75 | AE184: 삼매3리 | AF184: 122 | AG184: 66 | AH184: 56 | AI184: 76 | AJ184: 신촌1리 | AK184: 110 | AL184: 62 | AM184: 48 | AN184: 66 | AO184: 적성3리 | AP184: 96 | AQ184: 50 | AR184: 46 | AS184: 56 | AT184: 당리리 | AU184: =SUM(AV184:AW184) -> 192 | AV184: 98 | AW184: 94 | AX184: 109
A185: 신계리 | B185: 77 | C185: 48 | D185: 29 | E185: 50 | F185: 노곡1리 | G185: 177 | H185: 88 | I185: 89 | J185: 102 | K185: 감천면 | L185: 1835 | M185: 941 | N185: 894 | O185: 959 | P185: 원림2리 | Q185: 67 | R185: 29 | S185: 38 | T185: 36 | U185: 금산1리 | V185: 105 | W185: 50 | X185: 55 | Y185: 66 | Z185: 단곡2리 | AA185: 87 | AB185: 40 | AC185: 47 | AD185: 51 | AE185: 평천1리 | AF185: 100 | AG185: 47 | AH185: 53 | AI185: 66 | AJ185: 신촌2리 | AK185: 107 | AL185: 56 | AM185: 51 | AN185: 55 | AO185: 생달1리 | AP185: 141 | AQ185: 68 | AR185: 73 | AS185: 85 | AT185: 덕천1리 | AU185: =SUM(AV185:AW185) -> 129 | AV185: 70 | AW185: 59 | AX185: 76
A186: 창지1리 | B186: 66 | C186: 31 | D186: 35 | E186: 37 | F186: 노곡2리 | G186: 208 | H186: 97 | I186: 111 | J186: 127 | K186: 용호1리 | L186: 181 | M186: 89 | N186: 92 | O186: 102 | P186: 외하리 | Q186: 213 | R186: 96 | S186: 117 | T186: 108 | U186: 금산2리 | V186: 6 | W186: 3 | X186: 3 | Y186: 3 | Z186: 단곡3리 | AA186: 55 | AB186: 29 | AC186: 26 | AD186: 34 | AE186: 평천2리 | AF186: 106 | AG186: 52 | AH186: 54 | AI186: 65 | AJ186: 북장리 | AK186: 167 | AL186: 83 | AM186: 84 | AN186: 90 | AO186: 생달2리 | AP186: 93 | AQ186: 45 | AR186: 48 | AS186: 51 | AT186: 덕천2리 | AU186: =SUM(AV186:AW186) -> 90 | AV186: 45 | AW186: 45 | AX186: 50
A187: 창지2리 | B187: 72 | C187: 35 | D187: 37 | E187: 42 | F187: 명계1리 | G187: 124 | H187: 66 | I187: 58 | J187: 77 | K187: 용호2리 | L187: 105 | M187: 55 | N187: 50 | O187: 60 | P187: 임하면 | Q187: 2656 | R187: 1393 | S187: 1263 | T187: 1690 | U187: 도문1리 | V187: 110 | W187: 59 | X187: 51 | Y187: 64 | Z187: 옥대1리 | AA187: 261 | AB187: 124 | AC187: 137 | AD187: 151 | AE187: 평천3리 | AF187: 164 | AG187: 82 | AH187: 82 | AI187: 83 | AJ187: 고곡1리 | AK187: 63 | AL187: 36 | AM187: 27 | AN187: 33 | AO187: 명전1리 | AP187: 76 | AQ187: 43 | AR187: 33 | AS187: 49 | AT187: 송림리 | AU187: =SUM(AV187:AW187) -> 287 | AV187: 148 | AW187: 139 | AX187: 151
A188: 대곡리 | B188: 112 | C188: 55 | D188: 57 | E188: 65 | F188: 명계2리 | G188: 100 | H188: 57 | I188: 43 | J188: 55 | K188: 무안1리 | L188: 119 | M188: 64 | N188: 55 | O188: 59 | P188: 임하1리 | Q188: 302 | R188: 157 | S188: 145 | T188: 171 | U188: 도문2리 | V188: 46 | W188: 28 | X188: 18 | Y188: 28 | Z188: 옥대2리 | AA188: 36 | AB188: 17 | AC188: 19 | AD188: 20 | AE188: 양평1리 | AF188: 120 | AG188: 66 | AH188: 54 | AI188: 68 | AJ188: 고곡2리 | AK188: 82 | AL188: 36 | AM188: 46 | AN188: 48 | AO188: 명전2리 | AP188: 111 | AQ188: 56 | AR188: 55 | AS188: 65 | AT188: 부제리 | AU188: =SUM(AV188:AW188) -> 178 | AV188: 97 | AW188: 81 | AX188: 103
A189: 죽정리 | B189: 35 | C189: 21 | D189: 14 | E189: 19 | F189: 명계3리 | G189: 83 | H189: 43 | I189: 40 | J189: 51 | K189: 무안2리 | L189: 107 | M189: 61 | N189: 46 | O189: 62 | P189: 임하2리 | Q189: 82 | R189: 37 | S189: 45 | T189: 49 | U189: 월호리 | V189: 307 | W189: 152 | X189: 155 | Y189: 164 | Z189: 옥대3리 | AA189: 67 | AB189: 32 | AC189: 35 | AD189: 43 | AE189: 양평2리 | AF189: 178 | AG189: 98 | AH189: 80 | AI189: 101 | AJ189: 서만1리 | AK189: 114 | AL189: 58 | AM189: 56 | AN189: 61 | AO189: 마성면 | AP189: 3421 | AQ189: 1640 | AR189: 1781 | AS189: 2105 | AT189: 곡신리 | AU189: =SUM(AV189:AW189) -> 174 | AV189: 90 | AW189: 84 | AX189: 100
A190: 정천1리 | B190: 157 | C190: 93 | D190: 64 | E190: 119 | F190: 월산1리 | G190: 99 | H190: 57 | I190: 42 | J190: 59 | K190: 무안3리 | L190: 97 | M190: 45 | N190: 52 | O190: 53 | P190: 천전1리 | Q190: 156 | R190: 75 | S190: 81 | T190: 95 | U190: 금호1리 | V190: 178 | W190: 90 | X190: 88 | Y190: 98 | Z190: 옥대4리 | AA190: 117 | AB190: 49 | AC190: 68 | AD190: 70 | AE190: 황강리 | AF190: 195 | AG190: 95 | AH190: 100 | AI190: 114 | AJ190: 서만2리 | AK190: 81 | AL190: 46 | AM190: 35 | AN190: 53 | AO190: 모곡리 | AP190: 198 | AQ190: 98 | AR190: 100 | AS190: 118 | AT190: 곡란리 | AU190: =SUM(AV190:AW190) -> 277 | AV190: 148 | AW190: 129 | AX190: 146
A191: 정천2리 | B191: 31 | C191: 16 | D191: 15 | E191: 18 | F191: 월산2리 | G191: 127 | H191: 71 | I191: 56 | J191: 81 | K191: 도평1리 | L191: 153 | M191: 78 | N191: 75 | O191: 75 | P191: 천전2리 | Q191: 48 | R191: 28 | S191: 20 | T191: 29 | U191: 금호2리 | V191: 62 | W191: 31 | X191: 31 | Y191: 30 | Z191: 좌석리 | AA191: 139 | AB191: 75 | AC191: 64 | AD191: 86 | AE191: 효1리 | AF191: 246 | AG191: 126 | AH191: 120 | AI191: 153 | AJ191: 서원1리 | AK191: 224 | AL191: 139 | AM191: 85 | AN191: 152 | AO191: 정리1리 | AP191: 147 | AQ191: 70 | AR191: 77 | AS191: 98 | AT191: 용산리 | AU191: =SUM(AV191:AW191) -> 68 | AV191: 38 | AW191: 30 | AX191: 37
A192: 호미곶면 | B192: 1738 | C192: 846 | D192: 892 | E192: 1126 | F192: 이조1리 | G192: 428 | H192: 218 | I192: 210 | J192: 228 | K192: 도평2리 | L192: 171 | M192: 89 | N192: 82 | O192: 82 | P192: 추목리 | Q192: 212 | R192: 108 | S192: 104 | T192: 119 | U192: 창림리 | V192: 68 | W192: 37 | X192: 31 | Y192: 42 | Z192: 마락리 | AA192: 36 | AB192: 24 | AC192: 12 | AD192: 27 | AE192: 효2리 | AF192: 87 | AG192: 46 | AH192: 41 | AI192: 48 | AJ192: 서원2리 | AK192: 122 | AL192: 54 | AM192: 68 | AN192: 69 | AO192: 정리2리 | AP192: 93 | AQ192: 43 | AR192: 50 | AS192: 57 | AT192: 대종1리 | AU192: =SUM(AV192:AW192) -> 68 | AV192: 37 | AW192: 31 | AX192: 38
A193: 강사1리 | B193: 175 | C193: 82 | D193: 93 | E193: 116 | F193: 이조2리 | G193: 132 | H193: 62 | I193: 70 | J193: 72 | K193: 광기1리 | L193: 215 | M193: 111 | N193: 104 | O193: 104 | P193: 신덕1리 | Q193: 248 | R193: 127 | S193: 121 | T193: 133 | U193: 송곡1리 | V193: 135 | W193: 78 | X193: 57 | Y193: 81 | Z193: 부석면 | AA193: 2858 | AB193: 1424 | AC193: 1434 | AD193: 1653 | AE193: 금대리 | AF193: 324 | AG193: 163 | AH193: 161 | AI193: 202 | AJ193: 낙서리 | AK193: 205 | AL193: 90 | AM193: 115 | AN193: 121 | AO193: 상내1리 | AP193: 153 | AQ193: 74 | AR193: 79 | AS193: 88 | AT193: 대종2리 | AU193: =SUM(AV193:AW193) -> 35 | AV193: 21 | AW193: 14 | AX193: 16
A194: 강사2리 | B194: 257 | C194: 132 | D194: 125 | E194: 162 | F194: 이조3리 | G194: 179 | H194: 79 | I194: 100 | J194: 99 | K194: 광기2리 | L194: 208 | M194: 109 | N194: 99 | O194: 113 | P194: 신덕2리 | Q194: 274 | R194: 130 | S194: 144 | T194: 166 | U194: 송곡2리 | V194: 91 | W194: 58 | X194: 33 | Y194: 53 | Z194: 남대리 | AA194: 116 | AB194: 65 | AC194: 51 | AD194: 83 | AE194: 사1리 | AF194: 184 | AG194: 93 | AH194: 91 | AI194: 115 | AJ194: 평지1리 | AK194: 124 | AL194: 67 | AM194: 57 | AN194: 70 | AO194: 상내2리 | AP194: 31 | AQ194: 18 | AR194: 13 | AS194: 23 | AT194: 가척리 | AU194: =SUM(AV194:AW194) -> 65 | AV194: 34 | AW194: 31 | AX194: 41
A195: 강사3리 | B195: 29 | C195: 19 | D195: 10 | E195: 21 | F195: 부지1리 | G195: 113 | H195: 57 | I195: 56 | J195: 67 | K195: 광기3리 | L195: 93 | M195: 45 | N195: 48 | O195: 48 | P195: 금소1리 | Q195: 144 | R195: 70 | S195: 74 | T195: 95 | U195: 산양리 | V195: 173 | W195: 92 | X195: 81 | Y195: 93 | Z195: 북지1리 | AA195: 145 | AB195: 68 | AC195: 77 | AD195: 78 | AE195: 사2리 | AF195: 75 | AG195: 36 | AH195: 39 | AI195: 50 | AJ195: 평지2리 | AK195: 36 | AL195: 19 | AM195: 17 | AN195: 22 | AO195: 하내1리 | AP195: 173 | AQ195: 68 | AR195: 105 | AS195: 117 | AT195: 용천1리 | AU195: =SUM(AV195:AW195) -> 44 | AV195: 21 | AW195: 23 | AX195: 26
... A212: 학성리 | B212: 330 | C212: 171 | D212: 159 | E212: 176 | F212: 화곡2리 | G212: 100 | H212: 49 | I212: 51 | J212: 53 | K212: 신곡2리 | L212: 38 | M212: 19 | N212: 19 | O212: 23 | P212: 대사2리 | Q212: 58 | R212: 32 | S212: 26 | T212: 37 | U212: 오로2리 | V212: 67 | W212: 30 | X212: 37 | Y212: 40 | Z212: 감곡1리 | AA212: 95 | AB212: 49 | AC212: 46 | AD212: 52 | AE212: 용전1리 | AF212: 128 | AG212: 72 | AH212: 56 | AI212: 82 | AJ212: 반계리 | AK212: 167 | AL212: 94 | AM212: 73 | AN212: 101 | AO212: 종곡1리 | AP212: 48 | AQ212: 26 | AR212: 22 | AS212: 31 | AT212: 일광2리 | AU212: =SUM(AV212:AW212) -> 69 | AV212: 31 | AW212: 38 | AX212: 31
A213: 남성1리 | B213: 1294 | C213: 610 | D213: 684 | E213: 615 | F213: 망성1리 | G213: 199 | H213: 104 | I213: 95 | J213: 123 | K213: 신곡3리 | L213: 111 | M213: 56 | N213: 55 | O213: 68 | P213: 고란리 | Q213: 100 | R213: 49 | S213: 51 | T213: 62 | U213: 묵어1리 | V213: 144 | W213: 70 | X213: 74 | Y213: 82 | Z213: 감곡2리 | AA213: 79 | AB213: 40 | AC213: 39 | AD213: 42 | AE213: 용전2리 | AF213: 92 | AG213: 45 | AH213: 47 | AI213: 52 | AJ213: 정양리 | AK213: 152 | AL213: 72 | AM213: 80 | AN213: 78 | AO213: 종곡2리 | AP213: 110 | AQ213: 50 | AR213: 60 | AS213: 68 | AT213: 남산면 | AU213: =SUM(AV213:AW213) -> 3666 | AV213: =SUM(AV214:AV237) -> 1892 | AW213: =SUM(AW214:AW237) -> 1774 | AX213: =SUM(AX214:AX237) -> 1978
A214: 남성2리 | B214: 1195 | C214: 599 | D214: 596 | E214: 622 | F214: 망성2리 | G214: 134 | H214: 59 | I214: 75 | J214: 80 | K214: 삼산리 | L214: 157 | M214: 82 | N214: 75 | O214: 88 | P214: 묵계1리 | Q214: 120 | R214: 60 | S214: 60 | T214: 76 | U214: 묵어2리 | V214: 92 | W214: 49 | X214: 43 | Y214: 51 | Z214: 보계1리 | AA214: 148 | AB214: 78 | AC214: 70 | AD214: 85 | AE214: 도암1리 | AF214: 190 | AG214: 101 | AH214: 89 | AI214: 113 | AJ214: 신흥1리 | AK214: 89 | AL214: 45 | AM214: 44 | AN214: 42 | AO214: 종곡3리 | AP214: 148 | AQ214: 74 | AR214: 74 | AS214: 87 | AT214: 산양리 | AU214: =SUM(AV214:AW214) -> 254 | AV214: 137 | AW214: 117 | AX214: 129
A215: 남성3리 | B215: 1522 | C215: 742 | D215: 780 | E215: 692 | F215: 산내면 | G215: 3214 | H215: 1598 | I215: 1616 | J215: 2055 | K215: 신왕1리 | L215: 153 | M215: 83 | N215: 70 | O215: 91 | P215: 묵계2리 | Q215: 96 | R215: 48 | S215: 48 | T215: 63 | U215: 여남리 | V215: 224 | W215: 124 | X215: 100 | Y215: 112 | Z215: 보계2리 | AA215: 50 | AB215: 24 | AC215: 26 | AD215: 35 | AE215: 도암2리 | AF215: 164 | AG215: 81 | AH215: 83 | AI215: 105 | AJ215: 신흥2리 | AK215: 56 | AL215: 29 | AM215: 27 | AN215: 29 | AO215: 연천1리 | AP215: 166 | AQ215: 88 | AR215: 78 | AS215: 90 | AT215: 경1리 | AU215: =SUM(AV215:AW215) -> 222 | AV215: 120 | AW215: 102 | AX215: 109
A216: 성내리 | B216: 185 | C216: 81 | D216: 104 | E216: 118 | F216: 의곡1리 | G216: 324 | H216: 157 | I216: 167 | J216: 206 | K216: 신왕2리 | L216: 141 | M216: 65 | N216: 76 | O216: 68 | P216: 구수1리 | Q216: 83 | R216: 36 | S216: 47 | T216: 49 | U216: 명곡리 | V216: 105 | W216: 53 | X216: 52 | Y216: 60 | AE216: 상리리 | AF216: 255 | AG216: 129 | AH216: 126 | AI216: 146 | AJ216: 수봉1리 | AK216: 131 | AL216: 67 | AM216: 64 | AN216: 77 | AO216: 연천2리 | AP216: 82 | AQ216: 39 | AR216: 43 | AS216: 45 | AT216: 경2리 | AU216: =SUM(AV216:AW216) -> 141 | AV216: 70 | AW216: 71 | AX216: 55
A217: 중성1리 | B217: 292 | C217: 140 | D217: 152 | E217: 164 | F217: 의곡2리 | G217: 70 | H217: 34 | I217: 36 | J217: 44 | K217: 대방1리 | L217: 142 | M217: 70 | N217: 72 | O217: 87 | P217: 구수2리 | Q217: 78 | R217: 38 | S217: 40 | T217: 46 | AE217: 학리 | AF217: 97 | AG217: 45 | AH217: 52 | AI217: 57 | AJ217: 수봉2리 | AK217: 99 | AL217: 46 | AM217: 53 | AN217: 56 | AO217: 궁기1리 | AP217: 129 | AQ217: 64 | AR217: 65 | AS217: 81 | AT217: 남곡리 | AU217: =SUM(AV217:AW217) -> 94 | AV217: 48 | AW217: 46 | AX217: 53
A218: 중성2리 | B218: 601 | C218: 288 | D218: 313 | E218: 343 | F218: 내일1리 | G218: 132 | H218: 62 | I218: 70 | J218: 84 | K218: 대방2리 | L218: 123 | M218: 61 | N218: 62 | O218: 61 | P218: 배방리 | Q218: 104 | R218: 53 | S218: 51 | T218: 64 | AE218: 해선리 | AF218: 260 | AG218: 125 | AH218: 135 | AI218: 165 | AJ218: 모서면 | AK218: 2373 | AL218: 1188 | AM218: 1185 | AN218: 1409 | AO218: 궁기2리 | AP218: 36 | AQ218: 19 | AR218: 17 | AS218: 24 | AT218: 갈지리 | AU218: =SUM(AV218:AW218) -> 173 | AV218: 87 | AW218: 86 | AX218: 96
A219: 망천리 | B219: 320 | C219: 156 | D219: 164 | E219: 186 | F219: 내일2리 | G219: 171 | H219: 83 | I219: 88 | J219: 123 | K219: 대방3리 | L219: 122 | M219: 56 | N219: 66 | O219: 75 | P219: 용계리 | Q219: 46 | R219: 24 | S219: 22 | T219: 23 | AE219: 전사1리 | AF219: 45 | AG219: 21 | AH219: 24 | AI219: 28 | AJ219: 삼포1리 | AK219: 176 | AL219: 80 | AM219: 96 | AN219: 111 | AO219: 내서1리 | AP219: 147 | AQ219: 80 | AR219: 67 | AS219: 100 | AT219: 평기1리 | AU219: =SUM(AV219:AW219) -> 73 | AV219: 42 | AW219: 31 | AX219: 40
...

Sheet 1-3. 리별 인구 및 세대현황(군)
A2: 1-3. 리별 인구 및 세대현황(군)_외국인 제외 (2023년 3분기)
A3: (단위 : 세대, 명) | BF3: (단위:명,세대)
A4: 의성군 | F4: 청송군 | K4: 영양군 | P4: 영덕군 | U4: 청도군 | Z4: 고령군 | AE4: 성주군 | AJ4: 칠곡군 | AO4: 예천군 | AT4: 봉화군 | AY4: 울진군 | BD4: 울릉군
A5: 행정구역 | B5: 계 | C5: 남 | D5: 여 | E5: 세대수 | F5: 행정구역 | G5: 계 | H5: 남 | I5: 여 | J5: 세대수 | K5: 행정구역 | L5: 계 | M5: 남 | N5: 여 | O5: 세대수 | P5: 행정구역 | Q5: 계 | R5: 남 | S5: 여 | T5: 세대수 | U5: 행정구역 | V5: 계 | W5: 남 | X5: 여 | Y5: 세대수 | Z5: 행정구역 | AA5: 계 | AB5: 남 | AC5: 여 | AD5: 세대수 | AE5: 행정구역 | AF5: 계 | AG5: 남 | AH5: 여 | AI5: 세대수 | AJ5: 행정구역 | AK5: 계 | AL5: 남 | AM5: 여 | AN5: 세대수 | AO5: 행정구역 | AP5: 계 | AQ5: 남 | AR5: 여 | AS5: 세대수 | AT5: 행정구역 | AU5: 계 | AV5: 남 | AW5: 여 | AX5: 세대수 | AY5: 행정구역 | AZ5: 계 | BA5: 남 | BB5: 여 | BC5: 세대수 | BD5: 행정구역 | BE5: 계 | BF5: 남 | BG5: 여 | BH5: 세대수
A6: 의성읍 | B6: 12692 | C6: 6251 | D6: 6441 | E6: 6752 | F6: 청송읍 | G6: 5008 | H6: 2479 | I6: 2529 | J6: 2680 | K6: 영양읍 | L6: 6920 | M6: 3401 | N6: 3519 | O6: 3724 | P6: 영덕읍 | Q6: 10456 | R6: 5054 | S6: 5402 | T6: 5440 | U6: 화양읍 | V6: 8270 | W6: 4070 | X6: 4200 | Y6: 4197 | Z6: 대가야읍 | AA6: 9676 | AB6: 4892 | AC6: 4784 | AD6: 5140 | AE6: 성주읍 | AF6: 13243 | AG6: 6699 | AH6: 6544 | AI6: 6743 | AJ6: 왜관읍 | AK6: 31555 | AL6: 15857 | AM6: 15698 | AN6: 14923 | AO6: 예천읍 | AP6: 14144 | AQ6: 6979 | AR6: 7165 | AS6: 7341 | AT6: 봉화읍 | AU6: 9466 | AV6: 4651 | AW6: 4815 | AX6: 4871 | AY6: 울진읍 | AZ6: 13561 | BA6: 6861 | BB6: 6700 | BC6: 6311 | BD6: 울릉읍 | BE6: 6440 | BF6: 3571 | BG6: 2869 | BH6: 3931
A7: 후죽1리 | B7: 518 | C7: 246 | D7: 272 | E7: 288 | F7: 월막1리 | G7: 765 | H7: 377 | I7: 388 | J7: 402 | K7: 동부1리 | L7: 1264 | M7: 592 | N7: 672 | O7: 682 | P7: 구미리 | Q7: 114 | R7: 54 | S7: 60 | T7: 65 | U7: 동상리 | V7: 352 | W7: 159 | X7: 193 | Y7: 198 | Z7: 쾌빈1리 | AA7: 297 | AB7: 154 | AC7: 143 | AD7: 176 | AE7: 경산1리 | AF7: 586 | AG7: 277 | AH7: 309 | AI7: 304 | AJ7: 왜관1리 | AK7: 1019 | AL7: 510 | AM7: 509 | AN7: 607 | AO7: 노하리 | AP7: 316 | AQ7: 148 | AR7: 168 | AS7: 176 | AT7: 내성1리 | AU7: 897 | AV7: 422 | AW7: 475 | AX7: 449 | AY7: 읍내1리 | AZ7: 801 | BA7: 389 | BB7: 412 | BC7: 388 | BD7: 도동1리 | BE7: 1108 | BF7: 585 | BG7: 523 | BH7: 675
A8: 후죽2리 | B8: 432 | C8: 208 | D8: 224 | E8: 247 | F8: 월막2리 | G8: 1036 | H8: 500 | I8: 536 | J8: 533 | K8: 동부2리 | L8: 409 | M8: 201 | N8: 208 | O8: 233 | P8: 화개1리 | Q8: 636 | R8: 328 | S8: 308 | T8: 329 | U8: 서상1리 | V8: 79 | W8: 38 | X8: 41 | Y8: 39 | Z8: 쾌빈2리 | AA8: 1878 | AB8: 933 | AC8: 945 | AD8: 762 | AE8: 경산2리 | AF8: 129 | AG8: 68 | AH8: 61 | AI8: 70 | AJ8: 왜관2리 | AK8: 293 | AL8: 157 | AM8: 136 | AN8: 147 | AO8: 노상리 | AP8: 432 | AQ8: 206 | AR8: 226 | AS8: 234 | AT8: 내성2리 | AU8: 403 | AV8: 207 | AW8: 196 | AX8: 224 | AY8: 읍내2리 | AZ8: 1391 | BA8: 712 | BB8: 679 | BC8: 624 | BD8: 도동2리 | BE8: 1515 | BF8: 816 | BG8: 699 | BH8: 895
A9: 후죽3리 | B9: 1199 | C9: 589 | D9: 610 | E9: 587 | F9: 덕리 | G9: 687 | H9: 365 | I9: 322 | J9: 389 | K9: 서부1리 | L9: 918 | M9: 442 | N9: 476 | O9: 491 | P9: 화개2리 | Q9: 400 | R9: 202 | S9: 198 | T9: 179 | U9: 서상2리 | V9: 146 | W9: 73 | X9: 73 | Y9: 85 | Z9: 쾌빈3리 | AA9: 229 | AB9: 129 | AC9: 100 | AD9: 126 | AE9: 경산3리 | AF9: 179 | AG9: 87 | AH9: 92 | AI9: 90 | AJ9: 왜관3리 | AK9: 804 | AL9: 399 | AM9: 405 | AN9: 461 | AO9: 백전1리 | AP9: 574 | AQ9: 272 | AR9: 302 | AS9: 337 | AT9: 내성3리 | AU9: 680 | AV9: 348 | AW9: 332 | AX9: 322 | AY9: 읍내3리 | AZ9: 3518 | BA9: 1771 | BB9: 1747 | BC9: 1645 | BD9: 도동3리 | BE9: 1246 | BF9: 667 | BG9: 579 | BH9: 770
A10: 후죽4리 | B10: 849 | C10: 412 | D10: 437 | E10: 453 | F10: 금곡1리 | G10: 921 | H10: 469 | I10: 452 | J10: 423 | K10: 서부2리 | L10: 1599 | M10: 810 | N10: 789 | O10: 780 | P10: 남석1리 | Q10: 446 | R10: 214 | S10: 232 | T10: 246 | U10: 신봉리 | V10: 169 | W10: 80 | X10: 89 | Y10: 106 | Z10: 쾌빈4리 | AA10: 709 | AB10: 336 | AC10: 373 | AD10: 321 | AE10: 경산4리 | AF10: 863 | AG10: 427 | AH10: 436 | AI10: 371 | AJ10: 왜관4리 | AK10: 376 | AL10: 188 | AM10: 188 | AN10: 203 | AO10: 백전2리 | AP10: 1106 | AQ10: 534 | AR10: 572 | AS10: 557 | AT10: 내성4리 | AU10: 1366 | AV10: 672 | AW10: 694 | AX10: 705 | AY10: 읍내4리 | AZ10: 1019 | BA10: 497 | BB10: 522 | BC10: 471 | BD10: 저동1리 | BE10: 1336 | BF10: 727 | BG10: 609 | BH10: 754
A11: 중리1리 | B11: 558 | C11: 274 | D11: 284 | E11: 322 | F11: 금곡2리 | G11: 114 | H11: 59 | I11: 55 | J11: 64 | K11: 서부3리 | L11: 591 | M11: 293 | N11: 298 | O11: 266 | P11: 남석2리 | Q11: 592 | R11: 267 | S11: 325 | T11: 344 | U11: 교촌리 | V11: 138 | W11: 74 | X11: 64 | Y11: 82 | Z11: 고아1리 | AA11: 797 | AB11: 378 | AC11: 419 | AD11: 435 | AE11: 경산5리 | AF11: 817 | AG11: 370 | AH11: 447 | AI11: 391 | AJ11: 왜관5리 | AK11: 791 | AL11: 380 | AM11: 411 | AN11: 403 | AO11: 동본1리 | AP11: 1474 | AQ11: 694 | AR11: 780 | AS11: 741 | AT11: 내성5리 | AU11: 2046 | AV11: 945 | AW11: 1101 | AX11: 873 | AY11: 읍내5리 | AZ11: 2036 | BA11: 1038 | BB11: 998 | BC11: 866 | BD11: 저동2리 | BE11: 228 | BF11: 120 | BG11: 108 | BH11: 137
A12: 중리2리 | B12: 1947 | C12: 963 | D12: 984 | E12: 844 | F12: 금곡3리 | G12: 126 | H12: 58 | I12: 68 | J12: 72 | K12: 서부4리 | L12: 289 | M12: 140 | N12: 149 | O12: 166 | P12: 남석3리 | Q12: 990 | R12: 464 | S12: 526 | T12: 525 | U12: 동천리 | V12: 403 | W12: 217 | X12: 186 | Y12: 214 | Z12: 고아2리 | AA12: 146 | AB12: 70 | AC12: 76 | AD12: 87 | AE12: 경산6리 | AF12: 284 | AG12: 146 | AH12: 138 | AI12: 149 | AJ12: 왜관6리 | AK12: 454 | AL12: 224 | AM12: 230 | AN12: 239 | AO12: 동본2리 | AP12: 222 | AQ12: 112 | AR12: 110 | AS12: 126 | AT12: 삼계1리 | AU12: 448 | AV12: 218 | AW12: 230 | AX12: 236 | AY12: 읍남1리 | AZ12: 234 | BA12: 120 | BB12: 114 | BC12: 117 | BD12: 저동3리 | BE12: 62 | BF12: 35 | BG12: 27 | BH12: 38
A13: 중리3리 | B13: 146 | C13: 70 | D13: 76 | E13: 78 | F13: 청운리 | G13: 381 | H13: 176 | I13: 205 | J13: 220 | K13: 황용리 | L13: 54 | M13: 23 | N13: 31 | O13: 26 | P13: 덕곡1리 | Q13: 779 | R13: 379 | S13: 400 | T13: 389 | U13: 합천1리 | V13: 144 | W13: 75 | X13: 69 | Y13: 79 | Z13: 헌문리 | AA13: 435 | AB13: 210 | AC13: 225 | AD13: 274 | AE13: 경산7리 | AF13: 426 | AG13: 206 | AH13: 220 | AI13: 231 | AJ13: 왜관7리 | AK13: 863 | AL13: 455 | AM13: 408 | AN13: 501 | AO13: 남본1리 | AP13: 821 | AQ13: 395 | AR13: 426 | AS13: 400 | AT13: 삼계2리 | AU13: 90 | AV13: 42 | AW13: 48 | AX13: 46 | AY13: 읍남2리 | AZ13: 162 | BA13: 94 | BB13: 68 | BC13: 68 | BD13: 사동1리 | BE13: 461 | BF13: 306 | BG13: 155 | BH13: 319
A14: 상리1리 | B14: 2279 | C14: 1087 | D14: 1192 | E14: 1168 | F14: 송생리 | G14: 178 | H14: 87 | I14: 91 | J14: 112 | K14: 현1리 | L14: 129 | M14: 55 | N14: 74 | O14: 70 | P14: 덕곡2리 | Q14: 899 | R14: 446 | S14: 453 | T14: 409 | U14: 합천2리 | V14: 203 | W14: 108 | X14: 95 | Y14: 111 | Z14: 장기리 | AA14: 463 | AB14: 257 | AC14: 206 | AD14: 244 | AE14: 경산8리 | AF14: 537 | AG14: 256 | AH14: 281 | AI14: 293 | AJ14: 왜관8리 | AK14: 839 | AL14: 534 | AM14: 305 | AN14: 623 | AO14: 남본2리 | AP14: 1648 | AQ14: 820 | AR14: 828 | AS14: 763 | AT14: 유곡1리 | AU14: 131 | AV14: 64 | AW14: 67 | AX14: 82 | AY14: 읍남3리 | AZ14: 85 | BA14: 34 | BB14: 51 | BC14: 46 | BD14: 사동2리 | BE14: 135 | BF14: 80 | BG14: 55 | BH14: 92
A15: 상리2리 | B15: 90 | C15: 50 | D15: 40 | E15: 55 | F15: 교리 | G15: 117 | H15: 59 | I15: 58 | J15: 73 | K15: 현2리 | L15: 111 | M15: 57 | N15: 54 | O15: 73 | P15: 천전리 | Q15: 179 | R15: 80 | S15: 99 | T15: 95 | U15: 범곡1리 | V15: 1198 | W15: 569 | X15: 629 | Y15: 617 | Z15: 연조1리 | AA15: 551 | AB15: 268 | AC15: 283 | AD15: 268 | AE15: 대흥1리 | AF15: 126 | AG15: 61 | AH15: 65 | AI15: 63 | AJ15: 왜관9리 | AK15: 744 | AL15: 383 | AM15: 361 | AN15: 390 | AO15: 서본1리 | AP15: 432 | AQ15: 223 | AR15: 209 | AS15: 246 | AT15: 유곡2리 | AU15: 110 | AV15: 62 | AW15: 48 | AX15: 63 | AY15: 읍남4리 | AZ15: 186 | BA15: 97 | BB15: 89 | BC15: 103 | BD15: 사동3리 | BE15: 313 | BF15: 200 | BG15: 113 | BH15: 215
A16: 도동1리 | B16: 584 | C16: 278 | D16: 306 | E16: 350 | F16: 거대리 | G16: 132 | H16: 64 | I16: 68 | J16: 90 | K16: 현3리 | L16: 68 | M16: 40 | N16: 28 | O16: 46 | P16: 남산1리 | Q16: 204 | R16: 107 | S16: 97 | T16: 105 | U16: 범곡2리 | V16: 2315 | W16: 1111 | X16: 1204 | Y16: 957 | Z16: 연조2리 | AA16: 315 | AB16: 156 | AC16: 159 | AD16: 171 | AE16: 대흥2리 | AF16: 149 | AG16: 75 | AH16: 74 | AI16: 74 | AJ16: 왜관10리 | AK16: 760 | AL16: 430 | AM16: 330 | AN16: 416 | AO16: 서본2리 | AP16: 713 | AQ16: 368 | AR16: 345 | AS16: 371 | AT16: 유곡3리 | AU16: 201 | AV16: 101 | AW16: 100 | AX16: 115 | AY16: 연지1리 | AZ16: 368 | BA16: 179 | BB16: 189 | BC16: 173 | BD16: 독도리 | BE16: 36 | BF16: 35 | BG16: 1 | BH16: 36
A17: 도동2리 | B17: 782 | C17: 375 | D17: 407 | E17: 415 | F17: 월외1리 | G17: 88 | H17: 44 | I17: 44 | J17: 55 | K17: 전곡리 | L17: 14 | M17: 8 | N17: 6 | O17: 10 | P17: 남산2리 | Q17: 55 | R17: 28 | S17: 27 | T17: 35 | U17: 송북리 | V17: 308 | W17: 154 | X17: 154 | Y17: 137 | Z17: 연조3리 | AA17: 606 | AB17: 273 | AC17: 333 | AD17: 293 | AE17: 대흥3리 | AF17: 133 | AG17: 66 | AH17: 67 | AI17: 71 | AJ17: 왜관11리 | AK17: 208 | AL17: 106 | AM17: 102 | AN17: 99 | AO17: 대심1리 | AP17: 1566 | AQ17: 791 | AR17: 775 | AS17: 768 | AT17: 거촌1리 | AU17: 43 | AV17: 22 | AW17: 21 | AX17: 27 | AY17: 연지2리 | AZ17: 900 | BA17: 458 | BB17: 442 | BC17: 403 | BD17: 서면 | BE17: 1369 | BF17: 761 | BG17: 608 | BH17: 796
... A33: 원당2리 | B33: 118 | C33: 57 | D33: 61 | E33: 73 | F33: 항리 | G33: 56 | H33: 28 | I33: 28 | J33: 56 | K33: 무창3리 | L33: 45 | M33: 21 | N33: 24 | O33: 35 | P33: 화천3리 | Q33: 53 | R33: 24 | S33: 29 | T33: 33 | U33: 청도읍 | V33: 11492 | W33: 5642 | X33: 5850 | Y33: 6114 | Z33: 덕곡면 | AA33: 1434 | AB33: 733 | AC33: 701 | AD33: 896 | AE33: 금산3리 | AF33: 201 | AG33: 108 | AH33: 93 | AI33: 99 | AJ33: 석전3리 | AK33: 2033 | AL33: 1002 | AM33: 1031 | AN33: 937 | AO33: 생천리 | AP33: 277 | AQ33: 138 | AR33: 139 | AS33: 142 | AT33: 물야면 | AU33: 2935 | AV33: 1509 | AW33: 1426 | AX33: 1716 | AY33: 대흥리 | AZ33: 90 | BA33: 50 | BB33: 40 | BC33: 66 | BD33: 현포2리 | BE33: 126 | BF33: 72 | BG33: 54 | BH33: 82
A34: 원당3리 | B34: 163 | C34: 106 | D34: 57 | E34: 87 | F34: 부남면 | G34: 2387 | H34: 1193 | I34: 1194 | J34: 1432 | K34: 양구리 | L34: 43 | M34: 25 | N34: 18 | O34: 25 | P34: 강구면 | Q34: 5827 | R34: 2750 | S34: 3077 | T34: 3397 | U34: 고수1리 | V34: 1380 | W34: 663 | X34: 717 | Y34: 636 | Z34: 가륜1리 | AA34: 81 | AB34: 42 | AC34: 39 | AD34: 43 | AE34: 예산1리 | AF34: 463 | AG34: 249 | AH34: 214 | AI34: 247 | AJ34: 석전4리 | AK34: 675 | AL34: 338 | AM34: 337 | AN34: 427 | AO34: 용산1리 | AP34: 36 | AQ34: 19 | AR34: 17 | AS34: 27 | AT34: 오록1리 | AU34: 97 | AV34: 53 | AW34: 44 | AX34: 67 | AY34: 평해읍 | AZ34: 2551 | BA34: 1214 | BB34: 1337 | BC34: 1590
A35: 철파리 | B35: 357 | C35: 182 | D35: 175 | E35: 233 | F35: 감연1리 | G35: 143 | H35: 61 | I35: 82 | J35: 86 | K35: 기산리 | L35: 59 | M35: 26 | N35: 33 | O35: 36 | P35: 강구1리 | Q35: 278 | R35: 135 | S35: 143 | T35: 150 | U35: 고수2리 | V35: 461 | W35: 215 | X35: 246 | Y35: 240 | Z35: 가륜2리 | AA35: 124 | AB35: 68 | AC35: 56 | AD35: 64 | AE35: 예산2리 | AF35: 266 | AG35: 143 | AH35: 123 | AI35: 138 | AJ35: 석전5리 | AK35: 545 | AL35: 262 | AM35: 283 | AN35: 263 | AO35: 용산2리 | AP35: 59 | AQ35: 31 | AR35: 28 | AS35: 35 | AT35: 오록2리 | AU35: 280 | AV35: 129 | AW35: 151 | AX35: 172 | AY35: 평해1리 | AZ35: 326 | BA35: 150 | BB35: 176 | BC35: 198
A36: 업1리 | B36: 142 | C36: 71 | D36: 71 | E36: 87 | F36: 감연2리 | G36: 132 | H36: 61 | I36: 71 | J36: 80 | K36: 입암면 | L36: 2012 | M36: 993 | N36: 1019 | O36: 1221 | P36: 강구2리 | Q36: 183 | R36: 86 | S36: 97 | T36: 108 | U36: 고수3리 | V36: 768 | W36: 344 | X36: 424 | Y36: 395 | Z36: 원송리 | AA36: 111 | AB36: 55 | AC36: 56 | AD36: 77 | AE36: 예산3리 | AF36: 451 | AG36: 225 | AH36: 226 | AI36: 257 | AJ36: 석전6리 | AK36: 403 | AL36: 203 | AM36: 200 | AN36: 183 | AO36: 용문면 | AP36: 2198 | AQ36: 1123 | AR36: 1075 | AS36: 1338 | AT36: 오록3리 | AU36: 99 | AV36: 45 | AW36: 54 | AX36: 53 | AY36: 평해2리 | AZ36: 228 | BA36: 129 | BB36: 99 | BC36: 131
A37: 업2리 | B37: 71 | C37: 37 | D37: 34 | E37: 44 | F37: 감연3리 | G37: 79 | H37: 44 | I37: 35 | J37: 47 | K37: 신구1리 | L37: 324 | M37: 149 | N37: 175 | O37: 178 | P37: 강구3리 | Q37: 85 | R37: 42 | S37: 43 | T37: 52 | U37: 고수4리 | V37: 625 | W37: 365 | X37: 260 | Y37: 320 | Z37: 노1리 | AA37: 99 | AB37: 44 | AC37: 55 | AD37: 73 | AE37: 예산4리 | AF37: 837 | AG37: 399 | AH37: 438 | AI37: 376 | AJ37: 석전7리 | AK37: 485 | AL37: 232 | AM37: 253 | AN37: 190 | AO37: 상금곡1리 | AP37: 114 | AQ37: 50 | AR37: 64 | AS37: 66 | AT37: 오록4리 | AU37: 73 | AV37: 39 | AW37: 34 | AX37: 35 | AY37: 평해3리 | AZ37: 272 | BA37: 133 | BB37: 139 | BC37: 160
A38: 단촌면 | B38: 1886 | C38: 941 | D38: 945 | E38: 1168 | F38: 대전1리 | G38: 344 | H38: 164 | I38: 180 | J38: 206 | K38: 신구2리 | L38: 126 | M38: 59 | N38: 67 | O38: 75 | P38: 강구4리 | Q38: 228 | R38: 104 | S38: 124 | T38: 133 | U38: 고수5리 | V38: 608 | W38: 278 | X38: 330 | Y38: 308 | Z38: 노2리 | AA38: 54 | AB38: 34 | AC38: 20 | AD38: 35 | AE38: 백전1리 | AF38: 180 | AG38: 103 | AH38: 77 | AI38: 92 | AJ38: 석전8리 | AK38: 1140 | AL38: 562 | AM38: 578 | AN38: 482 | AO38: 상금곡2리 | AP38: 231 | AQ38: 111 | AR38: 120 | AS38: 131 | AT38: 가평1리 | AU38: 181 | AV38: 91 | AW38: 90 | AX38: 106 | AY38: 학곡1리 | AZ38: 76 | BA38: 35 | BB38: 41 | BC38: 48
A39: 방하리 | B39: 175 | C39: 91 | D39: 84 | E39: 113 | F39: 대전2리 | G39: 190 | H39: 102 | I39: 88 | J39: 111 | K39: 양항리 | L39: 60 | M39: 30 | N39: 30 | O39: 42 | P39: 오포1리 | Q39: 741 | R39: 351 | S39: 390 | T39: 431 | U39: 고수6리 | V39: 1128 | W39: 534 | X39: 594 | Y39: 588 | Z39: 백1리 | AA39: 63 | AB39: 35 | AC39: 28 | AD39: 45 | AE39: 백전2리 | AF39: 2023 | AG39: 1025 | AH39: 998 | AI39: 805 | AJ39: 석전9리 | AK39: 236 | AL39: 118 | AM39: 118 | AN39: 112 | AO39: 상금곡3리 | AP39: 142 | AQ39: 71 | AR39: 71 | AS39: 76 | AT39: 가평2리 | AU39: 79 | AV39: 38 | AW39: 41 | AX39: 45 | AY39: 학곡2리 | AZ39: 118 | BA39: 60 | BB39: 58 | BC39: 73
A40: 장림리 | B40: 147 | C40: 75 | D40: 72 | E40: 100 | F40: 대전3리 | G40: 78 | H40: 38 | I40: 40 | J40: 47 | K40: 연당1리 | L40: 48 | M40: 25 | N40: 23 | O40: 37 | P40: 오포2리 | Q40: 1136 | R40: 515 | S40: 621 | T40: 621 | U40: 고수7리 | V40: 690 | W40: 316 | X40: 374 | Y40: 354 | Z40: 백2리 | AA40: 55 | AB40: 31 | AC40: 24 | AD40: 36 | AE40: 용산1리 | AF40: 244 | AG40: 124 | AH40: 120 | AI40: 131 | AJ40: 석전10리 | AK40: 836 | AL40: 411 | AM40: 425 | AN40: 489 | AO40: 상금곡4리 | AP40: 131 | AQ40: 68 | AR40: 63 | AS40: 70 | AT40: 개단1리 | AU40: 151 | AV40: 86 | AW40: 65 | AX40: 77 | AY40: 삼달1리 | AZ40: 112 | BA40: 45 | BB40: 67 | BC40: 69
A41: 세촌1리 | B41: 197 | C41: 102 | D41: 95 | E41: 117 | F41: 홍원1리 | G41: 101 | H41: 54 | I41: 47 | J41: 59 | K41: 연당2리 | L41: 64 | M41: 37 | N41: 27 | O41: 41 | P41: 오포3리 | Q41: 622 | R41: 279 | S41: 343 | T41: 376 | U41: 고수8리 | V41: 934 | W41: 470 | X41: 464 | Y41: 482 | Z41: 옥계리 | AA41: 132 | AB41: 59 | AC41: 73 | AD41: 79 | AE41: 용산2리 | AF41: 136 | AG41: 64 | AH41: 72 | AI41: 67 | AJ41: 석전11리 | AK41: 696 | AL41: 337 | AM41: 359 | AN41: 271 | AO41: 하금곡1리 | AP41: 76 | AQ41: 42 | AR41: 34 | AS41: 45 | AT41: 개단2리 | AU41: 113 | AV41: 55 | AW41: 58 | AX41: 70 | AY41: 삼달2리 | AZ41: 69 | BA41: 33 | BB41: 36 | BC41: 44
A42: 세촌2리 | B42: 110 | C42: 45 | D42: 65 | E42: 71 | F42: 홍원2리 | G42: 81 | H42: 39 | I42: 42 | J42: 60 | K42: 금학리 | L42: 66 | M42: 34 | N42: 32 | O42: 43 | P42: 삼사리 | Q42: 610 | R42: 300 | S42: 310 | T42: 375 | U42: 송읍리 | V42: 202 | W42: 102 | X42: 100 | Y42: 124 | Z42: 용흥리 | AA42: 101 | AB42: 58 | AC42: 43 | AD42: 67 | AE42: 선남면 | AF42: 6091 | AG42: 3344 | AH42: 2747 | AI42: 3581 | AJ42: 매원1리 | AK42: 167 | AL42: 89 | AM42: 78 | AN42: 85 | AO42: 하금곡2리 | AP42: 74 | AQ42: 38 | AR42: 36 | AS42: 40 | AT42: 개단3리 | AU42: 158 | AV42: 85 | AW42: 73 | AX42: 88 | AY42: 오곡1리 | AZ42: 84 | BA42: 40 | BB42: 44 | BC42: 51
A43: 하화1리 | B43: 124 | C43: 63 | D43: 61 | E43: 78 | F43: 하속1리 | G43: 92 | H43: 50 | I43: 42 | J43: 62 | K43: 대천리 | L43: 123 | M43: 64 | N43: 59 | O43: 74 | P43: 화전1리 | Q43: 340 | R43: 172 | S43: 168 | T43: 179 | U43: 무등리 | V43: 228 | W43: 112 | X43: 116 | Y43: 132 | Z43: 본리1리 | AA43: 109 | AB43: 53 | AC43: 56 | AD43: 65 | AE43: 용신1리 | AF43: 257 | AG43: 136 | AH43: 121 | AI43: 131 | AJ43: 매원2리 | AK43: 247 | AL43: 138 | AM43: 109 | AN43: 116 | AO43: 성현리 | AP43: 115 | AQ43: 56 | AR43: 59 | AS43: 71 | AT43: 개단4리 | AU43: 152 | AV43: 81 | AW43: 71 | AX43: 84 | AY43: 오곡2리 | AZ43: 98 | BA43: 49 | BB43: 49 | BC43: 61
A44: 하화2리 | B44: 255 | C44: 123 | D44: 132 | E44: 156 | F44: 하속2리 | G44: 65 | H44: 36 | I44: 29 | J44: 39 | K44: 신사1리 | L44: 81 | M44: 41 | N44: 40 | O44: 46 | P44: 화전2리 | Q44: 47 | R44: 21 | S44: 26 | T44: 36 | U44: 덕암1리 | V44: 159 | W44: 77 | X44: 82 | Y44: 90 | Z44: 본리2리 | AA44: 66 | AB44: 35 | AC44: 31 | AD44: 41 | AE44: 용신2리 | AF44: 219 | AG44: 121 | AH44: 98 | AI44: 135 | AJ44: 매원3리 | AK44: 49 | AL44: 25 | AM44: 24 | AN44: 27 | AO44: 덕신리 | AP44: 96 | AQ44: 51 | AR44: 45 | AS44: 58 | AT44: 개단5리 | AU44: 58 | AV44: 36 | AW44: 22 | AX44: 35 | AY44: 월송1리 | AZ44: 244 | BA44: 116 | BB44: 128 | BC44: 159
A45: 상화1리 | B45: 58 | C45: 28 | D45: 30 | E45: 36 | F45: 구천리 | G45: 247 | H45: 123 | I45: 124 | J45: 139 | K45: 신사2리 | L45: 112 | M45: 56 | N45: 56 | O45: 66 | P45: 상직1리 | Q45: 27 | R45: 16 | S45: 11 | T45: 16 | U45: 덕암2리 | V45: 100 | W45: 44 | X45: 56 | Y45: 64 | Z45: 예리 | AA45: 169 | AB45: 88 | AC45: 81 | AD45: 99 | AE45: 용신3리 | AF45: 75 | AG45: 42 | AH45: 33 | AI45: 49 | AJ45: 봉계리 | AK45: 136 | AL45: 73 | AM45: 63 | AN45: 83 | AO45: 방송리 | AP45: 64 | AQ45: 34 | AR45: 30 | AS45: 46 | AT45: 오전1리 | AU45: 171 | AV45: 93 | AW45: 78 | AX45: 92 | AY45: 월송2리 | AZ45: 72 | BA45: 31 | BB45: 41 | BC45: 47
A46: 상화2리 | B46: 59 | C46: 29 | D46: 30 | E46: 36 | F46: 화장리 | G46: 165 | H46: 85 | I46: 80 | J46: 103 | K46: 산해1리 | L46: 109 | M46: 46 | N46: 63 | O46: 68 | P46: 상직2리 | Q46: 35 | R46: 18 | S46: 17 | T46: 24 | U46: 내리 | V46: 138 | W46: 66 | X46: 72 | Y46: 80 | Z46: 반성1리 | AA46: 93 | AB46: 50 | AC46: 43 | AD46: 56 | AE46: 도흥1리 | AF46: 276 | AG46: 157 | AH46: 119 | AI46: 158 | AJ46: 삼청1리 | AK46: 185 | AL46: 90 | AM46: 95 | AN46: 93 | AO46: 노사1리 | AP46: 49 | AQ46: 23 | AR46: 26 | AS46: 32 | AT46: 오전2리 | AU46: 161 | AV46: 76 | AW46: 85 | AX46: 105 | AY46: 월송3리 | AZ46: 227 | BA46: 106 | BB46: 121 | BC46: 140
A47: 관덕1리 | B47: 71 | C47: 39 | D47: 32 | E47: 38 | F47: 이현리 | G47: 145 | H47: 68 | I47: 77 | J47: 84 | K47: 산해2리 | L47: 112 | M47: 49 | N47: 63 | O47: 60 | P47: 상직3리 | Q47: 38 | R47: 20 | S47: 18 | T47: 29 | U47: 안인리 | V47: 198 | W47: 99 | X47: 99 | Y47: 108 | Z47: 반성2리 | AA47: 80 | AB47: 39 | AC47: 41 | AD47: 49 | AE47: 도흥2리 | AF47: 155 | AG47: 84 | AH47: 71 | AI47: 86 | AJ47: 삼청2리 | AK47: 512 | AL47: 278 | AM47: 234 | AN47: 289 | AO47: 노사2리 | AP47: 16 | AQ47: 4 | AR47: 12 | AS47: 12 | AT47: 압동1리 | AU47: 78 | AV47: 37 | AW47: 41 | AX47: 55 | AY47: 직산1리 | AZ47: 98 | BA47: 40 | BB47: 58 | BC47: 66
A48: 관덕2리 | B48: 96 | C48: 42 | D48: 54 | E48: 56 | F48: 중기1리 | G48: 133 | H48: 71 | I48: 62 | J48: 72 | K48: 산해3리 | L48: 121 | M48: 67 | N48: 54 | O48: 76 | P48: 원직1리 | Q48: 92 | R48: 46 | S48: 46 | T48: 60 | U48: 운산1리 | V48: 84 | W48: 37 | X48: 47 | Y48: 44 | Z48: 후암1리 | AA48: 59 | AB48: 28 | AC48: 31 | AD48: 36 | AE48: 도흥3리 | AF48: 331 | AG48: 165 | AH48: 166 | AI48: 174 | AJ48: 삼청3리 | AK48: 68 | AL48: 31 | AM48: 37 | AN48: 46 | AO48: 구계리 | AP48: 63 | AQ48: 35 | AR48: 28 | AS48: 45 | AT48: 압동2리 | AU48: 61 | AV48: 35 | AW48: 26 | AX48: 38 | AY48: 직산2리 | AZ48: 224 | BA48: 110 | BB48: 114 | BC48: 138
... A55: 황용1리 | B55: 63 | C55: 31 | D55: 32 | E55: 43 | F55: 거성리 | G55: 270 | H55: 141 | I55: 129 | J55: 162 | K55: 흥구리 | L55: 118 | M55: 62 | N55: 56 | O55: 73 | P55: 금진1리 | Q55: 199 | R55: 88 | S55: 111 | T55: 121 | U55: 구미리 | V55: 118 | W55: 50 | X55: 68 | Y55: 61 | Z55: 신간1리 | AA55: 99 | AB55: 53 | AC55: 46 | AD55: 66 | AE55: 동암2리 | AF55: 136 | AG55: 76 | AH55: 60 | AI55: 87 | AJ55: 아곡리 | AK55: 338 | AL55: 179 | AM55: 159 | AN55: 196 | AO55: 내지2리 | AP55: 40 | AQ55: 21 | AR55: 19 | AS55: 29 | AT55: 북지2리 | AU55: 159 | AV55: 84 | AW55: 75 | AX55: 97 | AY55: 나곡1리 | AZ55: 364 | BA55: 186 | BB55: 178 | BC55: 183
A56: 황용2리 | B56: 53 | C56: 26 | D56: 27 | E56: 31 | F56: 눌인1리 | G56: 51 | H56: 29 | I56: 22 | J56: 25 | K56: 청기면 | L56: 1618 | M56: 832 | N56: 786 | O56: 990 | P56: 금진2리 | Q56: 107 | R56: 46 | S56: 61 | T56: 71 | U56: 월곡1리 | V56: 314 | W56: 208 | X56: 106 | Y56: 131 | Z56: 신간2리 | AA56: 67 | AB56: 37 | AC56: 30 | AD56: 48 | AE56: 유서1리 | AF56: 121 | AG56: 68 | AH56: 53 | AI56: 70 | AJ56: 북삼읍 | AK56: 23924 | AL56: 12517 | AM56: 11407 | AN56: 10897 | AO56: 원류리 | AP56: 121 | AQ56: 65 | AR56: 56 | AS56: 80 | AT56: 북지3리 | AU56: 105 | AV56: 51 | AW56: 54 | AX56: 57 | AY56: 나곡2리 | AZ56: 103 | BA56: 57 | BB56: 46 | BC56: 59
A57: 구암1리 | B57: 30 | C57: 14 | D57: 16 | E57: 23 | F57: 눌인2리 | G57: 100 | H57: 49 | I57: 51 | J57: 60 | K57: 저리 | L57: 88 | M57: 40 | N57: 48 | O57: 55 | P57: 남정면 | Q57: 2261 | R57: 1101 | S57: 1160 | T57: 1444 | U57: 월곡2리 | V57: 76 | W57: 37 | X57: 39 | Y57: 46 | Z57: 법리 | AA57: 93 | AB57: 51 | AC57: 42 | AD57: 54 | AE57: 유서2리 | AF57: 107 | AG57: 62 | AH57: 45 | AI57: 62 | AJ57: 율1리 | AK57: 145 | AL57: 68 | AM57: 77 | AN57: 84 | AO57: 선1리 | AP57: 36 | AQ57: 16 | AR57: 20 | AS57: 23 | AT57: 북지4리 | AU57: 137 | AV57: 69 | AW57: 68 | AX57: 73 | AY57: 나곡3리 | AZ57: 141 | BA57: 81 | BB57: 60 | BC57: 89
A58: 구암2리 | B58: 97 | C58: 49 | D58: 48 | E58: 63 | F58: 눌인3리 | G58: 86 | H58: 50 | I58: 36 | J58: 56 | K58: 상청1리 | L58: 98 | M58: 48 | N58: 50 | O58: 65 | P58: 장사리 | Q58: 438 | R58: 209 | S58: 229 | T58: 278 | U58: 원리 | V58: 185 | W58: 91 | X58: 94 | Y58: 111 | Z58: 유리 | AA58: 142 | AB58: 72 | AC58: 70 | AD58: 93 | AE58: 취곡1리 | AF58: 103 | AG58: 66 | AH58: 37 | AI58: 65 | AJ58: 율2리 | AK58: 420 | AL58: 230 | AM58: 190 | AN58: 212 | AO58: 선2리 | AP58: 50 | AQ58: 29 | AR58: 21 | AS58: 35 | AT58: 봉성면 | AU58: 1990 | AV58: 965 | AW58: 1025 | AX58: 1130 | AY58: 나곡4리 | AZ58: 94 | BA58: 42 | BB58: 52 | BC58: 58
A59: 명고1리 | B59: 54 | C59: 27 | D59: 27 | E59: 40 | F59: 월매리 | G59: 166 | H59: 77 | I59: 89 | J59: 102 | K59: 상청2리 | L59: 22 | M59: 13 | N59: 9 | O59: 16 | P59: 부경1리 | Q59: 76 | R59: 33 | S59: 43 | T59: 54 | U59: 거연리 | V59: 217 | W59: 113 | X59: 104 | Y59: 139 | Z59: 팔산리 | AA59: 106 | AB59: 62 | AC59: 44 | AD59: 73 | AE59: 취곡2리 | AF59: 94 | AG59: 47 | AH59: 47 | AI59: 54 | AJ59: 율3리 | AK59: 614 | AL59: 337 | AM59: 277 | AN59: 272 | AO59: 능천리 | AP59: 71 | AQ59: 40 | AR59: 31 | AS59: 46 | AT59: 봉성1리 | AU59: 167 | AV59: 77 | AW59: 90 | AX59: 97 | AY59: 나곡5리 | AZ59: 2905 | BA59: 1591 | BB59: 1314 | BC59: 1132
A60: 명고2리 | B60: 78 | C60: 42 | D60: 36 | E60: 54 | F60: 개일리 | G60: 246 | H60: 123 | I60: 123 | J60: 135 | K60: 구매1리 | L60: 51 | M60: 25 | N60: 26 | O60: 38 | P60: 부경2리 | Q60: 96 | R60: 48 | S60: 48 | T60: 63 | U60: 신도1리 | V60: 110 | W60: 54 | X60: 56 | Y60: 56 | Z60: 운산1리 | AA60: 137 | AB60: 65 | AC60: 72 | AD60: 80 | AE60: 신부1리 | AF60: 103 | AG60: 56 | AH60: 47 | AI60: 57 | AJ60: 어로1리 | AK60: 226 | AL60: 125 | AM60: 101 | AN60: 115 | AO60: 계곡리 | AP60: 104 | AQ60: 53 | AR60: 51 | AS60: 57 | AT60: 봉성2리 | AU60: 143 | AV60: 69 | AW60: 74 | AX60: 84 | AY60: 나곡6리 | AZ60: 34 | BA60: 21 | BB60: 13 | BC60: 23
A61: 윤암1리 | B61: 63 | C61: 33 | D61: 30 | E61: 37 | F61: 창양리 | G61: 277 | H61: 141 | I61: 136 | J61: 138 | K61: 구매2리 | L61: 48 | M61: 23 | N61: 25 | O61: 29 | P61: 회1리 | Q61: 55 | R61: 30 | S61: 25 | T61: 34 | U61: 신도2리 | V61: 160 | W61: 81 | X61: 79 | Y61: 83 | Z61: 운산2리 | AA61: 79 | AB61: 36 | AC61: 43 | AD61: 47 | AE61: 신부2리 | AF61: 184 | AG61: 107 | AH61: 77 | AI61: 111 | AJ61: 어로2리 | AK61: 146 | AL61: 77 | AM61: 69 | AN61: 84 | AO61: 대제리 | AP61: 92 | AQ61: 50 | AR61: 42 | AS61: 54 | AT61: 봉양1리 | AU61: 202 | AV61: 101 | AW61: 101 | AX61: 119 | AY61: 검성리 | AZ61: 77 | BA61: 40 | BB61: 37 | BC61: 48
A62: 윤암2리 | B62: 49 | C62: 23 | D62: 26 | E62: 33 | F62: 인지리 | G62: 196 | H62: 103 | I62: 93 | J62: 126 | K62: 청기1리 | L62: 202 | M62: 99 | N62: 103 | O62: 121 | P62: 회2리 | Q62: 43 | R62: 18 | S62: 25 | T62: 25 | U62: 상리 | V62: 143 | W62: 73 | X62: 70 | Y62: 79 | Z62: 월산1리 | AA62: 75 | AB62: 42 | AC62: 33 | AD62: 40 | AE62: 성원1리 | AF62: 144 | AG62: 81 | AH62: 63 | AI62: 85 | AJ62: 어로3리 | AK62: 614 | AL62: 330 | AM62: 284 | AN62: 323 | AO62: 하학리 | AP62: 129 | AQ62: 71 | AR62: 58 | AS62: 76 | AT62: 봉양2리 | AU62: 172 | AV62: 78 | AW62: 94 | AX62: 103 | AY62: 주인1리 | AZ62: 177 | BA62: 94 | BB62: 83 | BC62: 98
A63: 윤암3리 | B63: 83 | C63: 38 | D63: 45 | E63: 53 | F63: 현서면 | G63: 2447 | H63: 1224 | I63: 1223 | J63: 1437 | K63: 청기2리 | L63: 63 | M63: 34 | N63: 29 | O63: 36 | P63: 회3리 | Q63: 58 | R63: 29 | S63: 29 | T63: 39 | U63: 평양1리 | V63: 116 | W63: 67 | X63: 49 | Y63: 78 | Z63: 월산2리 | AA63: 144 | AB63: 67 | AC63: 77 | AD63: 83 | AE63: 성원2리 | AF63: 144 | AG63: 86 | AH63: 58 | AI63: 80 | AJ63: 보손1리 | AK63: 87 | AL63: 42 | AM63: 45 | AN63: 53 | AO63: 효자면 | AP63: 1171 | AQ63: 590 | AR63: 581 | AS63: 708 | AT63: 외삼1리 | AU63: 129 | AV63: 69 | AW63: 60 | AX63: 67 | AY63: 주인2리 | AZ63: 64 | BA63: 33 | BB63: 31 | BC63: 44
A64: 동변1리 | B64: 68 | C64: 35 | D64: 33 | E64: 40 | F64: 백자리 | G64: 149 | H64: 80 | I64: 69 | J64: 86 | K64: 정족1리 | L64: 92 | M64: 52 | N64: 40 | O64: 51 | P64: 양성리 | Q64: 149 | R64: 77 | S64: 72 | T64: 97 | U64: 평양2리 | V64: 106 | W64: 55 | X64: 51 | Y64: 63 | Z64: 화암1리 | AA64: 162 | AB64: 80 | AC64: 82 | AD64: 99 | AE64: 문방1리 | AF64: 92 | AG64: 46 | AH64: 46 | AI64: 58 | AJ64: 보손2리 | AK64: 255 | AL64: 135 | AM64: 120 | AN64: 149 | AO64: 도촌리 | AP64: 197 | AQ64: 97 | AR64: 100 | AS64: 111 | AT64: 외삼2리 | AU64: 82 | AV64: 48 | AW64: 34 | AX64: 52 | AY64: 주인3리 | AZ64: 37 | BA64: 16 | BB64: 21 | BC64: 25
A65: 동변2리 | B65: 108 | C65: 57 | D65: 51 | E65: 63 | F65: 수락리 | G65: 51 | H65: 29 | I65: 22 | J65: 33 | K65: 정족2리 | L65: 164 | M65: 81 | N65: 83 | O65: 99 | P65: 봉전1리 | Q65: 53 | R65: 24 | S65: 29 | T65: 29 | U65: 음지리 | V65: 113 | W65: 53 | X65: 60 | Y65: 69 | Z65: 화암2리 | AA65: 111 | AB65: 51 | AC65: 60 | AD65: 62 | AE65: 문방2리 | AF65: 110 | AG65: 57 | AH65: 53 | AI65: 68 | AJ65: 숭오1리 | AK65: 289 | AL65: 151 | AM65: 138 | AN65: 146 | AO65: 사곡리 | AP65: 114 | AQ65: 56 | AR65: 58 | AS65: 70 | AT65: 창평리 | AU65: 208 | AV65: 102 | AW65: 106 | AX65: 118 | AY65: 덕구1리 | AZ65: 110 | BA65: 55 | BB65: 55 | BC65: 70
A66: 동변3리 | B66: 89 | C66: 43 | D66: 46 | E66: 59 | F66: 무계1리 | G66: 31 | H66: 15 | I66: 16 | J66: 17 | K66: 토곡1리 | L66: 41 | M66: 23 | N66: 18 | O66: 27 | P66: 봉전2리 | Q66: 35 | R66: 20 | S66: 15 | T66: 25 | U66: 초현리 | V66: 96 | W66: 52 | X66: 44 | Y66: 57 | Z66: 성산면 | AA66: 2492 | AB66: 1357 | AC66: 1135 | AD66: 1479 | AE66: 문방3리 | AF66: 144 | AG66: 88 | AH66: 56 | AI66: 85 | AJ66: 숭오2리 | AK66: 164 | AL66: 80 | AM66: 84 | AN66: 92 | AO66: 명봉리 | AP66: 137 | AQ66: 74 | AR66: 63 | AS66: 79 | AT66: 동양리 | AU66: 225 | AV66: 105 | AW66: 120 | AX66: 131 | AY66: 덕구2리 | AZ66: 126 | BA66: 63 | BB66: 63 | BC66: 73
A67: 서변1리 | B67: 172 | C67: 79 | D67: 93 | E67: 114 | F67: 무계2리 | G67: 38 | H67: 23 | I67: 15 | J67: 29 | K67: 토곡2리 | L67: 20 | M67: 14 | N67: 6 | O67: 16 | P67: 쟁암리 | Q67: 54 | R67: 30 | S67: 24 | T67: 38 | U67: 유호1리 | V67: 261 | W67: 112 | X67: 149 | Y67: 180 | Z67: 어곡리 | AA67: 349 | AB67: 196 | AC67: 153 | AD67: 145 | AE67: 오도리 | AF67: 251 | AG67: 140 | AH67: 111 | AI67: 170 | AJ67: 숭오3리 | AK67: 1160 | AL67: 608 | AM67: 552 | AN67: 578 | AO67: 용두리 | AP67: 132 | AQ67: 73 | AR67: 59 | AS67: 90 | AT67: 금봉1리 | AU67: 253 | AV67: 118 | AW67: 135 | AX67: 130 | AY67: 상당리 | AZ67: 130 | BA67: 62 | BB67: 68 | BC67: 73
... A100: 음지리 | B100: 75 | C100: 34 | D100: 41 | E100: 47 | F100: 고와리 | G100: 82 | H100: 49 | I100: 33 | J100: 58 | K100: 수하2리 | L100: 91 | M100: 42 | N100: 49 | O100: 57 | P100: 지품면 | Q100: 1934 | R100: 951 | S100: 983 | T100: 1167 | U100: 성곡3리 | V100: 40 | W100: 24 | X100: 16 | Y100: 26 | Z100: 나정2리 | AA100: 116 | AB100: 69 | AC100: 47 | AD100: 69 | AE100: 죽전리 | AF100: 56 | AG100: 33 | AH100: 23 | AI100: 45 | AJ100: 중6리 | AK100: 5 | AL100: 4 | AM100: 1 | AN100: 5 | AO100: 천향2리 | AP100: 52 | AQ100: 25 | AR100: 27 | AS100: 31 | AT100: 서벽2리 | AU100: 256 | AV100: 134 | AW100: 122 | AX100: 134 | AY100: 산포3리 | AZ100: 121 | BA100: 59 | BB100: 62 | BC100: 78
A101: 매곡1리 | B101: 56 | C101: 25 | D101: 31 | E101: 39 | F101: 복1리 | G101: 124 | H101: 58 | I101: 66 | J101: 76 | K101: 수하3리 | L101: 63 | M101: 34 | N101: 29 | O101: 37 | P101: 삼화1리 | Q101: 103 | R101: 48 | S101: 55 | T101: 55 | U101: 수월리 | V101: 113 | W101: 51 | X101: 62 | Y101: 80 | Z101: 벌지1리 | AA101: 134 | AB101: 71 | AC101: 63 | AD101: 82 | AE101: 수륜면 | AF101: 3,201 | AG101: 1625 | AH101: 1576 | AI101: 2031 | AJ101: 중7리 | AK101: 1210 | AL101: 788 | AM101: 422 | AN101: 918 | AO101: 진평1리 | AP101: 53 | AQ101: 23 | AR101: 30 | AS101: 34 | AT101: 서벽3리 | AU101: 68 | AV101: 31 | AW101: 37 | AX101: 43 | AY101: 산포4리 | AZ101: 103 | BA101: 48 | BB101: 55 | BC101: 55
A102: 매곡2리 | B102: 59 | C102: 32 | D102: 27 | E102: 37 | F102: 복2리 | G102: 117 | H102: 60 | I102: 57 | J102: 71 | K102: 신암리 | L102: 108 | M102: 57 | N102: 51 | O102: 66 | P102: 삼화2리 | Q102: 104 | R102: 55 | S102: 49 | T102: 57 | U102: 화산1리 | V102: 110 | W102: 54 | X102: 56 | Y102: 66 | Z102: 벌지2리 | AA102: 152 | AB102: 87 | AC102: 65 | AD102: 90 | AE102: 백운1리 | AF102: 122 | AG102: 65 | AH102: 57 | AI102: 90 | AJ102: 중8리 | AK102: 989 | AL102: 651 | AM102: 338 | AN102: 773 | AO102: 진평2리 | AP102: 85 | AQ102: 42 | AR102: 43 | AS102: 45 | AT102: 서벽4리 | AU102: 139 | AV102: 66 | AW102: 73 | AX102: 69 | AY102: 기성면 | AZ102: 2365 | BA102: 1152 | BB102: 1213 | BC102: 1571
A103: 매곡3리 | B103: 59 | C103: 32 | D103: 27 | E103: 37 | F103: 덕성리 | G103: 168 | H103: 87 | I103: 81 | J103: 106 | K103: 죽파리 | L103: 98 | M103: 52 | N103: 46 | O103: 59 | P103: 오천1리 | Q103: 107 | R103: 50 | S103: 57 | T103: 67 | U103: 화산2리 | V103: 50 | W103: 21 | X103: 29 | Y103: 35 | Z103: 송곡1리 | AA103: 82 | AB103: 48 | AC103: 34 | AD103: 61 | AE103: 백운2리 | AF103: 300 | AG103: 144 | AH103: 156 | AI103: 219 | AJ103: 중9리 | AK103: 694 | AL103: 471 | AM103: 223 | AN103: 517 | AO103: 진평3리 | AP103: 40 | AQ103: 18 | AR103: 22 | AS103: 26 | AT103: 우구치리 | AU103: 68 | AV103: 33 | AW103: 35 | AX103: 41 | AY103: 척산1리 | AZ103: 44 | BA103: 22 | BB103: 22 | BC103: 33
A104: 공정1리 | B104: 25 | C104: 14 | D104: 11 | E104: 19 | F104: 성재리 | G104: 156 | H104: 85 | I104: 71 | J104: 91 | K104: 송하리 | L104: 108 | M104: 49 | N104: 59 | O104: 64 | P104: 오천2리 | Q104: 101 | R104: 52 | S104: 49 | T104: 53 | U104: 금곡리 | V104: 164 | W104: 79 | X104: 85 | Y104: 118 | Z104: 송곡2리 | AA104: 90 | AB104: 70 | AC104: 23 | AD104: 81 | AE104: 신파1리 | AF104: 277 | AG104: 139 | AH104: 138 | AI104: 182 | AJ104: 중10리 | AK104: 0 | AL104: 0 | AM104: 0 | AN104: 0 | AO104: 벌방리 | AP104: 143 | AQ104: 71 | AR104: 72 | AS104: 92 | AT104: 소로1리 | AU104: 392 | AV104: 196 | AW104: 196 | AX104: 237 | AY104: 척산2리 | AZ104: 178 | BA104: 90 | BB104: 88 | BC104: 121
A105: 공정2리 | B105: 34 | C105: 18 | D105: 16 | E105: 22 | F105: 파천면 | G105: 1694 | H105: 852 | I105: 842 | J105: 1020 | K105: 본신리 | L105: 79 | M105: 38 | N105: 41 | O105: 48 | P105: 신양리 | Q105: 128 | R105: 58 | S105: 70 | T105: 80 | U105: 안산1리 | V105: 155 | W105: 83 | X105: 72 | Y105: 93 | Z105: 개진면 | AA105: 1880 | AB105: 1029 | AC105: 851 | AD105: 1250 | AE105: 신파2리 | AF105: 164 | AG105: 84 | AH105: 80 | AI105: 70 | AJ105: 중11리 | AK105: 785 | AL105: 543 | AM105: 242 | AN105: 605 | AO105: 수한리 | AP105: 103 | AQ105: 54 | AR105: 49 | AS105: 58 | AT105: 소로2리 | AU105: 176 | AV105: 89 | AW105: 87 | AX105: 95 | AY105: 척산3리 | AZ105: 91 | BA105: 58 | BB105: 33 | BC105: 71
A106: 공정3리 | B106: 20 | C106: 10 | D106: 10 | E106: 15 | F106: 관1리 | G106: 135 | H106: 64 | I106: 71 | J106: 89 | K106: 석보면 | L106: 1930 | M106: 975 | N106: 955 | O106: 1167 | P106: 눌곡리 | Q106: 54 | R106: 31 | S106: 23 | T106: 38 | U106: 안산2리 | V106: 141 | W106: 74 | X106: 67 | Y106: 87 | Z106: 양전1리 | AA106: 161 | AB106: 86 | AC106: 75 | AD106: 94 | AE106: 적송1리 | AF106: 61 | AG106: 27 | AH106: 34 | AI106: 38 | AJ106: 중12리 | AK106: 1867 | AL106: 972 | AM106: 895 | AN106: 563 | AO106: 현내리 | AP106: 126 | AQ106: 75 | AR106: 51 | AS106: 79 | AT106: 소천면 | AU106: 2120 | AV106: 1095 | AW106: 1025 | AX106: 1349 | AY106: 기성리 | AZ106: 232 | BA106: 100 | BB106: 132 | BC106: 145
A107: 화전1리 | B107: 60 | C107: 25 | D107: 35 | E107: 44 | F107: 관2리 | G107: 102 | H107: 48 | I107: 54 | J107: 51 | K107: 원리1리 | L107: 219 | M107: 97 | N107: 122 | O107: 127 | P107: 용덕1리 | Q107: 33 | R107: 18 | S107: 15 | T107: 22 | U107: 흑석1리 | V107: 160 | W107: 78 | X107: 82 | Y107: 105 | Z107: 양전2리 | AA107: 68 | AB107: 38 | AC107: 30 | AD107: 42 | AE107: 적송2리 | AF107: 101 | AG107: 46 | AH107: 55 | AI107: 61 | AJ107: 중13리 | AK107: 761 | AL107: 496 | AM107: 265 | AN107: 572 | AO107: 증거리 | AP107: 60 | AQ107: 34 | AR107: 26 | AS107: 39 | AT107: 현동1리 | AU107: 216 | AV107: 107 | AW107: 109 | AX107: 147 | AY107: 사동1리 | AZ107: 111 | BA107: 57 | BB107: 54 | BC107: 74
A108: 화전2리 | B108: 61 | C108: 26 | D108: 35 | E108: 39 | F108: 중평리 | G108: 142 | H108: 71 | I108: 71 | J108: 84 | K108: 원리2리 | L108: 135 | M108: 61 | N108: 74 | O108: 70 | P108: 용덕2리 | Q108: 42 | R108: 20 | S108: 22 | T108: 27 | U108: 흑석2리 | V108: 135 | W108: 72 | X108: 63 | Y108: 82 | Z108: 반운리 | AA108: 154 | AB108: 89 | AC108: 65 | AD108: 103 | AE108: 봉양1리 | AF108: 85 | AG108: 44 | AH108: 41 | AI108: 57 | AJ108: 중14리 | AK108: 668 | AL108: 425 | AM108: 243 | AN108: 507 | AO108: 돈산리 | AP108: 76 | AQ108: 36 | AR108: 40 | AS108: 45 | AT108: 현동2리 | AU108: 108 | AV108: 61 | AW108: 47 | AX108: 74 | AY108: 사동2리 | AZ108: 92 | BA108: 39 | BB108: 53 | BC108: 58
A109: 화전3리 | B109: 58 | C109: 29 | D109: 29 | E109: 32 | F109: 덕천1리 | G109: 110 | H109: 55 | I109: 55 | J109: 63 | K109: 원리3리 | L109: 129 | M109: 66 | N109: 63 | O109: 75 | P109: 송천1리 | Q109: 39 | R109: 18 | S109: 21 | T109: 26 | U109: 월봉1리 | V109: 90 | W109: 48 | X109: 42 | Y109: 68 | Z109: 신안리 | AA109: 145 | AB109: 75 | AC109: 70 | AD109: 92 | AE109: 봉양2리 | AF109: 142 | AG109: 76 | AH109: 66 | AI109: 88 | AJ109: 중15리 | AK109: 589 | AL109: 382 | AM109: 207 | AN109: 427 | AO109: 유1리 | AP109: 168 | AQ109: 80 | AR109: 88 | AS109: 109 | AT109: 현동3리 | AU109: 136 | AV109: 83 | AW109: 53 | AX109: 87 | AY109: 사동3리 | AZ109: 102 | BA109: 51 | BB109: 51 | BC109: 64
A110: 신리리 | B110: 152 | C110: 73 | D110: 79 | E110: 92 | F110: 덕천2리 | G110: 66 | H110: 34 | I110: 32 | J110: 40 | K110: 지경리 | L110: 208 | M110: 114 | N110: 94 | O110: 125 | P110: 송천2리 | Q110: 54 | R110: 26 | S110: 28 | T110: 28 | U110: 월봉2리 | V110: 42 | W110: 22 | X110: 20 | Y110: 28 | Z110: 직1리 | AA110: 124 | AB110: 66 | AC110: 58 | AD110: 82 | AE110: 신정리 | AF110: 185 | AG110: 92 | AH110: 93 | AI110: 116 | AJ110: 남율1리 | AK110: 499 | AL110: 269 | AM110: 230 | AN110: 247 | AO110: 유2리 | AP110: 71 | AQ110: 37 | AR110: 34 | AS110: 44 | AT110: 현동4리 | AU110: 104 | AV110: 46 | AW110: 58 | AX110: 73 | AY110: 망양1리 | AZ110: 95 | BA110: 41 | BB110: 54 | BC110: 66
A111: 작승리 | B111: 130 | C111: 68 | D111: 62 | E111: 83 | F111: 덕천3리 | G111: 55 | H111: 26 | I111: 29 | J111: 34 | K111: 옥계1리 | L111: 91 | M111: 48 | N111: 43 | O111: 50 | P111: 낙평리 | Q111: 139 | R111: 66 | S111: 73 | T111: 88 | U111: 차산1리 | V111: 73 | W111: 39 | X111: 34 | Y111: 42 | Z111: 직2리 | AA111: 71 | AB111: 37 | AC111: 34 | AD111: 57 | AE111: 수성1리 | AF111: 193 | AG111: 98 | AH111: 95 | AI111: 116 | AJ111: 남율2리 | AK111: 682 | AL111: 436 | AM111: 246 | AN111: 482 | AO111: 미석1리 | AP111: 56 | AQ111: 27 | AR111: 29 | AS111: 37 | AT111: 고선1리 | AU111: 127 | AV111: 63 | AW111: 64 | AX111: 74 | AY111: 망양2리 | AZ111: 104 | BA111: 45 | BB111: 59 | BC111: 59
A112: 토현리 | B112: 114 | C112: 57 | D112: 57 | E112: 69 | F112: 신흥1리 | G112: 152 | H112: 87 | I112: 65 | J112: 90 | K112: 옥계2리 | L112: 55 | M112: 27 | N112: 28 | O112: 38 | P112: 신안리 | Q112: 244 | R112: 124 | S112: 120 | T112: 143 | U112: 차산2리 | V112: 142 | W112: 72 | X112: 70 | Y112: 94 | Z112: 개포1리 | AA112: 79 | AB112: 41 | AC112: 38 | AD112: 54 | AE112: 수성2리 | AF112: 37 | AG112: 19 | AH112: 18 | AI112: 24 | AJ112: 남율3리 | AK112: 977 | AL112: 479 | AM112: 498 | AN112: 418 | AO112: 미석2리 | AP112: 68 | AQ112: 35 | AR112: 33 | AS112: 43 | AT112: 고선2리 | AU112: 156 | AV112: 93 | AW112: 63 | AX112: 103 | AY112: 삼산1리 | AZ112: 46 | BA112: 26 | BB112: 20 | BC112: 31
A113: 춘산면 | B113: 1481 | C113: 755 | D113: 726 | E113: 837 | F113: 신흥2리 | G113: 26 | H113: 14 | I113: 12 | J113: 17 | K113: 소계리 | L113: 97 | M113: 48 | N113: 49 | O113: 66 | P113: 속곡리 | Q113: 43 | R113: 21 | S113: 22 | T113: 29 | U113: 덕양1리 | V113: 164 | W113: 86 | X113: 78 | Y113: 99 | Z113: 개포2리 | AA113: 59 | AB113: 39 | AC113: 20 | AD113: 46 | AE113: 송계1리 | AF113: 134 | AG113: 74 | AH113: 60 | AI113: 86 | AJ113: 남율4리 | AK113: 2379 | AL113: 1237 | AM113: 1142 | AN113: 944 | AO113: 미석3리 | AP113: 31 | AQ113: 13 | AR113: 18 | AS113: 18 | AT113: 임기1리 | AU113: 73 | AV113: 42 | AW113: 31 | AX113: 40 | AY113: 삼산2리 | AZ113: 48 | BA113: 27 | BB113: 21 | BC113: 38
A114: 금오1리 | B114: 91 | C114: 48 | D114: 43 | E114: 55 | F114: 지경리 | G114: 97 | H114: 47 | I114: 50 | J114: 62 | K114: 답곡1리 | L114: 59 | M114: 29 | N114: 30 | O114: 42 | P114: 율전리 | Q114: 67 | R114: 30 | S114: 37 | T114: 38 | U114: 덕양2리 | V114: 134 | W114: 75 | X114: 59 | Y114: 82 | Z114: 오사1리 | AA114: 84 | AB114: 41 | AC114: 43 | AD114: 64 | AE114: 송계2리 | AF114: 103 | AG114: 56 | AH114: 47 | AI114: 65 | AJ114: 남율5리 | AK114: 2671 | AL114: 1321 | AM114: 1350 | AN114: 959 | AO114: 대맥1리 | AP114: 65 | AQ114: 29 | AR114: 36 | AS114: 40 | AT114: 임기2리 | AU114: 197 | AV114: 95 | AW114: 102 | AX114: 132 | AY114: 방율리 | AZ114: 56 | BA114: 29 | BB114: 27 | BC114: 39
A115: 금오2리 | B115: 67 | C115: 33 | D115: 34 | E115: 42 | F115: 병부리 | G115: 71 | H115: 36 | I115: 35 | J115: 52 | K115: 답곡2리 | L115: 70 | M115: 36 | N115: 34 | O115: 51 | P115: 도계1리 | Q115: 39 | R115: 21 | S115: 18 | T115: 26 | U115: 각북면 | V115: 2292 | W115: 1156 | X115: 1136 | Y115: 1405 | Z115: 오사2리 | AA115: 73 | AB115: 43 | AC115: 30 | AD115: 49 | AE115: 수륜리 | AF115: 212 | AG115: 117 | AH115: 95 | AI115: 131 | AJ115: 남율6리 | AK115: 1557 | AL115: 778 | AM115: 779 | AN115: 487 | AO115: 대맥2리 | AP115: 61 | AQ115: 34 | AR115: 27 | AS115: 46 | AT115: 임기3리 | AU115: 87 | AV115: 44 | AW115: 43 | AX115: 49 | AY115: 이평1리 | AZ115: 33 | BA115: 17 | BB115: 16 | BC115: 19
A116: 신흥1리 | B116: 32 | C116: 20 | D116: 12 | E116: 22 | F116: 황목리 | G116: 73 | H116: 38 | I116: 35 | J116: 44 | K116: 신평리 | L116: 87 | M116: 46 | N116: 41 | O116: 53 | P116: 도계2리 | Q116: 39 | R116: 22 | S116: 17 | T116: 23 | U116: 명대1리 | V116: 65 | W116: 32 | X116: 33 | Y116: 45 | Z116: 구곡1리 | AA116: 91 | AB116: 52 | AC116: 39 | AD116: 62 | AE116: 성1리 | AF116: 97 | AG116: 47 | AH116: 50 | AI116: 58 | AJ116: 남율7리 | AK116: 1003 | AL116: 489 | AM116: 514 | AN116: 296 | AO116: 대맥3리 | AP116: 57 | AQ116: 27 | AR116: 30 | AS116: 35 | AT116: 두음리 | AU116: 202 | AV116: 98 | AW116: 104 | AX116: 109 | AY116: 이평2리 | AZ116: 22 | BA116: 11 | BB116: 11 | BC116: 16
A117: 신흥2리 | B117: 38 | C117: 19 | D117: 19 | E117: 23 | F117: 어천1리 | G117: 68 | H117: 36 | I117: 32 | J117: 44 | K117: 택전1리 | L117: 100 | M117: 57 | N117: 43 | O117: 43 | P117: 옥류리 | Q117: 35 | R117: 25 | S117: 10 | T117: 23 | U117: 명대2리 | V117: 106 | W117: 53 | X117: 53 | Y117: 60 | Z117: 구곡2리 | AA117: 53 | AB117: 28 | AC117: 25 | AD117: 34 | AE117: 성2리 | AF117: 61 | AG117: 32 | AH117: 29 | AI117: 35 | AJ117: 남율8리 | AK117: 1606 | AL117: 833 | AM117: 773 | AN117: 569 | AO117: 장산1리 | AP117: 81 | AQ117: 41 | AR117: 40 | AS117: 42 | AT117: 서천리 | AU117: 60 | AV117: 35 | AW117: 25 | AX117: 46 | AY117: 다천1리 | AZ117: 58 | BA117: 25 | BB117: 33 | BC117: 37
... A124: 대사2리 | B124: 30 | C124: 13 | D124: 17 | E124: 14 | F124: 진보면 | G124: 6209 | H124: 3161 | I124: 3048 | J124: 3644 | K124: 요원2리 | L124: 56 | M124: 30 | N124: 26 | O124: 32 | P124: 황장리 | Q124: 54 | R124: 29 | S124: 25 | T124: 33 | U124: 덕촌1리 | V124: 137 | W124: 70 | X124: 67 | Y124: 74 | Z124: 인안2리 | AA124: 53 | AB124: 29 | AC124: 24 | AD124: 37 | AE124: 보월1리 | AF124: 84 | AG124: 44 | AH124: 40 | AI124: 57 | AJ124: 반계리 | AK124: 189 | AL124: 95 | AM124: 94 | AN124: 106 | AO124: 신월2리 | AP124: 69 | AQ124: 35 | AR124: 34 | AS124: 40 | AT124: 석포면 | AU124: 1888 | AV124: 1093 | AW124: 795 | AX124: 1065 | AY124: 구산2리 | AZ124: 325 | BA124: 160 | BB124: 165 | BC124: 208
A125: 대사3리 | B125: 5 | C125: 3 | D125: 2 | E125: 4 | F125: 진안1리 | G125: 677 | H125: 315 | I125: 362 | J125: 395 | K125: 홍계리 | L125: 58 | M125: 29 | N125: 29 | O125: 37 | P125: 축산면 | Q125: 2431 | R125: 1143 | S125: 1288 | T125: 1482 | U125: 덕촌2리 | V125: 155 | W125: 77 | X125: 78 | Y125: 98 | Z125: 우곡면 | AA125: 1547 | AB125: 811 | AC125: 736 | AD125: 920 | AE125: 보월2리 | AF125: 47 | AG125: 25 | AH125: 22 | AI125: 35 | AJ125: 망정1리 | AK125: 167 | AL125: 85 | AM125: 82 | AN125: 92 | AO125: 승본리 | AP125: 114 | AQ125: 55 | AR125: 59 | AS125: 65 | AT125: 석포1리 | AU125: 919 | AV125: 555 | AW125: 364 | AX125: 449 | AY125: 봉산1리 | AZ125: 130 | BA125: 56 | BB125: 74 | BC125: 90
A126: 금천1리 | B126: 56 | C126: 32 | D126: 24 | E126: 27 | F126: 진안2리 | G126: 332 | H126: 158 | I126: 174 | J126: 192 | K126: 주남리 | L126: 155 | M126: 80 | N126: 75 | O126: 94 | P126: 축산1리 | Q126: 718 | R126: 327 | S126: 391 | T126: 454 | U126: 지슬1리 | V126: 120 | W126: 58 | X126: 62 | Y126: 76 | Z126: 도진리 | AA126: 144 | AB126: 80 | AC126: 64 | AD126: 94 | AE126: 작은리 | AF126: 122 | AG126: 62 | AH126: 60 | AI126: 82 | AJ126: 망정2리 | AK126: 51 | AL126: 29 | AM126: 22 | AN126: 33 | AO126: 간방1리 | AP126: 70 | AQ126: 36 | AR126: 34 | AS126: 43 | AT126: 석포2리 | AU126: 299 | AV126: 159 | AW126: 140 | AX126: 186 | AY126: 봉산2리 | AZ126: 74 | BA126: 37 | BB126: 37 | BC126: 60
A127: 금천2리 | B127: 150 | C127: 84 | D127: 66 | E127: 91 | F127: 진안3리 | G127: 368 | H127: 165 | I127: 203 | J127: 220 | P127: 축산2리 | Q127: 75 | R127: 34 | S127: 41 | T127: 50 | U127: 지슬2리 | V127: 203 | W127: 98 | X127: 105 | Y127: 127 | Z127: 예곡리 | AA127: 143 | AB127: 88 | AC127: 55 | AD127: 50 | AE127: 가천면 | AF127: 1985 | AG127: 1003 | AH127: 982 | AI127: 1260 | AJ127: 도개1리 | AK127: 101 | AL127: 55 | AM127: 46 | AN127: 67 | AO127: 간방2리 | AP127: 80 | AQ127: 43 | AR127: 37 | AS127: 51 | AT127: 석포3리 | AU127: 146 | AV127: 76 | AW127: 70 | AX127: 93 | AY127: 온정면 | AZ127: 1592 | BA127: 777 | BB127: 815 | BC127: 972
A128: 빙계1리 | B128: 146 | C128: 75 | D128: 71 | E128: 82 | F128: 진안4리 | G128: 301 | H128: 152 | I128: 149 | J128: 175 | P128: 축산3리 | Q128: 278 | R128: 134 | S128: 144 | T128: 167 | U128: 금천리 | V128: 161 | W128: 88 | X128: 73 | Y128: 103 | Z128: 답곡1리 | AA128: 161 | AB128: 76 | AC128: 85 | AD128: 83 | AE128: 창천1리 | AF128: 252 | AG128: 121 | AH128: 131 | AI128: 154 | AJ128: 도개2리 | AK128: 177 | AL128: 91 | AM128: 86 | AN128: 103 | AO128: 간방3리 | AP128: 61 | AQ128: 29 | AR128: 32 | AS128: 37 | AT128: 석포4리 | AU128: 205 | AV128: 135 | AW128: 70 | AX128: 153 | AY128: 소태1리 | AZ128: 295 | BA128: 151 | BB128: 144 | BC128: 173
A129: 빙계2리 | B129: 63 | C129: 29 | D129: 34 | E129: 35 | F129: 이촌1리 | G129: 1341 | H129: 660 | I129: 681 | J129: 702 | P129: 경정1리 | Q129: 230 | R129: 107 | S129: 123 | T129: 148 | U129: 오산1리 | V129: 222 | W129: 115 | X129: 107 | Y129: 135 | Z129: 답곡2리 | AA129: 67 | AB129: 35 | AC129: 32 | AD129: 37 | AE129: 창천2리 | AF129: 343 | AG129: 163 | AH129: 180 | AI129: 201 | AJ129: 지천면 | AK129: 3886 | AL129: 2106 | AM129: 1780 | AN129: 2369 | AO129: 옥천리 | AP129: 44 | AQ129: 21 | AR129: 23 | AS129: 30 | AT129: 대현1리 | AU129: 81 | AV129: 43 | AW129: 38 | AX129: 45 | AY129: 소태2리 | AZ129: 147 | BA129: 78 | BB129: 69 | BC129: 76
A130: 빙계3리 | B130: 22 | C130: 7 | D130: 15 | E130: 15 | F130: 이촌2리 | G130: 169 | H130: 86 | I130: 83 | J130: 98 | P130: 경정2리 | Q130: 158 | R130: 79 | S130: 79 | T130: 79 | U130: 오산2리 | V130: 212 | W130: 111 | X130: 101 | Y130: 151 | Z130: 봉산1리 | AA130: 159 | AB130: 76 | AC130: 83 | AD130: 98 | AE130: 창천3리 | AF130: 199 | AG130: 97 | AH130: 102 | AI130: 117 | AJ130: 신1리 | AK130: 530 | AL130: 278 | AM130: 252 | AN130: 311 | AO130: 독양1리 | AP130: 87 | AQ130: 41 | AR130: 46 | AS130: 48 | AT130: 대현2리 | AU130: 168 | AV130: 87 | AW130: 81 | AX130: 88 | AY130: 소태3리 | AZ130: 20 | BA130: 9 | BB130: 11 | BC130: 14
A131: 사미리 | B131: 141 | C131: 68 | D131: 73 | E131: 74 | F131: 후평1리 | G131: 92 | H131: 57 | I131: 35 | J131: 48 | P131: 경정3리 | Q131: 100 | R131: 48 | S131: 52 | T131: 60 | U131: 이서면 | V131: 4505 | W131: 2191 | X131: 2314 | Y131: 2573 | Z131: 봉산2리 | AA131: 41 | AB131: 16 | AC131: 25 | AD131: 23 | AE131: 화죽1리 | AF131: 124 | AG131: 64 | AH131: 60 | AI131: 77 | AJ131: 신2리 | AK131: 197 | AL131: 111 | AM131: 86 | AN131: 118 | AO131: 독양2리 | AP131: 72 | AQ131: 35 | AR131: 37 | AS131: 50 | AT131: 승부리 | AU131: 70 | AV131: 38 | AW131: 32 | AX131: 51 | AY131: 온정1리 | AZ131: 166 | BA131: 79 | BB131: 87 | BC131: 94
A132: 효선1리 | B132: 95 | C132: 50 | D132: 45 | E132: 54 | F132: 후평2리 | G132: 62 | H132: 38 | I132: 24 | J132: 36 | P132: 고곡1리 | Q132: 91 | R132: 39 | S132: 52 | T132: 54 | U132: 칠엽1리 | V132: 41 | W132: 21 | X132: 20 | Y132: 28 | Z132: 포1리 | AA132: 128 | AB132: 66 | AC132: 62 | AD132: 79 | AE132: 화죽2리 | AF132: 66 | AG132: 35 | AH132: 31 | AI132: 47 | AJ132: 신3리 | AK132: 184 | AL132: 98 | AM132: 86 | AN132: 108 | AO132: 기곡1리 | AP132: 66 | AQ132: 28 | AR132: 38 | AS132: 38 | AT132: 재산면 | AU132: 1416 | AV132: 718 | AW132: 698 | AX132: 857 | AY132: 온정2리 | AZ132: 42 | BA132: 18 | BB132: 24 | BC132: 23
A133: 효선2리 | B133: 113 | C133: 56 | D133: 57 | E133: 55 | F133: 합강리 | G133: 23 | H133: 13 | I133: 10 | J133: 18 | P133: 고곡2리 | Q133: 66 | R133: 34 | S133: 32 | T133: 43 | U133: 칠엽2리 | V133: 70 | W133: 28 | X133: 42 | Y133: 45 | Z133: 포2리 | AA133: 47 | AB133: 23 | AC133: 24 | AD133: 35 | AE133: 동원1리 | AF133: 97 | AG133: 47 | AH133: 50 | AI133: 60 | AJ133: 신4리 | AK133: 134 | AL133: 70 | AM133: 64 | AN133: 84 | AO133: 기곡2리 | AP133: 37 | AQ133: 21 | AR133: 16 | AS133: 21 | AT133: 현동1리 | AU133: 187 | AV133: 92 | AW133: 95 | AX133: 109 | AY133: 조금1리 | AZ133: 61 | BA133: 34 | BB133: 27 | BC133: 45
A134: 가음면 | B134: 1476 | C134: 759 | D134: 717 | E134: 902 | F134: 기곡리 | G134: 53 | H134: 28 | I134: 25 | J134: 38 | P134: 도곡1리 | Q134: 118 | R134: 53 | S134: 65 | T134: 76 | U134: 대전1리 | V134: 118 | W134: 56 | X134: 62 | Y134: 69 | Z134: 객기리 | AA134: 105 | AB134: 60 | AC134: 45 | AD134: 73 | AE134: 동원2리 | AF134: 68 | AG134: 36 | AH134: 32 | AI134: 43 | AJ134: 송정리 | AK134: 241 | AL134: 139 | AM134: 102 | AN134: 141 | AO134: 우래1리 | AP134: 81 | AQ134: 41 | AR134: 40 | AS134: 38 | AT134: 현동2리 | AU134: 208 | AV134: 98 | AW134: 110 | AX134: 124 | AY134: 조금2리 | AZ134: 40 | BA134: 19 | BB134: 21 | BC134: 27
A135: 현리1리 | B135: 135 | C135: 70 | D135: 65 | E135: 73 | F135: 추현리 | G135: 77 | H135: 43 | I135: 34 | J135: 53 | P135: 도곡2리 | Q135: 96 | R135: 43 | S135: 53 | T135: 55 | U135: 대전2리 | V135: 76 | W135: 32 | X135: 44 | Y135: 43 | Z135: 연리 | AA135: 89 | AB135: 47 | AC135: 42 | AD135: 50 | AE135: 마수리 | AF135: 74 | AG135: 41 | AH135: 33 | AI135: 55 | AJ135: 금호리 | AK135: 316 | AL135: 186 | AM135: 130 | AN135: 203 | AO135: 우래2리 | AP135: 66 | AQ135: 36 | AR135: 30 | AS135: 32 | AT135: 현동3리 | AU135: 129 | AV135: 70 | AW135: 59 | AX135: 75 | AY135: 덕산1리 | AZ135: 45 | BA135: 24 | BB135: 21 | BC135: 34
A136: 현리2리 | B136: 107 | C136: 57 | D136: 50 | E136: 64 | F136: 부곡리 | G136: 105 | H136: 52 | I136: 53 | J136: 69 | P136: 상원리 | Q136: 140 | R136: 68 | S136: 72 | T136: 80 | U136: 가금1리 | V136: 103 | W136: 56 | X136: 47 | Y136: 59 | Z136: 월오리 | AA136: 40 | AB136: 19 | AC136: 21 | AD136: 22 | AE136: 법전1리 | AF136: 80 | AG136: 43 | AH136: 37 | AI136: 56 | AJ136: 연화리 | AK136: 171 | AL136: 92 | AM136: 79 | AN136: 101 | AO136: 산성리 | AP136: 95 | AQ136: 49 | AR136: 46 | AS136: 61 | AT136: 남면리 | AU136: 129 | AV136: 67 | AW136: 62 | AX136: 78 | AY136: 덕산2리 | AZ136: 24 | BA136: 10 | BB136: 14 | BC136: 16
A137: 순호1리 | B137: 40 | C137: 19 | D137: 21 | E137: 24 | F137: 세장리 | G137: 113 | H137: 56 | I137: 57 | J137: 64 | P137: 부곡리 | Q137: 79 | R137: 38 | S137: 41 | T137: 47 | U137: 가금2리 | V137: 80 | W137: 38 | X137: 42 | Y137: 49 | Z137: 대곡1리 | AA137: 55 | AB137: 29 | AC137: 26 | AD137: 35 | AE137: 법전2리 | AF137: 95 | AG137: 48 | AH137: 47 | AI137: 55 | AJ137: 달서리 | AK137: 163 | AL137: 89 | AM137: 74 | AN137: 100 | AO137: 오신리 | AP137: 88 | AQ137: 43 | AR137: 45 | AS137: 46 | AT137: 동면1리 | AU137: 137 | AV137: 70 | AW137: 67 | AX137: 85 | AY137: 덕산3리 | AZ137: 20 | BA137: 5 | BB137: 15 | BC137: 17
A138: 순호2리 | B138: 44 | C138: 25 | D138: 19 | E138: 29 | F138: 광덕1리 | G138: 182 | H138: 76 | I138: 106 | J138: 100 | P138: 칠성1리 | Q138: 38 | R138: 19 | S138: 19 | T138: 24 | U138: 구라리 | V138: 132 | W138: 64 | X138: 68 | Y138: 83 | Z138: 대곡2리 | AA138: 47 | AB138: 26 | AC138: 21 | AD138: 32 | AE138: 신계리 | AF138: 158 | AG138: 76 | AH138: 82 | AI138: 115 | AJ138: 백운리 | AK138: 115 | AL138: 64 | AM138: 51 | AN138: 71 | AO138: 수계1리 | AP138: 43 | AQ138: 21 | AR138: 22 | AS138: 27 | AT138: 동면2리 | AU138: 196 | AV138: 95 | AW138: 101 | AX138: 103 | AY138: 덕인1리 | AZ138: 65 | BA138: 34 | BB138: 31 | BC138: 39
... A149: 이2리 | B149: 45 | C149: 22 | D149: 23 | E149: 28 | F149: 괴정2리 | G149: 103 | H149: 50 | I149: 53 | J149: 67 | P149: 성내5리 | Q149: 745 | R149: 354 | S149: 391 | T149: 421 | U149: 문수리 | V149: 181 | W149: 88 | X149: 93 | Y149: 112 | Z149: 백산리 | AA149: 106 | AB149: 50 | AC149: 56 | AD149: 68 | AE149: 어은2리 | AF149: 111 | AG149: 64 | AH149: 47 | AI149: 73 | AJ149: 연호1리 | AK149: 234 | AL149: 121 | AM149: 113 | AN149: 132 | AO149: 금능3리 | AP149: 138 | AQ149: 86 | AR149: 52 | AS149: 128 | AT149: 양곡1리 | AU149: 119 | AV149: 57 | AW149: 62 | AX149: 76 | AY149: 외선미2 | AZ149: 53 | BA149: 25 | BB149: 28 | BC149: 34
A150: 장1리 | B150: 91 | C150: 46 | D150: 45 | E150: 58 | P150: 괴시1리 | Q150: 256 | R150: 126 | S150: 130 | T150: 159 | U150: 고철1리 | V150: 91 | W150: 45 | X150: 46 | Y150: 59 | Z150: 하거1리 | AA150: 143 | AB150: 65 | AC150: 78 | AD150: 74 | AE150: 후평1리 | AF150: 127 | AG150: 66 | AH150: 61 | AI150: 81 | AJ150: 연호2리 | AK150: 135 | AL150: 56 | AM150: 79 | AN150: 100 | AO150: 한어리 | AP150: 106 | AQ150: 58 | AR150: 48 | AS150: 66 | AT150: 양곡2리 | AU150: 146 | AV150: 75 | AW150: 71 | AX150: 85 | AY150: 죽변면 | AZ150: 6141 | BA150: 3191 | BB150: 2950 | BC150: 3620
A151: 장2리 | B151: 143 | C151: 82 | D151: 61 | E151: 92 | P151: 괴시2리 | Q151: 100 | R151: 46 | S151: 54 | T151: 66 | U151: 고철2리 | V151: 160 | W151: 72 | X151: 88 | Y151: 95 | Z151: 하거2리 | AA151: 79 | AB151: 36 | AC151: 43 | AD151: 52 | AE151: 후평2리 | AF151: 49 | AG151: 29 | AH151: 20 | AI151: 38 | AJ151: 낙산1리 | AK151: 238 | AL151: 133 | AM151: 105 | AN151: 145 | AO151: 본리 | AP151: 177 | AQ151: 97 | AR151: 80 | AS151: 102 | AT151: 고감1리 | AU151: 108 | AV151: 61 | AW151: 47 | AX151: 64 | AY151: 죽변1리 | AZ151: 531 | BA151: 268 | BB151: 263 | BC151: 296
A152: 장3리 | B152: 125 | C152: 52 | D152: 73 | E152: 78 | P152: 괴시3리 | Q152: 700 | R152: 336 | S152: 364 | T152: 330 | U152: 양원리 | V152: 213 | W152: 108 | X152: 105 | Y152: 129 | Z152: 신촌리 | AA152: 112 | AB152: 60 | AC152: 52 | AD152: 67 | AE152: 봉두리 | AF152: 53 | AG152: 24 | AH152: 29 | AI152: 37 | AJ152: 낙산2리 | AK152: 50 | AL152: 21 | AM152: 29 | AN152: 36 | AO152: 형호리 | AP152: 36 | AQ152: 20 | AR152: 16 | AS152: 25 | AT152: 고감2리 | AU152: 153 | AV152: 81 | AW152: 72 | AX152: 90 | AY152: 죽변2리 | AZ152: 498 | BA152: 240 | BB152: 258 | BC152: 334
A153: 금성면 | B153: 4176 | C153: 2044 | D153: 2132 | E153: 2542 | P153: 대진1리 | Q153: 107 | R153: 50 | S153: 57 | T153: 65 | U153: 신촌1리 | V153: 150 | W153: 77 | X153: 73 | Y153: 79 | Z153: 산주리 | AA153: 130 | AB153: 67 | AC153: 63 | AD153: 83 | AE153: 무학1리 | AF153: 55 | AG153: 28 | AH153: 27 | AI153: 40 | AJ153: 동명면 | AK153: 5181 | AL153: 2644 | AM153: 2537 | AN153: 2966 | AO153: 오천리 | AP153: 226 | AQ153: 113 | AR153: 113 | AS153: 128 | AT153: 풍호1리 | AU153: 127 | AV153: 69 | AW153: 58 | AX153: 74 | AY153: 죽변3리 | AZ153: 716 | BA153: 351 | BB153: 365 | BC153: 410
A154: 탑리1리 | B154: 107 | C154: 49 | D154: 58 | E154: 62 | P154: 대진2리 | Q154: 133 | R154: 55 | S154: 78 | T154: 86 | U154: 신촌2리 | V154: 140 | W154: 70 | X154: 70 | Y154: 85 | Z154: 매촌리 | AA154: 251 | AB154: 110 | AC154: 141 | AD154: 111 | AE154: 무학2리 | AF154: 120 | AG154: 61 | AH154: 59 | AI154: 91 | AJ154: 금암1리 | AK154: 291 | AL154: 139 | AM154: 152 | AN154: 181 | AO154: 백송리 | AP154: 101 | AQ154: 60 | AR154: 41 | AS154: 56 | AT154: 풍호2리 | AU154: 123 | AV154: 68 | AW154: 55 | AX154: 78 | AY154: 죽변4리 | AZ154: 444 | BA154: 228 | BB154: 216 | BC154: 282
A155: 탑리2리 | B155: 156 | C155: 69 | D155: 87 | E155: 93 | P155: 대진3리 | Q155: 111 | R155: 52 | S155: 59 | T155: 70 | U155: 신촌3리 | V155: 71 | W155: 37 | X155: 34 | Y155: 41 | Z155: 합가1리 | AA155: 132 | AB155: 68 | AC155: 64 | AD155: 89 | AE155: 영천리 | AF155: 134 | AG155: 78 | AH155: 56 | AI155: 86 | AJ155: 금암2리 | AK155: 344 | AL155: 188 | AM155: 156 | AN155: 184 | AO155: 산합1리 | AP155: 100 | AQ155: 54 | AR155: 46 | AS155: 56 | AT155: 고계1리 | AU155: 141 | AV155: 78 | AW155: 63 | AX155: 75 | AY155: 죽변5리 | AZ155: 1011 | BA155: 544 | BB155: 467 | BC155: 606
A156: 탑리3리 | B156: 208 | C156: 92 | D156: 116 | E156: 128 | P156: 사진1리 | Q156: 67 | R156: 28 | S156: 39 | T156: 43 | U156: 칠곡1리 | V156: 100 | W156: 51 | X156: 49 | Y156: 58 | Z156: 합가2리 | AA156: 106 | AB156: 51 | AC156: 55 | AD156: 64 | AE156: 대가면 | AF156: 2345 | AG156: 1197 | AH156: 1148 | AI156: 1357 | AJ156: 금암3리 | AK156: 449 | AL156: 245 | AM156: 204 | AN156: 253 | AO156: 산합2리 | AP156: 491 | AQ156: 234 | AR156: 257 | AS156: 291 | AT156: 고계2리 | AU156: 90 | AV156: 54 | AW156: 36 | AX156: 49 | AY156: 후정1리 | AZ156: 1518 | BA156: 834 | BB156: 684 | BC156: 807
A157: 탑리4리 | B157: 80 | C157: 36 | D157: 44 | E157: 53 | P157: 사진2리 | Q157: 113 | R157: 46 | S157: 67 | T157: 71 | U157: 칠곡2리 | V157: 164 | W157: 87 | X157: 77 | Y157: 83 | Z157: 신곡1리 | AA157: 176 | AB157: 90 | AC157: 86 | AD157: 108 | AE157: 칠봉1리 | AF157: 142 | AG157: 73 | AH157: 69 | AI157: 76 | AJ157: 금암4리 | AK157: 89 | AL157: 48 | AM157: 41 | AN157: 60 | AO157: 산합3리 | AP157: 1486 | AQ157: 729 | AR157: 757 | AS157: 519 | AT157: 북곡리 | AU157: 131 | AV157: 71 | AW157: 60 | AX157: 87 | AY157: 후정2리 | AZ157: 75 | BA157: 47 | BB157: 28 | BC157: 48
A158: 대리1리 | B158: 150 | C158: 72 | D158: 78 | E158: 88 | P158: 사진3리 | Q158: 65 | R158: 29 | S158: 36 | T158: 52 | U158: 대곡1리 | V158: 156 | W158: 71 | X158: 85 | Y158: 90 | Z158: 신곡2리 | AA158: 98 | AB158: 58 | AC158: 40 | AD158: 66 | AE158: 칠봉2리 | AF158: 115 | AG158: 56 | AH158: 59 | AI158: 68 | AJ158: 송산1리 | AK158: 484 | AL158: 259 | AM158: 225 | AN158: 269 | AO158: 산합4리 | AP158: 1453 | AQ158: 705 | AR158: 748 | AS158: 516 | AT158: 관창1리 | AU158: 147 | AV158: 85 | AW158: 62 | AX158: 86 | AY158: 후정3리 | AZ158: 409 | BA158: 206 | BB158: 203 | BC158: 266
A159: 대리2리 | B159: 146 | C159: 79 | D159: 67 | E159: 87 | P159: 연평1리 | Q159: 128 | R159: 57 | S159: 71 | T159: 69 | U159: 대곡2리 | V159: 157 | W159: 80 | X159: 77 | Y159: 88 | Z159: 평지리 | AA159: 110 | AB159: 54 | AC159: 56 | AD159: 67 | AE159: 옥성1리 | AF159: 263 | AG159: 145 | AH159: 118 | AI159: 155 | AJ159: 송산2리 | AK159: 125 | AL159: 66 | AM159: 59 | AN159: 74 | AO159: 산합5리 | AP159: 1091 | AQ159: 531 | AR159: 560 | AS159: 428 | AT159: 관창2리 | AU159: 178 | AV159: 105 | AW159: 73 | AX159: 87 | AY159: 후정4리 | AZ159: 81 | BA159: 44 | BB159: 37 | BC159: 45
A160: 대리3리 | B160: 393 | C160: 189 | D160: 204 | E160: 235 | P160: 연평2리 | Q160: 105 | R160: 49 | S160: 56 | T160: 67 | U160: 대곡3리 | V160: 73 | W160: 33 | X160: 40 | Y160: 37 | Z160: 안화리 | AA160: 87 | AB160: 42 | AC160: 45 | AD160: 50 | AE160: 옥성2리 | AF160: 222 | AG160: 113 | AH160: 109 | AI160: 113 | AJ160: 송산3리 | AK160: 206 | AL160: 104 | AM160: 102 | AN160: 127 | AO160: 산합6리 | AP160: 826 | AQ160: 383 | AR160: 443 | AS160: 315 | AT160: 상운면 | AU160: 1637 | AV160: 842 | AW160: 795 | AX160: 1006 | AY160: 화성1리 | AZ160: 88 | BA160: 45 | BB160: 43 | BC160: 60
A161: 대리4리 | B161: 328 | C161: 162 | D161: 166 | E161: 197 | P161: 벌영1리 | Q161: 770 | R161: 371 | S161: 399 | T161: 425 | U161: 대곡4리 | V161: 100 | W161: 46 | X161: 54 | Y161: 59 | Z161: 안림리 | AA161: 408 | AB161: 202 | AC161: 206 | AD161: 227 | AE161: 용흥1리 | AF161: 159 | AG161: 78 | AH161: 81 | AI161: 86 | AJ161: 가천리 | AK161: 154 | AL161: 77 | AM161: 77 | AN161: 94 | AO161: 산합7리 | AP161: 1045 | AQ161: 482 | AR161: 563 | AS161: 395 | AT161: 가곡1리 | AU161: 233 | AV161: 120 | AW161: 113 | AX161: 143 | AY161: 화성2리 | AZ161: 74 | BA161: 29 | BB161: 45 | BC161: 46
... A166: 제오1리 | B166: 102 | C166: 51 | D166: 51 | E166: 51 | P166: 묘곡2리 | Q166: 58 | R166: 28 | S166: 30 | T166: 38 | U166: 방음리 | V166: 30 | W166: 14 | X166: 16 | Y166: 25 | Z166: 용2리 | AA166: 46 | AB166: 25 | AC166: 21 | AD166: 29 | AE166: 옥련1리 | AF166: 180 | AG166: 99 | AH166: 81 | AI166: 105 | AJ166: 기성1리 | AK166: 301 | AL166: 134 | AM166: 167 | AN166: 180 | AO166: 산합12리 | AP166: 1767 | AQ166: 853 | AR166: 914 | AS166: 662 | AT166: 문촌리 | AU166: 177 | AV166: 92 | AW166: 85 | AX166: 107 | AY166: 후포면 | AZ166: 7122 | BA166: 3485 | BB166: 3637 | BC166: 3967
A167: 제오2리 | B167: 109 | C167: 57 | D167: 52 | E167: 57 | P167: 대1리 | Q167: 28 | R167: 12 | S167: 16 | T167: 18 | U167: 오진리 | V167: 172 | W167: 98 | X167: 74 | Y167: 115 | AE167: 옥련2리 | AF167: 106 | AG167: 58 | AH167: 48 | AI167: 64 | AJ167: 기성2리 | AK167: 717 | AL167: 359 | AM167: 358 | AN167: 394 | AO167: 산합13리 | AP167: 1867 | AQ167: 948 | AR167: 919 | AS167: 714 | AT167: 하눌1리 | AU167: 138 | AV167: 74 | AW167: 64 | AX167: 80 | AY167: 후포1리 | AZ167: 312 | BA167: 160 | BB167: 152 | BC167: 193
A168: 운곡리 | B168: 132 | C168: 60 | D168: 72 | E168: 84 | P168: 대2리 | Q168: 39 | R168: 21 | S168: 18 | T168: 27 | U168: 신원리 | V168: 517 | W168: 245 | X168: 272 | Y168: 314 | AE168: 금산1리 | AF168: 79 | AG168: 35 | AH168: 44 | AI168: 52 | AJ168: 구덕리 | AK168: 344 | AL168: 147 | AM168: 197 | AN168: 191 | AO168: 산합14리 | AP168: 1791 | AQ168: 880 | AR168: 911 | AS168: 559 | AT168: 하눌2리 | AU168: 119 | AV168: 71 | AW168: 48 | AX168: 79 | AY168: 후포2리 | AZ168: 294 | BA168: 132 | BB168: 162 | BC168: 197
A169: 만천1리 | B169: 62 | C169: 36 | D169: 26 | E169: 42 | P169: 병곡면 | Q169: 2604 | R169: 1245 | S169: 1359 | T169: 1644 | U169: 서지리 | V169: 0 | W169: 0 | X169: 0 | Y169: 0 | AE169: 금산2리 | AF169: 88 | AG169: 48 | AH169: 40 | AI169: 52 | AJ169: 봉암리 | AK169: 471 | AL169: 265 | AM169: 206 | AN169: 274 | AO169: 산합16리 | AP169: 420 | AQ169: 187 | AR169: 233 | AS169: 365 | AT169: 토일리 | AU169: 96 | AV169: 42 | AW169: 54 | AX169: 59 | AY169: 후포3리 | AZ169: 106 | BA169: 56 | BB169: 50 | BC169: 61
A170: 만천2리 | B170: 51 | C170: 23 | D170: 28 | E170: 29 | P170: 삼읍리 | Q170: 39 | R170: 19 | S170: 20 | T170: 28 | U170: 공암리 | V170: 58 | W170: 26 | X170: 32 | Y170: 38 | AE170: 옥화1리 | AF170: 104 | AG170: 45 | AH170: 59 | AI170: 53 | AJ170: 가산면 | AK170: 3267 | AL170: 1767 | AM170: 1500 | AN170: 1957 | AO170: 직산1리 | AP170: 127 | AQ170: 62 | AR170: 65 | AS170: 80 | AT170: 구천리 | AU170: 122 | AV170: 62 | AW170: 60 | AX170: 79 | AY170: 후포4리 | AZ170: 387 | BA170: 187 | BB170: 200 | BC170: 250
A171: 하1리 | B171: 84 | C171: 46 | D171: 38 | E171: 56 | P171: 금곡1리 | Q171: 138 | R171: 63 | S171: 75 | T171: 83 | U171: 지촌리 | V171: 135 | W171: 66 | X171: 69 | Y171: 87 | AE171: 옥화2리 | AF171: 115 | AG171: 54 | AH171: 61 | AI171: 69 | AJ171: 다부1리 | AK171: 164 | AL171: 98 | AM171: 66 | AN171: 103 | AO171: 직산2리 | AP171: 147 | AQ171: 73 | AR171: 74 | AS171: 88 | AT171: 설매리 | AU171: 137 | AV171: 72 | AW171: 65 | AX171: 88 | AY171: 후포5리 | AZ171: 738 | BA171: 354 | BB171: 384 | BC171: 425
A172: 하2리 | B172: 62 | C172: 31 | D172: 31 | E172: 38 | P172: 금곡2리 | Q172: 53 | R172: 28 | S172: 25 | T172: 38 | U172: 봉하리 | V172: 195 | W172: 112 | X172: 83 | Y172: 134 | AE172: 대천1리 | AF172: 72 | AG172: 38 | AH172: 34 | AI172: 39 | AJ172: 다부2리 | AK172: 135 | AL172: 74 | AM172: 61 | AN172: 89 | AO172: 황지리 | AP172: 163 | AQ172: 75 | AR172: 88 | AS172: 99 | AT172: 신라리 | AU172: 138 | AV172: 67 | AW172: 71 | AX172: 81 | AY172: 후포6리 | AZ172: 315 | BA172: 150 | BB172: 165 | BC172: 199
A173: 초전1리 | B173: 103 | C173: 55 | D173: 48 | E173: 60 | P173: 금곡3리 | Q173: 70 | R173: 35 | S173: 35 | T173: 47 | U173: 정상리 | V173: 147 | W173: 73 | X173: 74 | Y173: 106 | AE173: 대천2리 | AF173: 110 | AG173: 60 | AH173: 50 | AI173: 68 | AJ173: 금화리 | AK173: 107 | AL173: 61 | AM173: 46 | AN173: 67 | AO173: 월포리 | AP173: 148 | AQ173: 74 | AR173: 74 | AS173: 83 | AY173: 후포7리 | AZ173: 516 | BA173: 265 | BB173: 251 | BC173: 319
A174: 초전2리 | B174: 91 | C174: 47 | D174: 44 | E174: 55 | P174: 백석1리 | Q174: 99 | R174: 46 | S174: 53 | T174: 64 | U174: 마일1리 | V174: 69 | W174: 37 | X174: 32 | Y174: 51 | AE174: 도남1리 | AF174: 98 | AG174: 53 | AH174: 45 | AI174: 65 | AJ174: 가산1리 | AK174: 74 | AL174: 39 | AM174: 35 | AN174: 50 | AO174: 종산1리 | AP174: 53 | AQ174: 28 | AR174: 25 | AS174: 29 | AY174: 삼율1리 | AZ174: 1473 | BA174: 710 | BB174: 763 | BC174: 745
...

Sheet 2-1.시군 연령별 총괄(5세)
A2: 2-1. 연령별 인구 총괄 (2023년 3분기)
A3: (단위 : 세, 명)
A4: 구분 | B4: 경상북도 | E4: 포항시 | H4: 경주시 | K4: 김천시 | N4: 안동시 | Q4: 구미시 | T4: 영주시 | W4: 영천시 | Z4: 상주시 | AC4: 문경시 | AF4: 경산시 | AI4: 의성군 | AL4: 청송군 | AO4: 영양군 | AR4: 영덕군 | AU4: 청도군 | AX4: 고령군 | BA4: 성주군 | BD4: 칠곡군 | BG4: 예천군 | BJ4: 봉화군 | BM4: 울진군 | BP4: 울릉군
B5: 총계 | C5: 남 | D5: 여 | E5: 소계 | F5: 남 | G5: 여 | H5: 소계 | I5: 남 | J5: 여 | K5: 소계 | L5: 남 | M5: 여 | N5: 소계 | O5: 남 | P5: 여 | Q5: 소계 | R5: 남 | S5: 여 | T5: 소계 | U5: 남 | V5: 여 | W5: 소계 | X5: 남 | Y5: 여 | Z5: 소계 | AA5: 남 | AB5: 여 | AC5: 소계 | AD5: 남 | AE5: 여 | AF5: 소계 | AG5: 남 | AH5: 여 | AI5: 소계 | AJ5: 남 | AK5: 여 | AL5: 소계 | AM5: 남 | AN5: 여 | AO5: 소계 | AP5: 남 | AQ5: 여 | AR5: 소계 | AS5: 남 | AT5: 여 | AU5: 소계 | AV5: 남 | AW5: 여 | AX5: 소계 | AY5: 남 | AZ5: 여 | BA5: 소계 | BB5: 남 | BC5: 여 | BD5: 소계 | BE5: 남 | BF5: 여 | BG5: 소계 | BH5: 남 | BI5: 여 | BJ5: 소계 | BK5: 남 | BL5: 여 | BM5: 소계 | BN5: 남 | BO5: 여 | BP5: 소계 | BQ5: 남 | BR5: 여
A6: 총계 | B6: =IF(C6+D6=SUM(B7:B27),C6+D6,error) -> 2625372 | C6: =IF(SUM(C7:C27)=SUM(F6,I6,L6,O6,R6,U6,X6,AA6,AD6,AG6,AJ6,AM6,AP6,AS6,AV6,AY6,BB6,BE6,BH6,BK6,BN6,BQ6),SUM(C7:C27),error) -> 1335085 | D6: =IF(SUM(D7:D27)=SUM(G6,J6,M6,P6,S6,V6,Y6,AB6,AE6,AH6,AK6,AN6,AQ6,AT6,AW6,AZ6,BC6,BF6,BI6,BL6,BO6,BR6),SUM(D7:D27),error) -> 1290287 | E6: =F6+G6 -> 499954 | F6: =SUM(F7:F27) -> 254642 | G6: =SUM(G7:G27) -> 245312 | H6: =I6+J6 -> 258968 | I6: =SUM(I7:I27) -> 131392 | J6: =SUM(J7:J27) -> 127576 | K6: =L6+M6 -> 141125 | L6: =SUM(L7:L27) -> 71299 | M6: =SUM(M7:M27) -> 69826 | N6: =O6+P6 -> 155223 | O6: =SUM(O7:O27) -> 76704 | P6: =SUM(P7:P27) -> 78519 | Q6: =R6+S6 -> 411787 | R6: =SUM(R7:R27) -> 212806 | S6: =SUM(S7:S27) -> 198981 | T6: =U6+V6 -> 101278 | U6: =SUM(U7:U27) -> 50288 | V6: =SUM(V7:V27) -> 50990 | W6: =X6+Y6 -> 103855 | X6: =SUM(X7:X27) -> 53688 | Y6: =SUM(Y7:Y27) -> 50167 | Z6: =AA6+AB6 -> 95805 | AA6: =SUM(AA7:AA27) -> 47218 | AB6: =SUM(AB7:AB27) -> 48587 | AC6: =AD6+AE6 -> 70069 | AD6: =SUM(AD7:AD27) -> 34505 | AE6: =SUM(AE7:AE27) -> 35564 | AF6: =AG6+AH6 -> 281512 | AG6: =SUM(AG7:AG27) -> 143103 | AH6: =SUM(AH7:AH27) -> 138409 | AI6: =AJ6+AK6 -> 50828 | AJ6: =SUM(AJ7:AJ27) -> 25207 | AK6: =SUM(AK7:AK27) -> 25621 | AL6: =AM6+AN6 -> 24432 | AM6: =SUM(AM7:AM27) -> 12264 | AN6: =SUM(AN7:AN27) -> 12168 | AO6: =AP6+AQ6 -> 16349 | AP6: =SUM(AP7:AP27) -> 8147 | AQ6: =SUM(AQ7:AQ27) -> 8202 | AR6: =AS6+AT6 -> 35414 | AS6: =SUM(AS7:AS27) -> 17281 | AT6: =SUM(AT7:AT27) -> 18133 | AU6: =AV6+AW6 -> 42439 | AV6: =SUM(AV7:AV27) -> 21013 | AW6: =SUM(AW7:AW27) -> 21426 | AX6: =AY6+AZ6 -> 31976 | AY6: =SUM(AY7:AY27) -> 17028 | AZ6: =SUM(AZ7:AZ27) -> 14948 | BA6: =BB6+BC6 -> 44184 | BB6: =SUM(BB7:BB27) -> 23617 | BC6: =SUM(BC7:BC27) -> 20567 | BD6: =BE6+BF6 -> 115863 | BE6: =SUM(BE7:BE27) -> 61469 | BF6: =SUM(BF7:BF27) -> 54394 | BG6: =BH6+BI6 -> 56212 | BH6: =SUM(BH7:BH27) -> 27687 | BI6: =SUM(BI7:BI27) -> 28525 | BJ6: =BK6+BL6 -> 30375 | BK6: =SUM(BK7:BK27) -> 15431 | BL6: =SUM(BL7:BL27) -> 14944 | BM6: =BN6+BO6 -> 48470 | BN6: =SUM(BN7:BN27) -> 25124 | BO6: =SUM(BO7:BO27) -> 23346 | BP6: =BQ6+BR6 -> 9254 | BQ6: =SUM(BQ7:BQ27) -> 5172 | BR6: =SUM(BR7:BR27) -> 4082
A7: 0-4 | B7: =C7+D7 -> 61888 | C7: =F7+I7+L7+O7+R7+U7+X7+AA7+AD7+AG7+AJ7+AM7+AP7+AS7+AV7+AY7+BB7+BE7+BH7+BK7+BN7+BQ7 -> 31802 | D7: =G7+J7+M7+P7+S7+V7+Y7+AB7+AE7+AH7+AK7+AN7+AQ7+AT7+AW7+AZ7+BC7+BF7+BI7+BL7+BO7+BR7 -> 30086 | E7: =F7+G7 -> 12299 | F7: =F30+F53 -> 6342 | G7: =G30+G53 -> 5957 | H7: =I7+J7 -> 5821 | I7: =I30+I53 -> 3018 | J7: =J30+J53 -> 2803 | K7: =L7+M7 -> 3696 | L7: =L30+L53 -> 1929 | M7: =M30+M53 -> 1767 | N7: =O7+P7 -> 3416 | O7: =O30+O53 -> 1761 | P7: =P30+P53 -> 1655 | Q7: =R7+S7 -> 12539 | R7: =R30+R53 -> 6450 | S7: =S30+S53 -> 6089 | T7: =U7+V7 -> 1859 | U7: =U30+U53 -> 934 | V7: =V30+V53 -> 925 | W7: =X7+Y7 -> 2468 | X7: =X30+X53 -> 1244 | Y7: =Y30+Y53 -> 1224 | Z7: =AA7+AB7 -> 1743 | AA7: =AA30+AA53 -> 880 | AB7: =AB30+AB53 -> 863 | AC7: =AD7+AE7 -> 1389 | AD7: =AD30+AD53 -> 721 | AE7: =AE30+AE53 -> 668 | AF7: =AG7+AH7 -> 7092 | AG7: =AG30+AG53 -> 3653 | AH7: =AH30+AH53 -> 3439 | AI7: =AJ7+AK7 -> 832 | AJ7: =AJ30+AJ53 -> 440 | AK7: =AK30+AK53 -> 392 | AL7: =AM7+AN7 -> 391 | AM7: =AM30+AM53 -> 213 | AN7: =AN30+AN53 -> 178 | AO7: =AP7+AQ7 -> 219 | AP7: =AP30+AP53 -> 99 | AQ7: =AQ30+AQ53 -> 120 | AR7: =AS7+AT7 -> 515 | AS7: =AS30+AS53 -> 261 | AT7: =AT30+AT53 -> 254 | AU7: =AV7+AW7 -> 543 | AV7: =AV30+AV53 -> 271 | AW7: =AW30+AW53 -> 272 | AX7: =AY7+AZ7 -> 473 | AY7: =AY30+AY53 -> 234 | AZ7: =AZ30+AZ53 -> 239 | BA7: =BB7+BC7 -> 810 | BB7: =BB30+BB53 -> 418 | BC7: =BC30+BC53 -> 392 | BD7: =BE7+BF7 -> 2471 | BE7: =BE30+BE53 -> 1231 | BF7: =BF30+BF53 -> 1240 | BG7: =BH7+BI7 -> 1730 | BH7: =BH30+BH53 -> 872 | BI7: =BI30+BI53 -> 858 | BJ7: =BK7+BL7 -> 409 | BK7: =BK30+BK53 -> 214 | BL7: =BL30+BL53 -> 195 | BM7: =BN7+BO7 -> 1035 | BN7: =BN30+BN53 -> 544 | BO7: =BO30+BO53 -> 491 | BP7: =BQ7+BR7 -> 138 | BQ7: =BQ30+BQ53 -> 73 | BR7: =BR30+BR53 -> 65
A8: 5-9 | B8: =C8+D8 -> 94811 | C8: =F8+I8+L8+O8+R8+U8+X8+AA8+AD8+AG8+AJ8+AM8+AP8+AS8+AV8+AY8+BB8+BE8+BH8+BK8+BN8+BQ8 -> 48758 | D8: =G8+J8+M8+P8+S8+V8+Y8+AB8+AE8+AH8+AK8+AN8+AQ8+AT8+AW8+AZ8+BC8+BF8+BI8+BL8+BO8+BR8 -> 46053 | E8: =F8+G8 -> 20452 | F8: =F31+F54 -> 10643 | G8: =G31+G54 -> 9809 | H8: =I8+J8 -> 8502 | I8: =I31+I54 -> 4330 | J8: =J31+J54 -> 4172 | K8: =L8+M8 -> 5167 | L8: =L31+L54 -> 2643 | M8: =M31+M54 -> 2524 | N8: =O8+P8 -> 5220 | O8: =O31+O54 -> 2684 | P8: =P31+P54 -> 2536 | Q8: =R8+S8 -> 20780 | R8: =R31+R54 -> 10644 | S8: =S31+S54 -> 10136 | T8: =U8+V8 -> 3150 | U8: =U31+U54 -> 1661 | V8: =V31+V54 -> 1489 | W8: =X8+Y8 -> 2703 | X8: =X31+X54 -> 1398 | Y8: =Y31+Y54 -> 1305 | Z8: =AA8+AB8 -> 2649 | AA8: =AA31+AA54 -> 1396 | AB8: =AB31+AB54 -> 1253 | AC8: =AD8+AE8 -> 1915 | AD8: =AD31+AD54 -> 977 | AE8: =AE31+AE54 -> 938 | AF8: =AG8+AH8 -> 10534 | AG8: =AG31+AG54 -> 5314 | AH8: =AH31+AH54 -> 5220 | AI8: =AJ8+AK8 -> 848 | AJ8: =AJ31+AJ54 -> 434 | AK8: =AK31+AK54 -> 414 | AL8: =AM8+AN8 -> 448 | AM8: =AM31+AM54 -> 227 | AN8: =AN31+AN54 -> 221 | AO8: =AP8+AQ8 -> 338 | AP8: =AP31+AP54 -> 184 | AQ8: =AQ31+AQ54 -> 154 | AR8: =AS8+AT8 -> 742 | AS8: =AS31+AS54 -> 351 | AT8: =AT31+AT54 -> 391 | AU8: =AV8+AW8 -> 703 | AV8: =AV31+AV54 -> 366 | AW8: =AW31+AW54 -> 337 | AX8: =AY8+AZ8 -> 650 | AY8: =AY31+AY54 -> 347 | AZ8: =AZ31+AZ54 -> 303 | BA8: =BB8+BC8 -> 787 | BB8: =BB31+BB54 -> 401 | BC8: =BC31+BC54 -> 386 | BD8: =BE8+BF8 -> 4772 | BE8: =BE31+BE54 -> 2477 | BF8: =BF31+BF54 -> 2295 | BG8: =BH8+BI8 -> 2308 | BH8: =BH31+BH54 -> 1158 | BI8: =BI31+BI54 -> 1150 | BJ8: =BK8+BL8 -> 593 | BK8: =BK31+BK54 -> 331 | BL8: =BL31+BL54 -> 262 | BM8: =BN8+BO8 -> 1367 | BN8: =BN31+BN54 -> 694 | BO8: =BO31+BO54 -> 673 | BP8: =BQ8+BR8 -> 183 | BQ8: =BQ31+BQ54 -> 98 | BR8: =BR31+BR54 -> 85
A9: 10-14 | B9: =C9+D9 -> 109843 | C9: =F9+I9+L9+O9+R9+U9+X9+AA9+AD9+AG9+AJ9+AM9+AP9+AS9+AV9+AY9+BB9+BE9+BH9+BK9+BN9+BQ9 -> 57037 | D9: =G9+J9+M9+P9+S9+V9+Y9+AB9+AE9+AH9+AK9+AN9+AQ9+AT9+AW9+AZ9+BC9+BF9+BI9+BL9+BO9+BR9 -> 52806 | E9: =F9+G9 -> 23859 | F9: =F32+F55 -> 12435 | G9: =G32+G55 -> 11424 | H9: =I9+J9 -> 9856 | I9: =I32+I55 -> 5058 | J9: =J32+J55 -> 4798 | K9: =L9+M9 -> 5918 | L9: =L32+L55 -> 3089 | M9: =M32+M55 -> 2829 | N9: =O9+P9 -> 6401 | O9: =O32+O55 -> 3410 | P9: =P32+P55 -> 2991 | Q9: =R9+S9 -> 22834 | R9: =R32+R55 -> 11904 | S9: =S32+S55 -> 10930 | T9: =U9+V9 -> 4099 | U9: =U32+U55 -> 2100 | V9: =V32+V55 -> 1999 | W9: =X9+Y9 -> 3012 | X9: =X32+X55 -> 1565 | Y9: =Y32+Y55 -> 1447 | Z9: =AA9+AB9 -> 3297 | AA9: =AA32+AA55 -> 1717 | AB9: =AB32+AB55 -> 1580 | AC9: =AD9+AE9 -> 2439 | AD9: =AD32+AD55 -> 1298 | AE9: =AE32+AE55 -> 1141 | AF9: =AG9+AH9 -> 11632 | AG9: =AG32+AG55 -> 5934 | AH9: =AH32+AH55 -> 5698 | AI9: =AJ9+AK9 -> 963 | AJ9: =AJ32+AJ55 -> 502 | AK9: =AK32+AK55 -> 461 | AL9: =AM9+AN9 -> 511 | AM9: =AM32+AM55 -> 264 | AN9: =AN32+AN55 -> 247 | AO9: =AP9+AQ9 -> 402 | AP9: =AP32+AP55 -> 226 | AQ9: =AQ32+AQ55 -> 176 | AR9: =AS9+AT9 -> 928 | AS9: =AS32+AS55 -> 487 | AT9: =AT32+AT55 -> 441 | AU9: =AV9+AW9 -> 979 | AV9: =AV32+AV55 -> 496 | AW9: =AW32+AW55 -> 483 | AX9: =AY9+AZ9 -> 822 | AY9: =AY32+AY55 -> 419 | AZ9: =AZ32+AZ55 -> 403 | BA9: =BB9+BC9 -> 1025 | BB9: =BB32+BB55 -> 498 | BC9: =BC32+BC55 -> 527 | BD9: =BE9+BF9 -> 5653 | BE9: =BE32+BE55 -> 2929 | BF9: =BF32+BF55 -> 2724 | BG9: =BH9+BI9 -> 2608 | BH9: =BH32+BH55 -> 1333 | BI9: =BI32+BI55 -> 1275 | BJ9: =BK9+BL9 -> 800 | BK9: =BK32+BK55 -> 426 | BL9: =BL32+BL55 -> 374 | BM9: =BN9+BO9 -> 1586 | BN9: =BN32+BN55 -> 835 | BO9: =BO32+BO55 -> 751 | BP9: =BQ9+BR9 -> 219 | BQ9: =BQ32+BQ55 -> 112 | BR9: =BR32+BR55 -> 107
A10: 15-19 | B10: =C10+D10 -> 109881 | C10: =F10+I10+L10+O10+R10+U10+X10+AA10+AD10+AG10+AJ10+AM10+AP10+AS10+AV10+AY10+BB10+BE10+BH10+BK10+BN10+BQ10 -> 58008 | D10: =G10+J10+M10+P10+S10+V10+Y10+AB10+AE10+AH10+AK10+AN10+AQ10+AT10+AW10+AZ10+BC10+BF10+BI10+BL10+BO10+BR10 -> 51873 | E10: =F10+G10 -> 22043 | F10: =F33+F56 -> 11615 | G10: =G33+G56 -> 10428 | H10: =I10+J10 -> 10178 | I10: =I33+I56 -> 5368 | J10: =J33+J56 -> 4810 | K10: =L10+M10 -> 6377 | L10: =L33+L56 -> 3565 | M10: =M33+M56 -> 2812 | N10: =O10+P10 -> 6610 | O10: =O33+O56 -> 3461 | P10: =P33+P56 -> 3149 | Q10: =R10+S10 -> 21052 | R10: =R33+R56 -> 10927 | S10: =S33+S56 -> 10125 | T10: =U10+V10 -> 4522 | U10: =U33+U56 -> 2404 | V10: =V33+V56 -> 2118 | W10: =X10+Y10 -> 3367 | X10: =X33+X56 -> 1780 | Y10: =Y33+Y56 -> 1587 | Z10: =AA10+AB10 -> 3951 | AA10: =AA33+AA56 -> 2109 | AB10: =AB33+AB56 -> 1842 | AC10: =AD10+AE10 -> 2810 | AD10: =AD33+AD56 -> 1550 | AE10: =AE33+AE56 -> 1260 | AF10: =AG10+AH10 -> 12123 | AG10: =AG33+AG56 -> 6286 | AH10: =AH33+AH56 -> 5837 | AI10: =AJ10+AK10 -> 1170 | AJ10: =AJ33+AJ56 -> 628 | AK10: =AK33+AK56 -> 542 | AL10: =AM10+AN10 -> 550 | AM10: =AM33+AM56 -> 290 | AN10: =AN33+AN56 -> 260 | AO10: =AP10+AQ10 -> 485 | AP10: =AP33+AP56 -> 229 | AQ10: =AQ33+AQ56 -> 256 | AR10: =AS10+AT10 -> 977 | AS10: =AS33+AS56 -> 504 | AT10: =AT33+AT56 -> 473 | AU10: =AV10+AW10 -> 1141 | AV10: =AV33+AV56 -> 580 | AW10: =AW33+AW56 -> 561 | AX10: =AY10+AZ10 -> 960 | AY10: =AY33+AY56 -> 535 | AZ10: =AZ33+AZ56 -> 425 | BA10: =BB10+BC10 -> 1125 | BB10: =BB33+BB56 -> 638 | BC10: =BC33+BC56 -> 487 | BD10: =BE10+BF10 -> 5460 | BE10: =BE33+BE56 -> 2928 | BF10: =BF33+BF56 -> 2532 | BG10: =BH10+BI10 -> 2063 | BH10: =BH33+BH56 -> 1081 | BI10: =BI33+BI56 -> 982 | BJ10: =BK10+BL10 -> 952 | BK10: =BK33+BK56 -> 466 | BL10: =BL33+BL56 -> 486 | BM10: =BN10+BO10 -> 1740 | BN10: =BN33+BN56 -> 957 | BO10: =BO33+BO56 -> 783 | BP10: =BQ10+BR10 -> 225 | BQ10: =BQ33+BQ56 -> 107 | BR10: =BR33+BR56 -> 118
A11: 20-24 | B11: =C11+D11 -> 131904 | C11: =F11+I11+L11+O11+R11+U11+X11+AA11+AD11+AG11+AJ11+AM11+AP11+AS11+AV11+AY11+BB11+BE11+BH11+BK11+BN11+BQ11 -> 75551 | D11: =G11+J11+M11+P11+S11+V11+Y11+AB11+AE11+AH11+AK11+AN11+AQ11+AT11+AW11+AZ11+BC11+BF11+BI11+BL11+BO11+BR11 -> 56353 | E11: =F11+G11 -> 23926 | F11: =F34+F57 -> 13757 | G11: =G34+G57 -> 10169 | H11: =I11+J11 -> 12583 | I11: =I34+I57 -> 7147 | J11: =J34+J57 -> 5436 | K11: =L11+M11 -> 6692 | L11: =L34+L57 -> 3768 | M11: =M34+M57 -> 2924 | N11: =O11+P11 -> 7854 | O11: =O34+O57 -> 4247 | P11: =P34+P57 -> 3607 | Q11: =R11+S11 -> 23956 | R11: =R34+R57 -> 13952 | S11: =S34+S57 -> 10004 | T11: =U11+V11 -> 4825 | U11: =U34+U57 -> 2746 | V11: =V34+V57 -> 2079 | W11: =X11+Y11 -> 4180 | X11: =X34+X57 -> 2599 | Y11: =Y34+Y57 -> 1581 | Z11: =AA11+AB11 -> 3920 | AA11: =AA34+AA57 -> 2313 | AB11: =AB34+AB57 -> 1607 | AC11: =AD11+AE11 -> 2973 | AD11: =AD34+AD57 -> 1658 | AE11: =AE34+AE57 -> 1315 | AF11: =AG11+AH11 -> 23180 | AG11: =AG34+AG57 -> 12557 | AH11: =AH34+AH57 -> 10623 | AI11: =AJ11+AK11 -> 1231 | AJ11: =AJ34+AJ57 -> 736 | AK11: =AK34+AK57 -> 495 | AL11: =AM11+AN11 -> 669 | AM11: =AM34+AM57 -> 380 | AN11: =AN34+AN57 -> 289 | AO11: =AP11+AQ11 -> 474 | AP11: =AP34+AP57 -> 276 | AQ11: =AQ34+AQ57 -> 198 | AR11: =AS11+AT11 -> 1053 | AS11: =AS34+AS57 -> 648 | AT11: =AT34+AT57 -> 405 | AU11: =AV11+AW11 -> 1209 | AV11: =AV34+AV57 -> 702 | AW11: =AW34+AW57 -> 507 | AX11: =AY11+AZ11 -> 1219 | AY11: =AY34+AY57 -> 780 | AZ11: =AZ34+AZ57 -> 439 | BA11: =BB11+BC11 -> 1407 | BB11: =BB34+BB57 -> 920 | BC11: =BC34+BC57 -> 487 | BD11: =BE11+BF11 -> 5550 | BE11: =BE34+BE57 -> 3385 | BF11: =BF34+BF57 -> 2165 | BG11: =BH11+BI11 -> 1866 | BH11: =BH34+BH57 -> 1095 | BI11: =BI34+BI57 -> 771 | BJ11: =BK11+BL11 -> 866 | BK11: =BK34+BK57 -> 538 | BL11: =BL34+BL57 -> 328 | BM11: =BN11+BO11 -> 1927 | BN11: =BN34+BN57 -> 1146 | BO11: =BO34+BO57 -> 781 | BP11: =BQ11+BR11 -> 344 | BQ11: =BQ34+BQ57 -> 201 | BR11: =BR34+BR57 -> 143
A12: 25-29 | B12: =C12+D12 -> 142647 | C12: =F12+I12+L12+O12+R12+U12+X12+AA12+AD12+AG12+AJ12+AM12+AP12+AS12+AV12+AY12+BB12+BE12+BH12+BK12+BN12+BQ12 -> 83749 | D12: =G12+J12+M12+P12+S12+V12+Y12+AB12+AE12+AH12+AK12+AN12+AQ12+AT12+AW12+AZ12+BC12+BF12+BI12+BL12+BO12+BR12 -> 58898 | E12: =F12+G12 -> 28624 | F12: =F35+F58 -> 16997 | G12: =G35+G58 -> 11627 | H12: =I12+J12 -> 13857 | I12: =I35+I58 -> 8121 | J12: =J35+J58 -> 5736 | K12: =L12+M12 -> 7183 | L12: =L35+L58 -> 4159 | M12: =M35+M58 -> 3024 | N12: =O12+P12 -> 7829 | O12: =O35+O58 -> 4217 | P12: =P35+P58 -> 3612 | Q12: =R12+S12 -> 27683 | R12: =R35+R58 -> 15974 | S12: =S35+S58 -> 11709 | T12: =U12+V12 -> 4422 | U12: =U35+U58 -> 2574 | V12: =V35+V58 -> 1848 | W12: =X12+Y12 -> 5225 | X12: =X35+X58 -> 3197 | Y12: =Y35+Y58 -> 2028 | Z12: =AA12+AB12 -> 3440 | AA12: =AA35+AA58 -> 1987 | AB12: =AB35+AB58 -> 1453 | AC12: =AD12+AE12 -> 2774 | AD12: =AD35+AD58 -> 1590 | AE12: =AE35+AE58 -> 1184 | AF12: =AG12+AH12 -> 20842 | AG12: =AG35+AG58 -> 12078 | AH12: =AH35+AH58 -> 8764 | AI12: =AJ12+AK12 -> 1457 | AJ12: =AJ35+AJ58 -> 872 | AK12: =AK35+AK58 -> 585 | AL12: =AM12+AN12 -> 766 | AM12: =AM35+AM58 -> 473 | AN12: =AN35+AN58 -> 293 | AO12: =AP12+AQ12 -> 466 | AP12: =AP35+AP58 -> 262 | AQ12: =AQ35+AQ58 -> 204 | AR12: =AS12+AT12 -> 1268 | AS12: =AS35+AS58 -> 815 | AT12: =AT35+AT58 -> 453 | AU12: =AV12+AW12 -> 1448 | AV12: =AV35+AV58 -> 784 | AW12: =AW35+AW58 -> 664 | AX12: =AY12+AZ12 -> 1463 | AY12: =AY35+AY58 -> 971 | AZ12: =AZ35+AZ58 -> 492 | BA12: =BB12+BC12 -> 1882 | BB12: =BB35+BB58 -> 1266 | BC12: =BC35+BC58 -> 616 | BD12: =BE12+BF12 -> 6147 | BE12: =BE35+BE58 -> 3781 | BF12: =BF35+BF58 -> 2366 | BG12: =BH12+BI12 -> 2124 | BH12: =BH35+BH58 -> 1162 | BI12: =BI35+BI58 -> 962 | BJ12: =BK12+BL12 -> 831 | BK12: =BK35+BK58 -> 498 | BL12: =BL35+BL58 -> 333 | BM12: =BN12+BO12 -> 2443 | BN12: =BN35+BN58 -> 1649 | BO12: =BO35+BO58 -> 794 | BP12: =BQ12+BR12 -> 473 | BQ12: =BQ35+BQ58 -> 322 | BR12: =BR35+BR58 -> 151
A13: 30-34 | B13: =C13+D13 -> 141255 | C13: =F13+I13+L13+O13+R13+U13+X13+AA13+AD13+AG13+AJ13+AM13+AP13+AS13+AV13+AY13+BB13+BE13+BH13+BK13+BN13+BQ13 -> 80387 | D13: =G13+J13+M13+P13+S13+V13+Y13+AB13+AE13+AH13+AK13+AN13+AQ13+AT13+AW13+AZ13+BC13+BF13+BI13+BL13+BO13+BR13 -> 60868 | E13: =F13+G13 -> 28198 | F13: =F36+F59 -> 16219 | G13: =G36+G59 -> 11979 | H13: =I13+J13 -> 13767 | I13: =I36+I59 -> 7975 | J13: =J36+J59 -> 5792 | K13: =L13+M13 -> 7553 | L13: =L36+L59 -> 4222 | M13: =M36+M59 -> 3331 | N13: =O13+P13 -> 7396 | O13: =O36+O59 -> 4034 | P13: =P36+P59 -> 3362 | Q13: =R13+S13 -> 29795 | R13: =R36+R59 -> 16418 | S13: =S36+S59 -> 13377 | T13: =U13+V13 -> 4039 | U13: =U36+U59 -> 2351 | V13: =V36+V59 -> 1688 | W13: =X13+Y13 -> 5187 | X13: =X36+X59 -> 3071 | Y13: =Y36+Y59 -> 2116 | Z13: =AA13+AB13 -> 3369 | AA13: =AA36+AA59 -> 1861 | AB13: =AB36+AB59 -> 1508 | AC13: =AD13+AE13 -> 2512 | AD13: =AD36+AD59 -> 1357 | AE13: =AE36+AE59 -> 1155 | AF13: =AG13+AH13 -> 18018 | AG13: =AG36+AG59 -> 10216 | AH13: =AH36+AH59 -> 7802 | AI13: =AJ13+AK13 -> 1570 | AJ13: =AJ36+AJ59 -> 885 | AK13: =AK36+AK59 -> 685 | AL13: =AM13+AN13 -> 800 | AM13: =AM36+AM59 -> 512 | AN13: =AN36+AN59 -> 288 | AO13: =AP13+AQ13 -> 522 | AP13: =AP36+AP59 -> 283 | AQ13: =AQ36+AQ59 -> 239 | AR13: =AS13+AT13 -> 1242 | AS13: =AS36+AS59 -> 781 | AT13: =AT36+AT59 -> 461 | AU13: =AV13+AW13 -> 1407 | AV13: =AV36+AV59 -> 760 | AW13: =AW36+AW59 -> 647 | AX13: =AY13+AZ13 -> 1330 | AY13: =AY36+AY59 -> 882 | AZ13: =AZ36+AZ59 -> 448 | BA13: =BB13+BC13 -> 1956 | BB13: =BB36+BB59 -> 1268 | BC13: =BC36+BC59 -> 688 | BD13: =BE13+BF13 -> 6432 | BE13: =BE36+BE59 -> 3714 | BF13: =BF36+BF59 -> 2718 | BG13: =BH13+BI13 -> 2489 | BH13: =BH36+BH59 -> 1286 | BI13: =BI36+BI59 -> 1203 | BJ13: =BK13+BL13 -> 820 | BK13: =BK36+BK59 -> 465 | BL13: =BL36+BL59 -> 355 | BM13: =BN13+BO13 -> 2394 | BN13: =BN36+BN59 -> 1536 | BO13: =BO36+BO59 -> 858 | BP13: =BQ13+BR13 -> 459 | BQ13: =BQ36+BQ59 -> 291 | BR13: =BR36+BR59 -> 168
A14: 35-39 | B14: =C14+D14 -> 142125 | C14: =F14+I14+L14+O14+R14+U14+X14+AA14+AD14+AG14+AJ14+AM14+AP14+AS14+AV14+AY14+BB14+BE14+BH14+BK14+BN14+BQ14 -> 76861 | D14: =G14+J14+M14+P14+S14+V14+Y14+AB14+AE14+AH14+AK14+AN14+AQ14+AT14+AW14+AZ14+BC14+BF14+BI14+BL14+BO14+BR14 -> 65264 | E14: =F14+G14 -> 28347 | F14: =F37+F60 -> 15009 | G14: =G37+G60 -> 13338 | H14: =I14+J14 -> 13139 | I14: =I37+I60 -> 7228 | J14: =J37+J60 -> 5911 | K14: =L14+M14 -> 7283 | L14: =L37+L60 -> 3879 | M14: =M37+M60 -> 3404 | N14: =O14+P14 -> 7306 | O14: =O37+O60 -> 3785 | P14: =P37+P60 -> 3521 | Q14: =R14+S14 -> 31552 | R14: =R37+R60 -> 16829 | S14: =S37+S60 -> 14723 | T14: =U14+V14 -> 4061 | U14: =U37+U60 -> 2135 | V14: =V37+V60 -> 1926 | W14: =X14+Y14 -> 4905 | X14: =X37+X60 -> 2777 | Y14: =Y37+Y60 -> 2128 | Z14: =AA14+AB14 -> 3799 | AA14: =AA37+AA60 -> 2013 | AB14: =AB37+AB60 -> 1786 | AC14: =AD14+AE14 -> 2806 | AD14: =AD37+AD60 -> 1497 | AE14: =AE37+AE60 -> 1309 | AF14: =AG14+AH14 -> 16291 | AG14: =AG37+AG60 -> 8930 | AH14: =AH37+AH60 -> 7361 | AI14: =AJ14+AK14 -> 1589 | AJ14: =AJ37+AJ60 -> 895 | AK14: =AK37+AK60 -> 694 | AL14: =AM14+AN14 -> 832 | AM14: =AM37+AM60 -> 474 | AN14: =AN37+AN60 -> 358 | AO14: =AP14+AQ14 -> 578 | AP14: =AP37+AP60 -> 321 | AQ14: =AQ37+AQ60 -> 257 | AR14: =AS14+AT14 -> 1240 | AS14: =AS37+AS60 -> 690 | AT14: =AT37+AT60 -> 550 | AU14: =AV14+AW14 -> 1360 | AV14: =AV37+AV60 -> 739 | AW14: =AW37+AW60 -> 621 | AX14: =AY14+AZ14 -> 1286 | AY14: =AY37+AY60 -> 807 | AZ14: =AZ37+AZ60 -> 479 | BA14: =BB14+BC14 -> 1859 | BB14: =BB37+BB60 -> 1110 | BC14: =BC37+BC60 -> 749 | BD14: =BE14+BF14 -> 7479 | BE14: =BE37+BE60 -> 4146 | BF14: =BF37+BF60 -> 3333 | BG14: =BH14+BI14 -> 2847 | BH14: =BH37+BH60 -> 1482 | BI14: =BI37+BI60 -> 1365 | BJ14: =BK14+BL14 -> 921 | BK14: =BK37+BK60 -> 509 | BL14: =BL37+BL60 -> 412 | BM14: =BN14+BO14 -> 2219 | BN14: =BN37+BN60 -> 1335 | BO14: =BO37+BO60 -> 884 | BP14: =BQ14+BR14 -> 426 | BQ14: =BQ37+BQ60 -> 271 | BR14: =BR37+BR60 -> 155
A15: 40-44 | B15: =C15+D15 -> 184501 | C15: =F15+I15+L15+O15+R15+U15+X15+AA15+AD15+AG15+AJ15+AM15+AP15+AS15+AV15+AY15+BB15+BE15+BH15+BK15+BN15+BQ15 -> 96839 | D15: =G15+J15+M15+P15+S15+V15+Y15+AB15+AE15+AH15+AK15+AN15+AQ15+AT15+AW15+AZ15+BC15+BF15+BI15+BL15+BO15+BR15 -> 87662 | E15: =F15+G15 -> 38563 | F15: =F38+F61 -> 19819 | G15: =G38+G61 -> 18744 | H15: =I15+J15 -> 17262 | I15: =I38+I61 -> 9297 | J15: =J38+J61 -> 7965 | K15: =L15+M15 -> 9512 | L15: =L38+L61 -> 4976 | M15: =M38+M61 -> 4536 | N15: =O15+P15 -> 9789 | O15: =O38+O61 -> 4939 | P15: =P38+P61 -> 4850 | Q15: =R15+S15 -> 38138 | R15: =R38+R61 -> 19819 | S15: =S38+S61 -> 18319 | T15: =U15+V15 -> 5916 | U15: =U38+U61 -> 3011 | V15: =V38+V61 -> 2905 | W15: =X15+Y15 -> 5885 | X15: =X38+X61 -> 3288 | Y15: =Y38+Y61 -> 2597 | Z15: =AA15+AB15 -> 5008 | AA15: =AA38+AA61 -> 2633 | AB15: =AB38+AB61 -> 2375 | AC15: =AD15+AE15 -> 3791 | AD15: =AD38+AD61 -> 1982 | AE15: =AE38+AE61 -> 1809 | AF15: =AG15+AH15 -> 20566 | AG15: =AG38+AG61 -> 10669 | AH15: =AH38+AH61 -> 9897 | AI15: =AJ15+AK15 -> 2010 | AJ15: =AJ38+AJ61 -> 1130 | AK15: =AK38+AK61 -> 880 | AL15: =AM15+AN15 -> 1029 | AM15: =AM38+AM61 -> 566 | AN15: =AN38+AN61 -> 463 | AO15: =AP15+AQ15 -> 795 | AP15: =AP38+AP61 -> 441 | AQ15: =AQ38+AQ61 -> 354 | AR15: =AS15+AT15 -> 1689 | AS15: =AS38+AS61 -> 950 | AT15: =AT38+AT61 -> 739 | AU15: =AV15+AW15 -> 1949 | AV15: =AV38+AV61 -> 1029 | AW15: =AW38+AW61 -> 920 | AX15: =AY15+AZ15 -> 1724 | AY15: =AY38+AY61 -> 994 | AZ15: =AZ38+AZ61 -> 730 | BA15: =BB15+BC15 -> 2109 | BB15: =BB38+BB61 -> 1224 | BC15: =BC38+BC61 -> 885 | BD15: =BE15+BF15 -> 10279 | BE15: =BE38+BE61 -> 5619 | BF15: =BF38+BF61 -> 4660 | BG15: =BH15+BI15 -> 3747 | BH15: =BH38+BH61 -> 1843 | BI15: =BI38+BI61 -> 1904 | BJ15: =BK15+BL15 -> 1289 | BK15: =BK38+BK61 -> 695 | BL15: =BL38+BL61 -> 594 | BM15: =BN15+BO15 -> 2868 | BN15: =BN38+BN61 -> 1552 | BO15: =BO38+BO61 -> 1316 | BP15: =BQ15+BR15 -> 583 | BQ15: =BQ38+BQ61 -> 363 | BR15: =BR38+BR61 -> 220
A16: 45-49 | B16: =C16+D16 -> 185077 | C16: =F16+I16+L16+O16+R16+U16+X16+AA16+AD16+AG16+AJ16+AM16+AP16+AS16+AV16+AY16+BB16+BE16+BH16+BK16+BN16+BQ16 -> 96342 | D16: =G16+J16+M16+P16+S16+V16+Y16+AB16+AE16+AH16+AK16+AN16+AQ16+AT16+AW16+AZ16+BC16+BF16+BI16+BL16+BO16+BR16 -> 88735 | E16: =F16+G16 -> 36759 | F16: =F39+F62 -> 18613 | G16: =G39+G62 -> 18146 | H16: =I16+J16 -> 17982 | I16: =I39+I62 -> 9371 | J16: =J39+J62 -> 8611 | K16: =L16+M16 -> 9455 | L16: =L39+L62 -> 4944 | M16: =M39+M62 -> 4511 | N16: =O16+P16 -> 10941 | O16: =O39+O62 -> 5606 | P16: =P39+P62 -> 5335 | Q16: =R16+S16 -> 34600 | R16: =R39+R62 -> 17191 | S16: =S39+S62 -> 17409 | T16: =U16+V16 -> 6772 | U16: =U39+U62 -> 3456 | V16: =V39+V62 -> 3316 | W16: =X16+Y16 -> 6298 | X16: =X39+X62 -> 3503 | Y16: =Y39+Y62 -> 2795 | Z16: =AA16+AB16 -> 5730 | AA16: =AA39+AA62 -> 3017 | AB16: =AB39+AB62 -> 2713 | AC16: =AD16+AE16 -> 4356 | AD16: =AD39+AD62 -> 2310 | AE16: =AE39+AE62 -> 2046 | AF16: =AG16+AH16 -> 20323 | AG16: =AG39+AG62 -> 10453 | AH16: =AH39+AH62 -> 9870 | AI16: =AJ16+AK16 -> 2329 | AJ16: =AJ39+AJ62 -> 1388 | AK16: =AK39+AK62 -> 941 | AL16: =AM16+AN16 -> 1177 | AM16: =AM39+AM62 -> 666 | AN16: =AN39+AN62 -> 511 | AO16: =AP16+AQ16 -> 880 | AP16: =AP39+AP62 -> 503 | AQ16: =AQ39+AQ62 -> 377 | AR16: =AS16+AT16 -> 1856 | AS16: =AS39+AS62 -> 1006 | AT16: =AT39+AT62 -> 850 | AU16: =AV16+AW16 -> 2118 | AV16: =AV39+AV62 -> 1238 | AW16: =AW39+AW62 -> 880 | AX16: =AY16+AZ16 -> 1850 | AY16: =AY39+AY62 -> 1048 | AZ16: =AZ39+AZ62 -> 802 | BA16: =BB16+BC16 -> 2393 | BB16: =BB39+BB62 -> 1460 | BC16: =BC39+BC62 -> 933 | BD16: =BE16+BF16 -> 10361 | BE16: =BE39+BE62 -> 5585 | BF16: =BF39+BF62 -> 4776 | BG16: =BH16+BI16 -> 3578 | BH16: =BH39+BH62 -> 1909 | BI16: =BI39+BI62 -> 1669 | BJ16: =BK16+BL16 -> 1606 | BK16: =BK39+BK62 -> 948 | BL16: =BL39+BL62 -> 658 | BM16: =BN16+BO16 -> 3061 | BN16: =BN39+BN62 -> 1719 | BO16: =BO39+BO62 -> 1342 | BP16: =BQ16+BR16 -> 652 | BQ16: =BQ39+BQ62 -> 408 | BR16: =BR39+BR62 -> 244
A17: 50-54 | B17: =C17+D17 -> 222489 | C17: =F17+I17+L17+O17+R17+U17+X17+AA17+AD17+AG17+AJ17+AM17+AP17+AS17+AV17+AY17+BB17+BE17+BH17+BK17+BN17+BQ17 -> 115880 | D17: =G17+J17+M17+P17+S17+V17+Y17+AB17+AE17+AH17+AK17+AN17+AQ17+AT17+AW17+AZ17+BC17+BF17+BI17+BL17+BO17+BR17 -> 106609 | E17: =F17+G17 -> 43828 | F17: =F40+F63 -> 22055 | G17: =G40+G63 -> 21773 | H17: =I17+J17 -> 23148 | I17: =I40+I63 -> 11991 | J17: =J40+J63 -> 11157 | K17: =L17+M17 -> 11344 | L17: =L40+L63 -> 5919 | M17: =M40+M63 -> 5425 | N17: =O17+P17 -> 12876 | O17: =O40+O63 -> 6753 | P17: =P40+P63 -> 6123 | Q17: =R17+S17 -> 37576 | R17: =R40+R63 -> 18872 | S17: =S40+S63 -> 18704 | T17: =U17+V17 -> 8497 | U17: =U40+U63 -> 4529 | V17: =V40+V63 -> 3968 | W17: =X17+Y17 -> 8292 | X17: =X40+X63 -> 4466 | Y17: =Y40+Y63 -> 3826 | Z17: =AA17+AB17 -> 7358 | AA17: =AA40+AA63 -> 3938 | AB17: =AB40+AB63 -> 3420 | AC17: =AD17+AE17 -> 5365 | AD17: =AD40+AD63 -> 2868 | AE17: =AE40+AE63 -> 2497 | AF17: =AG17+AH17 -> 24103 | AG17: =AG40+AG63 -> 11962 | AH17: =AH40+AH63 -> 12141 | AI17: =AJ17+AK17 -> 3362 | AJ17: =AJ40+AJ63 -> 1903 | AK17: =AK40+AK63 -> 1459 | AL17: =AM17+AN17 -> 1755 | AM17: =AM40+AM63 -> 1012 | AN17: =AN40+AN63 -> 743 | AO17: =AP17+AQ17 -> 1268 | AP17: =AP40+AP63 -> 766 | AQ17: =AQ40+AQ63 -> 502 | AR17: =AS17+AT17 -> 2667 | AS17: =AS40+AS63 -> 1520 | AT17: =AT40+AT63 -> 1147 | AU17: =AV17+AW17 -> 3081 | AV17: =AV40+AV63 -> 1657 | AW17: =AW40+AW63 -> 1424 | AX17: =AY17+AZ17 -> 2620 | AY17: =AY40+AY63 -> 1522 | AZ17: =AZ40+AZ63 -> 1098 | BA17: =BB17+BC17 -> 3305 | BB17: =BB40+BB63 -> 1933 | BC17: =BC40+BC63 -> 1372 | BD17: =BE17+BF17 -> 11080 | BE17: =BE40+BE63 -> 6018 | BF17: =BF40+BF63 -> 5062 | BG17: =BH17+BI17 -> 3733 | BH17: =BH40+BH63 -> 2077 | BI17: =BI40+BI63 -> 1656 | BJ17: =BK17+BL17 -> 2222 | BK17: =BK40+BK63 -> 1266 | BL17: =BL40+BL63 -> 956 | BM17: =BN17+BO17 -> 4109 | BN17: =BN40+BN63 -> 2297 | BO17: =BO40+BO63 -> 1812 | BP17: =BQ17+BR17 -> 900 | BQ17: =BQ40+BQ63 -> 556 | BR17: =BR40+BR63 -> 344
A18: 55-59 | B18: =C18+D18 -> 224890 | C18: =F18+I18+L18+O18+R18+U18+X18+AA18+AD18+AG18+AJ18+AM18+AP18+AS18+AV18+AY18+BB18+BE18+BH18+BK18+BN18+BQ18 -> 115833 | D18: =G18+J18+M18+P18+S18+V18+Y18+AB18+AE18+AH18+AK18+AN18+AQ18+AT18+AW18+AZ18+BC18+BF18+BI18+BL18+BO18+BR18 -> 109057 | E18: =F18+G18 -> 43195 | F18: =F41+F64 -> 21612 | G18: =G41+G64 -> 21583 | H18: =I18+J18 -> 23647 | I18: =I41+I64 -> 12107 | J18: =J41+J64 -> 11540 | K18: =L18+M18 -> 11827 | L18: =L41+L64 -> 6143 | M18: =M41+M64 -> 5684 | N18: =O18+P18 -> 12621 | O18: =O41+O64 -> 6465 | P18: =P41+P64 -> 6156 | Q18: =R18+S18 -> 33589 | R18: =R41+R64 -> 17017 | S18: =S41+S64 -> 16572 | T18: =U18+V18 -> 8653 | U18: =U41+U64 -> 4385 | V18: =V41+V64 -> 4268 | W18: =X18+Y18 -> 9632 | X18: =X41+X64 -> 5171 | Y18: =Y41+Y64 -> 4461 | Z18: =AA18+AB18 -> 8393 | AA18: =AA41+AA64 -> 4380 | AB18: =AB41+AB64 -> 4013 | AC18: =AD18+AE18 -> 6062 | AD18: =AD41+AD64 -> 3111 | AE18: =AE41+AE64 -> 2951 | AF18: =AG18+AH18 -> 22563 | AG18: =AG41+AG64 -> 11343 | AH18: =AH41+AH64 -> 11220 | AI18: =AJ18+AK18 -> 4493 | AJ18: =AJ41+AJ64 -> 2451 | AK18: =AK41+AK64 -> 2042 | AL18: =AM18+AN18 -> 2392 | AM18: =AM41+AM64 -> 1247 | AN18: =AN41+AN64 -> 1145 | AO18: =AP18+AQ18 -> 1460 | AP18: =AP41+AP64 -> 810 | AQ18: =AQ41+AQ64 -> 650 | AR18: =AS18+AT18 -> 3125 | AS18: =AS41+AS64 -> 1638 | AT18: =AT41+AT64 -> 1487 | AU18: =AV18+AW18 -> 3844 | AV18: =AV41+AV64 -> 2012 | AW18: =AW41+AW64 -> 1832 | AX18: =AY18+AZ18 -> 2988 | AY18: =AY41+AY64 -> 1648 | AZ18: =AZ41+AZ64 -> 1340 | BA18: =BB18+BC18 -> 4403 | BB18: =BB41+BB64 -> 2368 | BC18: =BC41+BC64 -> 2035 | BD18: =BE18+BF18 -> 9971 | BE18: =BE41+BE64 -> 5407 | BF18: =BF41+BF64 -> 4564 | BG18: =BH18+BI18 -> 4054 | BH18: =BH41+BH64 -> 2112 | BI18: =BI41+BI64 -> 1942 | BJ18: =BK18+BL18 -> 2901 | BK18: =BK41+BK64 -> 1564 | BL18: =BL41+BL64 -> 1337 | BM18: =BN18+BO18 -> 4136 | BN18: =BN41+BN64 -> 2303 | BO18: =BO41+BO64 -> 1833 | BP18: =BQ18+BR18 -> 941 | BQ18: =BQ41+BQ64 -> 539 | BR18: =BR41+BR64 -> 402
... A27: 100+ | B27: =C27+D27 -> 576 | C27: =F27+I27+L27+O27+R27+U27+X27+AA27+AD27+AG27+AJ27+AM27+AP27+AS27+AV27+AY27+BB27+BE27+BH27+BK27+BN27+BQ27 -> 59 | D27: =G27+J27+M27+P27+S27+V27+Y27+AB27+AE27+AH27+AK27+AN27+AQ27+AT27+AW27+AZ27+BC27+BF27+BI27+BL27+BO27+BR27 -> 517 | E27: =F27+G27 -> 72 | F27: =F50+F73 -> 11 | G27: =G50+G73 -> 61 | H27: =I27+J27 -> 52 | I27: =I50+I73 -> 8 | J27: =J50+J73 -> 44 | K27: =L27+M27 -> 42 | L27: =L50+L73 -> 5 | M27: =M50+M73 -> 37 | N27: =O27+P27 -> 37 | O27: =O50+O73 -> 4 | P27: =P50+P73 -> 33 | Q27: =R27+S27 -> 43 | R27: =R50+R73 -> 1 | S27: =S50+S73 -> 42 | T27: =U27+V27 -> 34 | U27: =U50+U73 -> 6 | V27: =V50+V73 -> 28 | W27: =X27+Y27 -> 14 | X27: =X50+X73 -> 0 | Y27: =Y50+Y73 -> 14 | Z27: =AA27+AB27 -> 47 | AA27: =AA50+AA73 -> 2 | AB27: =AB50+AB73 -> 45 | AC27: =AD27+AE27 -> 34 | AD27: =AD50+AD73 -> 6 | AE27: =AE50+AE73 -> 28 | AF27: =AG27+AH27 -> 29 | AG27: =AG50+AG73 -> 1 | AH27: =AH50+AH73 -> 28 | AI27: =AJ27+AK27 -> 28 | AJ27: =AJ50+AJ73 -> 2 | AK27: =AK50+AK73 -> 26 | AL27: =AM27+AN27 -> 5 | AM27: =AM50+AM73 -> 1 | AN27: =AN50+AN73 -> 4 | AO27: =AP27+AQ27 -> 13 | AP27: =AP50+AP73 -> 2 | AQ27: =AQ50+AQ73 -> 11 | AR27: =AS27+AT27 -> 15 | AS27: =AS50+AS73 -> 0 | AT27: =AT50+AT73 -> 15 | AU27: =AV27+AW27 -> 15 | AV27: =AV50+AV73 -> 0 | AW27: =AW50+AW73 -> 15 | AX27: =AY27+AZ27 -> 8 | AY27: =AY50+AY73 -> 0 | AZ27: =AZ50+AZ73 -> 8 | BA27: =BB27+BC27 -> 15 | BB27: =BB50+BB73 -> 4 | BC27: =BC50+BC73 -> 11 | BD27: =BE27+BF27 -> 20 | BE27: =BE50+BE73 -> 1 | BF27: =BF50+BF73 -> 19 | BG27: =BH27+BI27 -> 19 | BH27: =BH50+BH73 -> 2 | BI27: =BI50+BI73 -> 17 | BJ27: =BK27+BL27 -> 18 | BK27: =BK50+BK73 -> 1 | BL27: =BL50+BL73 -> 17 | BM27: =BN27+BO27 -> 16 | BN27: =BN50+BN73 -> 2 | BO27: =BO50+BO73 -> 14 | BP27: =BQ27+BR27 -> 0 | BQ27: =BQ50+BQ73 -> 0 | BR27: =BR50+BR73 -> 0
A28: ◎ 한국인
A29: 총계 | B29: =C29+D29 -> 2559924 | C29: =IF(SUM(C30:C50)=SUM(F29,I29,L29,O29,R29,U29,X29,AA29,AD29,AG29,AJ29,AM29,AP29,AS29,AV29,AY29,BB29,BE29,BH29,BK29,BN29,BQ29),SUM(C30:C50),error) -> 1292868 | D29: =IF(SUM(D30:D50)=SUM(G29,J29,M29,P29,S29,V29,Y29,AB29,AE29,AH29,AK29,AN29,AQ29,AT29,AW29,AZ29,BC29,BF29,BI29,BL29,BO29,BR29),SUM(D30:D50)) -> 1267056 | E29: =F29+G29 -> 493102 | F29: 250120 | G29: 242982 | H29: =I29+J29 -> 248244 | I29: 124299 | J29: 123945 | K29: =L29+M29 -> 138059 | L29: 69330 | M29: 68729 | N29: =O29+P29 -> 153306 | O29: 75750 | P29: 77556 | Q29: =R29+S29 -> 406053 | R29: 209388 | S29: 196665 | T29: =U29+V29 -> 100011 | U29: 49553 | V29: 50458 | W29: =X29+Y29 -> 100416 | X29: 51183 | Y29: 49233 | Z29: =AA29+AB29 -> 94168 | AA29: 46364 | AB29: 47804 | AC29: =AD29+AE29 -> 69171 | AD29: 34012 | AE29: 35159 | AF29: =AG29+AH29 -> 267076 | AG29: 134335 | AH29: 132741 | AI29: =AJ29+AK29 -> 50016 | AJ29: 24726 | AK29: 25290 | AL29: =AM29+AN29 -> 24068 | AM29: 12083 | AN29: 11985 | AO29: =AP29+AQ29 -> 15782 | AP29: 7859 | AQ29: 7923 | AR29: =AS29+AT29 -> 34201 | AS29: 16300 | AT29: 17901 | AU29: =AV29+AW29 -> 41450 | AV29: 20527 | AW29: 20923 | AX29: =AY29+AZ29 -> 30127 | AY29: 15496 | AZ29: 14631 | BA29: =BB29+BC29 -> 42245 | BB29: 22075 | BC29: 20170 | BD29: =BE29+BF29 -> 111173 | BE29: 58275 | BF29: 52898 | BG29: =BH29+BI29 -> 55525 | BH29: 27337 | BI29: 28188 | BJ29: =BK29+BL29 -> 29863 | BK29: 15192 | BL29: 14671 | BM29: =BN29+BO29 -> 46754 | BN29: 23605 | BO29: 23149 | BP29: =BQ29+BR29 -> 9114 | BQ29: 5059 | BR29: 4055
A30: 0-4 | B30: =C30+D30 -> 60838 | C30: 31261 | D30: 29577 | E30: =F30+G30 -> 12232 | F30: 6304 | G30: 5928 | H30: =I30+J30 -> 5460 | I30: 2825 | J30: 2635 | K30: =L30+M30 -> 3661 | L30: 1911 | M30: 1750 | N30: =O30+P30 -> 3404 | O30: 1758 | P30: 1646 | Q30: =R30+S30 -> 12428 | R30: 6399 | S30: 6029 | T30: =U30+V30 -> 1851 | U30: 930 | V30: 921 | W30: =X30+Y30 -> 2426 | X30: 1223 | Y30: 1203 | Z30: =AA30+AB30 -> 1732 | AA30: 875 | AB30: 857 | AC30: =AD30+AE30 -> 1383 | AD30: 717 | AE30: 666 | AF30: =AG30+AH30 -> 6806 | AG30: 3506 | AH30: 3300 | AI30: =AJ30+AK30 -> 829 | AJ30: 439 | AK30: 390 | AL30: =AM30+AN30 -> 390 | AM30: 213 | AN30: 177 | AO30: =AP30+AQ30 -> 218 | AP30: 98 | AQ30: 120 | AR30: =AS30+AT30 -> 514 | AS30: 261 | AT30: 253 | AU30: =AV30+AW30 -> 541 | AV30: 270 | AW30: 271 | AX30: =AY30+AZ30 -> 461 | AY30: 227 | AZ30: 234 | BA30: =BB30+BC30 -> 795 | BB30: 407 | BC30: 388 | BD30: =BE30+BF30 -> 2399 | BE30: 1196 | BF30: 1203 | BG30: =BH30+BI30 -> 1727 | BH30: 871 | BI30: 856 | BJ30: =BK30+BL30 -> 409 | BK30: 214 | BL30: 195 | BM30: =BN30+BO30 -> 1034 | BN30: 544 | BO30: 490 | BP30: =BQ30+BR30 -> 138 | BQ30: 73 | BR30: 65
A31: 5-9 | B31: =C31+D31 -> 93987 | C31: 48354 | D31: 45633 | E31: =F31+G31 -> 20390 | F31: 10612 | G31: 9778 | H31: =I31+J31 -> 8181 | I31: 4163 | J31: 4018 | K31: =L31+M31 -> 5136 | L31: 2630 | M31: 2506 | N31: =O31+P31 -> 5205 | O31: 2677 | P31: 2528 | Q31: =R31+S31 -> 20704 | R31: 10612 | S31: 10092 | T31: =U31+V31 -> 3147 | U31: 1659 | V31: 1488 | W31: =X31+Y31 -> 2664 | X31: 1373 | Y31: 1291 | Z31: =AA31+AB31 -> 2643 | AA31: 1392 | AB31: 1251 | AC31: =AD31+AE31 -> 1911 | AD31: 975 | AE31: 936 | AF31: =AG31+AH31 -> 10385 | AG31: 5248 | AH31: 5137 | AI31: =AJ31+AK31 -> 845 | AJ31: 433 | AK31: 412 | AL31: =AM31+AN31 -> 447 | AM31: 226 | AN31: 221 | AO31: =AP31+AQ31 -> 337 | AP31: 183 | AQ31: 154 | AR31: =AS31+AT31 -> 741 | AS31: 351 | AT31: 390 | AU31: =AV31+AW31 -> 703 | AV31: 366 | AW31: 337 | AX31: =AY31+AZ31 -> 637 | AY31: 342 | AZ31: 295 | BA31: =BB31+BC31 -> 774 | BB31: 391 | BC31: 383 | BD31: =BE31+BF31 -> 4700 | BE31: 2445 | BF31: 2255 | BG31: =BH31+BI31 -> 2301 | BH31: 1155 | BI31: 1146 | BJ31: =BK31+BL31 -> 591 | BK31: 330 | BL31: 261 | BM31: =BN31+BO31 -> 1364 | BN31: 693 | BO31: 671 | BP31: =BQ31+BR31 -> 181 | BQ31: 98 | BR31: 83
A32: 10-14 | B32: =C32+D32 -> 109353 | C32: 56795 | D32: 52558 | E32: =F32+G32 -> 23812 | F32: 12408 | G32: 11404 | H32: =I32+J32 -> 9677 | I32: 4963 | J32: 4714 | K32: =L32+M32 -> 5899 | L32: 3078 | M32: 2821 | N32: =O32+P32 -> 6391 | O32: 3401 | P32: 2990 | Q32: =R32+S32 -> 22789 | R32: 11886 | S32: 10903 | T32: =U32+V32 -> 4093 | U32: 2099 | V32: 1994 | W32: =X32+Y32 -> 2979 | X32: 1548 | Y32: 1431 | Z32: =AA32+AB32 -> 3291 | AA32: 1715 | AB32: 1576 | AC32: =AD32+AE32 -> 2434 | AD32: 1296 | AE32: 1138 | AF32: =AG32+AH32 -> 11560 | AG32: 5908 | AH32: 5652 | AI32: =AJ32+AK32 -> 962 | AJ32: 502 | AK32: 460 | AL32: =AM32+AN32 -> 511 | AM32: 264 | AN32: 247 | AO32: =AP32+AQ32 -> 402 | AP32: 226 | AQ32: 176 | AR32: =AS32+AT32 -> 928 | AS32: 487 | AT32: 441 | AU32: =AV32+AW32 -> 975 | AV32: 495 | AW32: 480 | AX32: =AY32+AZ32 -> 820 | AY32: 419 | AZ32: 401 | BA32: =BB32+BC32 -> 1023 | BB32: 497 | BC32: 526 | BD32: =BE32+BF32 -> 5601 | BE32: 2900 | BF32: 2701 | BG32: =BH32+BI32 -> 2604 | BH32: 1332 | BI32: 1272 | BJ32: =BK32+BL32 -> 798 | BK32: 425 | BL32: 373 | BM32: =BN32+BO32 -> 1585 | BN32: 834 | BO32: 751 | BP32: =BQ32+BR32 -> 219 | BQ32: 112 | BR32: 107
A33: 15-19 | B33: =C33+D33 -> 108474 | C33: 57234 | D33: 51240 | E33: =F33+G33 -> 21944 | F33: 11568 | G33: 10376 | H33: =I33+J33 -> 9982 | I33: 5258 | J33: 4724 | K33: =L33+M33 -> 6317 | L33: 3537 | M33: 2780 | N33: =O33+P33 -> 6548 | O33: 3433 | P33: 3115 | Q33: =R33+S33 -> 21007 | R33: 10907 | S33: 10100 | T33: =U33+V33 -> 4504 | U33: 2392 | V33: 2112 | W33: =X33+Y33 -> 3348 | X33: 1769 | Y33: 1579 | Z33: =AA33+AB33 -> 3935 | AA33: 2095 | AB33: 1840 | AC33: =AD33+AE33 -> 2801 | AD33: 1547 | AE33: 1254 | AF33: =AG33+AH33 -> 11330 | AG33: 5839 | AH33: 5491 | AI33: =AJ33+AK33 -> 1170 | AJ33: 628 | AK33: 542 | AL33: =AM33+AN33 -> 547 | AM33: 289 | AN33: 258 | AO33: =AP33+AQ33 -> 484 | AP33: 228 | AQ33: 256 | AR33: =AS33+AT33 -> 963 | AS33: 499 | AT33: 464 | AU33: =AV33+AW33 -> 1139 | AV33: 579 | AW33: 560 | AX33: =AY33+AZ33 -> 954 | AY33: 531 | AZ33: 423 | BA33: =BB33+BC33 -> 1121 | BB33: 635 | BC33: 486 | BD33: =BE33+BF33 -> 5408 | BE33: 2896 | BF33: 2512 | BG33: =BH33+BI33 -> 2059 | BH33: 1078 | BI33: 981 | BJ33: =BK33+BL33 -> 951 | BK33: 465 | BL33: 486 | BM33: =BN33+BO33 -> 1737 | BN33: 954 | BO33: 783 | BP33: =BQ33+BR33 -> 225 | BQ33: 107 | BR33: 118
A34: 20-24 | B34: =C34+D34 -> 121499 | C34: 69188 | D34: 52311 | E34: =F34+G34 -> 23105 | F34: 13284 | G34: 9821 | H34: =I34+J34 -> 11393 | I34: 6376 | J34: 5017 | K34: =L34+M34 -> 6167 | L34: 3461 | M34: 2706 | N34: =O34+P34 -> 7482 | O34: 4047 | P34: 3435 | Q34: =R34+S34 -> 23351 | R34: 13563 | S34: 9788 | T34: =U34+V34 -> 4719 | U34: 2692 | V34: 2027 | W34: =X34+Y34 -> 3959 | X34: 2438 | Y34: 1521 | Z34: =AA34+AB34 -> 3778 | AA34: 2234 | AB34: 1544 | AC34: =AD34+AE34 -> 2909 | AD34: 1617 | AE34: 1292 | AF34: =AG34+AH34 -> 18103 | AG34: 9680 | AH34: 8423 | AI34: =AJ34+AK34 -> 1172 | AJ34: 691 | AK34: 481 | AL34: =AM34+AN34 -> 649 | AM34: 375 | AN34: 274 | AO34: =AP34+AQ34 -> 454 | AP34: 259 | AQ34: 195 | AR34: =AS34+AT34 -> 934 | AS34: 545 | AT34: 389 | AU34: =AV34+AW34 -> 1137 | AV34: 665 | AW34: 472 | AX34: =AY34+AZ34 -> 1010 | AY34: 602 | AZ34: 408 | BA34: =BB34+BC34 -> 1210 | BB34: 743 | BC34: 467 | BD34: =BE34+BF34 -> 5160 | BE34: 3076 | BF34: 2084 | BG34: =BH34+BI34 -> 1817 | BH34: 1070 | BI34: 747 | BJ34: =BK34+BL34 -> 835 | BK34: 522 | BL34: 313 | BM34: =BN34+BO34 -> 1815 | BN34: 1051 | BO34: 764 | BP34: =BQ34+BR34 -> 340 | BQ34: 197 | BR34: 143
A35: 25-29 | B35: =C35+D35 -> 128767 | C35: 74051 | D35: 54716 | E35: =F35+G35 -> 27204 | F35: 15971 | G35: 11233 | H35: =I35+J35 -> 11656 | I35: 6607 | J35: 5049 | K35: =L35+M35 -> 6459 | L35: 3678 | M35: 2781 | N35: =O35+P35 -> 7582 | O35: 4071 | P35: 3511 | Q35: =R35+S35 -> 26611 | R35: 15246 | S35: 11365 | T35: =U35+V35 -> 4173 | U35: 2410 | V35: 1763 | W35: =X35+Y35 -> 4374 | X35: 2539 | Y35: 1835 | Z35: =AA35+AB35 -> 3157 | AA35: 1819 | AB35: 1338 | AC35: =AD35+AE35 -> 2584 | AD35: 1468 | AE35: 1116 | AF35: =AG35+AH35 -> 17447 | AG35: 9894 | AH35: 7553 | AI35: =AJ35+AK35 -> 1302 | AJ35: 762 | AK35: 540 | AL35: =AM35+AN35 -> 721 | AM35: 452 | AN35: 269 | AO35: =AP35+AQ35 -> 430 | AP35: 244 | AQ35: 186 | AR35: =AS35+AT35 -> 1015 | AS35: 596 | AT35: 419 | AU35: =AV35+AW35 -> 1145 | AV35: 652 | AW35: 493 | AX35: =AY35+AZ35 -> 1013 | AY35: 574 | AZ35: 439 | BA35: =BB35+BC35 -> 1413 | BB35: 866 | BC35: 547 | BD35: =BE35+BF35 -> 5180 | BE35: 3039 | BF35: 2141 | BG35: =BH35+BI35 -> 2022 | BH35: 1101 | BI35: 921 | BJ35: =BK35+BL35 -> 749 | BK35: 450 | BL35: 299 | BM35: =BN35+BO35 -> 2077 | BN35: 1308 | BO35: 769 | BP35: =BQ35+BR35 -> 453 | BQ35: 304 | BR35: 149
A36: 30-34 | B36: =C36+D36 -> 128763 | C36: 71342 | D36: 57421 | E36: =F36+G36 -> 26794 | F36: 15157 | G36: 11637 | H36: =I36+J36 -> 11813 | I36: 6527 | J36: 5286 | K36: =L36+M36 -> 6947 | L36: 3775 | M36: 3172 | N36: =O36+P36 -> 7039 | O36: 3846 | P36: 3193 | Q36: =R36+S36 -> 28617 | R36: 15647 | S36: 12970 | T36: =U36+V36 -> 3788 | U36: 2177 | V36: 1611 | W36: =X36+Y36 -> 4342 | X36: 2402 | Y36: 1940 | Z36: =AA36+AB36 -> 3068 | AA36: 1678 | AB36: 1390 | AC36: =AD36+AE36 -> 2341 | AD36: 1245 | AE36: 1096 | AF36: =AG36+AH36 -> 16121 | AG36: 8911 | AH36: 7210 | AI36: =AJ36+AK36 -> 1405 | AJ36: 771 | AK36: 634 | AL36: =AM36+AN36 -> 727 | AM36: 468 | AN36: 259 | AO36: =AP36+AQ36 -> 434 | AP36: 239 | AQ36: 195 | AR36: =AS36+AT36 -> 963 | AS36: 540 | AT36: 423 | AU36: =AV36+AW36 -> 1128 | AV36: 622 | AW36: 506 | AX36: =AY36+AZ36 -> 922 | AY36: 513 | AZ36: 409 | BA36: =BB36+BC36 -> 1458 | BB36: 850 | BC36: 608 | BD36: =BE36+BF36 -> 5441 | BE36: 2997 | BF36: 2444 | BG36: =BH36+BI36 -> 2341 | BH36: 1198 | BI36: 1143 | BJ36: =BK36+BL36 -> 719 | BK36: 413 | BL36: 306 | BM36: =BN36+BO36 -> 1932 | BN36: 1106 | BO36: 826 | BP36: =BQ36+BR36 -> 423 | BQ36: 260 | BR36: 163
A37: 35-39 | B37: =C37+D37 -> 132714 | C37: 70325 | D37: 62389 | E37: =F37+G37 -> 27208 | F37: 14214 | G37: 12994 | H37: =I37+J37 -> 11477 | I37: 6011 | J37: 5466 | K37: =L37+M37 -> 6845 | L37: 3550 | M37: 3295 | N37: =O37+P37 -> 6995 | O37: 3622 | P37: 3373 | Q37: =R37+S37 -> 30699 | R37: 16303 | S37: 14396 | T37: =U37+V37 -> 3829 | U37: 1998 | V37: 1831 | W37: =X37+Y37 -> 4367 | X37: 2342 | Y37: 2025 | Z37: =AA37+AB37 -> 3528 | AA37: 1882 | AB37: 1646 | AC37: =AD37+AE37 -> 2675 | AD37: 1424 | AE37: 1251 | AF37: =AG37+AH37 -> 15157 | AG37: 8163 | AH37: 6994 | AI37: =AJ37+AK37 -> 1450 | AJ37: 813 | AK37: 637 | AL37: =AM37+AN37 -> 767 | AM37: 441 | AN37: 326 | AO37: =AP37+AQ37 -> 460 | AP37: 256 | AQ37: 204 | AR37: =AS37+AT37 -> 1019 | AS37: 507 | AT37: 512 | AU37: =AV37+AW37 -> 1202 | AV37: 641 | AW37: 561 | AX37: =AY37+AZ37 -> 959 | AY37: 525 | AZ37: 434 | BA37: =BB37+BC37 -> 1518 | BB37: 849 | BC37: 669 | BD37: =BE37+BF37 -> 6708 | BE37: 3630 | BF37: 3078 | BG37: =BH37+BI37 -> 2758 | BH37: 1435 | BI37: 1323 | BJ37: =BK37+BL37 -> 842 | BK37: 472 | BL37: 370 | BM37: =BN37+BO37 -> 1860 | BN37: 1010 | BO37: 850 | BP37: =BQ37+BR37 -> 391 | BQ37: 237 | BR37: 154
A38: 40-44 | B38: =C38+D38 -> 178653 | C38: 93014 | D38: 85639 | E38: =F38+G38 -> 37893 | F38: 19384 | G38: 18509 | H38: =I38+J38 -> 16258 | I38: 8596 | J38: 7662 | K38: =L38+M38 -> 9305 | L38: 4849 | M38: 4456 | N38: =O38+P38 -> 9642 | O38: 4876 | P38: 4766 | Q38: =R38+S38 -> 37527 | R38: 19468 | S38: 18059 | T38: =U38+V38 -> 5783 | U38: 2929 | V38: 2854 | W38: =X38+Y38 -> 5549 | X38: 3042 | Y38: 2507 | Z38: =AA38+AB38 -> 4814 | AA38: 2536 | AB38: 2278 | AC38: =AD38+AE38 -> 3694 | AD38: 1937 | AE38: 1757 | AF38: =AG38+AH38 -> 19883 | AG38: 10196 | AH38: 9687 | AI38: =AJ38+AK38 -> 1914 | AJ38: 1078 | AK38: 836 | AL38: =AM38+AN38 -> 969 | AM38: 531 | AN38: 438 | AO38: =AP38+AQ38 -> 665 | AP38: 378 | AQ38: 287 | AR38: =AS38+AT38 -> 1536 | AS38: 819 | AT38: 717 | AU38: =AV38+AW38 -> 1895 | AV38: 1003 | AW38: 892 | AX38: =AY38+AZ38 -> 1521 | AY38: 829 | AZ38: 692 | BA38: =BB38+BC38 -> 1936 | BB38: 1091 | BC38: 845 | BD38: =BE38+BF38 -> 9766 | BE38: 5298 | BF38: 4468 | BG38: =BH38+BI38 -> 3651 | BH38: 1795 | BI38: 1856 | BJ38: =BK38+BL38 -> 1222 | BK38: 670 | BL38: 552 | BM38: =BN38+BO38 -> 2661 | BN38: 1359 | BO38: 1302 | BP38: =BQ38+BR38 -> 569 | BQ38: 350 | BR38: 219
A39: 45-49 | B39: =C39+D39 -> 181869 | C39: 94516 | D39: 87353 | E39: =F39+G39 -> 36402 | F39: 18394 | G39: 18008 | H39: =I39+J39 -> 17458 | I39: 9048 | J39: 8410 | K39: =L39+M39 -> 9332 | L39: 4873 | M39: 4459 | N39: =O39+P39 -> 10827 | O39: 5553 | P39: 5274 | Q39: =R39+S39 -> 34215 | R39: 17004 | S39: 17211 | T39: =U39+V39 -> 6696 | U39: 3424 | V39: 3272 | W39: =X39+Y39 -> 6123 | X39: 3401 | Y39: 2722 | Z39: =AA39+AB39 -> 5586 | AA39: 2955 | AB39: 2631 | AC39: =AD39+AE39 -> 4298 | AD39: 2282 | AE39: 2016 | AF39: =AG39+AH39 -> 20004 | AG39: 10269 | AH39: 9735 | AI39: =AJ39+AK39 -> 2277 | AJ39: 1361 | AK39: 916 | AL39: =AM39+AN39 -> 1143 | AM39: 650 | AN39: 493 | AO39: =AP39+AQ39 -> 791 | AP39: 462 | AQ39: 329 | AR39: =AS39+AT39 -> 1784 | AS39: 951 | AT39: 833 | AU39: =AV39+AW39 -> 2081 | AV39: 1219 | AW39: 862 | AX39: =AY39+AZ39 -> 1768 | AY39: 989 | AZ39: 779 | BA39: =BB39+BC39 -> 2302 | BB39: 1399 | BC39: 903 | BD39: =BE39+BF39 -> 10079 | BE39: 5421 | BF39: 4658 | BG39: =BH39+BI39 -> 3528 | BH39: 1888 | BI39: 1640 | BJ39: =BK39+BL39 -> 1556 | BK39: 921 | BL39: 635 | BM39: =BN39+BO39 -> 2974 | BN39: 1648 | BO39: 1326 | BP39: =BQ39+BR39 -> 645 | BQ39: 404 | BR39: 241
A40: 50-54 | B40: =C40+D40 -> 219932 | C40: 114634 | D40: 105298 | E40: =F40+G40 -> 43506 | F40: 21891 | G40: 21615 | H40: =I40+J40 -> 22671 | I40: 11739 | J40: 10932 | K40: =L40+M40 -> 11241 | L40: 5864 | M40: 5377 | N40: =O40+P40 -> 12787 | O40: 6726 | P40: 6061 | Q40: =R40+S40 -> 37280 | R40: 18735 | S40: 18545 | T40: =U40+V40 -> 8419 | U40: 4502 | V40: 3917 | W40: =X40+Y40 -> 8165 | X40: 4406 | Y40: 3759 | Z40: =AA40+AB40 -> 7232 | AA40: 3887 | AB40: 3345 | AC40: =AD40+AE40 -> 5302 | AD40: 2849 | AE40: 2453 | AF40: =AG40+AH40 -> 23852 | AG40: 11838 | AH40: 12014 | AI40: =AJ40+AK40 -> 3314 | AJ40: 1886 | AK40: 1428 | AL40: =AM40+AN40 -> 1737 | AM40: 1004 | AN40: 733 | AO40: =AP40+AQ40 -> 1232 | AP40: 748 | AQ40: 484 | AR40: =AS40+AT40 -> 2622 | AS40: 1491 | AT40: 1131 | AU40: =AV40+AW40 -> 3052 | AV40: 1644 | AW40: 1408 | AX40: =AY40+AZ40 -> 2561 | AY40: 1488 | AZ40: 1073 | BA40: =BB40+BC40 -> 3237 | BB40: 1894 | BC40: 1343 | BD40: =BE40+BF40 -> 10906 | BE40: 5923 | BF40: 4983 | BG40: =BH40+BI40 -> 3683 | BH40: 2056 | BI40: 1627 | BJ40: =BK40+BL40 -> 2183 | BK40: 1250 | BL40: 933 | BM40: =BN40+BO40 -> 4057 | BN40: 2263 | BO40: 1794 | BP40: =BQ40+BR40 -> 893 | BQ40: 550 | BR40: 343
A41: 55-59 | B41: =C41+D41 -> 222863 | C41: 114965 | D41: 107898 | E41: =F41+G41 -> 42989 | F41: 21528 | G41: 21461 | H41: =I41+J41 -> 23257 | I41: 11920 | J41: 11337 | K41: =L41+M41 -> 11716 | L41: 6096 | M41: 5620 | N41: =O41+P41 -> 12543 | O41: 6440 | P41: 6103 | Q41: =R41+S41 -> 33341 | R41: 16908 | S41: 16433 | T41: =U41+V41 -> 8594 | U41: 4360 | V41: 4234 | W41: =X41+Y41 -> 9509 | X41: 5112 | Y41: 4397 | Z41: =AA41+AB41 -> 8322 | AA41: 4352 | AB41: 3970 | AC41: =AD41+AE41 -> 6012 | AD41: 3088 | AE41: 2924 | AF41: =AG41+AH41 -> 22376 | AG41: 11262 | AH41: 11114 | AI41: =AJ41+AK41 -> 4456 | AJ41: 2441 | AK41: 2015 | AL41: =AM41+AN41 -> 2367 | AM41: 1239 | AN41: 1128 | AO41: =AP41+AQ41 -> 1434 | AP41: 800 | AQ41: 634 | AR41: =AS41+AT41 -> 3094 | AS41: 1630 | AT41: 1464 | AU41: =AV41+AW41 -> 3819 | AV41: 2004 | AW41: 1815 | AX41: =AY41+AZ41 -> 2941 | AY41: 1626 | AZ41: 1315 | BA41: =BB41+BC41 -> 4370 | BB41: 2356 | BC41: 2014 | BD41: =BE41+BF41 -> 9816 | BE41: 5323 | BF41: 4493 | BG41: =BH41+BI41 -> 4006 | BH41: 2098 | BI41: 1908 | BJ41: =BK41+BL41 -> 2867 | BK41: 1553 | BL41: 1314 | BM41: =BN41+BO41 -> 4102 | BN41: 2292 | BO41: 1810 | BP41: =BQ41+BR41 -> 932 | BQ41: 537 | BR41: 395
... A50: 100+ | B50: =C50+D50 -> 574 | C50: 59 | D50: 515 | E50: =F50+G50 -> 72 | F50: 11 | G50: 61 | H50: =I50+J50 -> 52 | I50: 8 | J50: 44 | K50: =L50+M50 -> 41 | L50: 5 | M50: 36 | N50: =O50+P50 -> 37 | O50: 4 | P50: 33 | Q50: =R50+S50 -> 42 | R50: 1 | S50: 41 | T50: =U50+V50 -> 34 | U50: 6 | V50: 28 | W50: =X50+Y50 -> 14 | X50: 0 | Y50: 14 | Z50: =AA50+AB50 -> 47 | AA50: 2 | AB50: 45 | AC50: =AD50+AE50 -> 34 | AD50: 6 | AE50: 28 | AF50: =AG50+AH50 -> 29 | AG50: 1 | AH50: 28 | AI50: =AJ50+AK50 -> 28 | AJ50: 2 | AK50: 26 | AL50: =AM50+AN50 -> 5 | AM50: 1 | AN50: 4 | AO50: =AP50+AQ50 -> 13 | AP50: 2 | AQ50: 11 | AR50: =AS50+AT50 -> 15 | AS50: 0 | AT50: 15 | AU50: =AV50+AW50 -> 15 | AV50: 0 | AW50: 15 | AX50: =AY50+AZ50 -> 8 | AY50: 0 | AZ50: 8 | BA50: =BB50+BC50 -> 15 | BB50: 4 | BC50: 11 | BD50: =BE50+BF50 -> 20 | BE50: 1 | BF50: 19 | BG50: =BH50+BI50 -> 19 | BH50: 2 | BI50: 17 | BJ50: =BK50+BL50 -> 18 | BK50: 1 | BL50: 17 | BM50: =BN50+BO50 -> 16 | BN50: 2 | BO50: 14 | BP50: =BQ50+BR50 -> 0 | BQ50: 0 | BR50: 0
A51: ◎ 외국인
A52: 총계 | B52: =IF(C52+D52=SUM(B53:B73),C52+D52,error) -> 65448 | C52: =IF(SUM(C53:C73)=SUM(F52,I52,L52,O52,R52,U52,X52,AA52,AD52,AG52,AJ52,AM52,AP52,AS52,AV52,AY52,BB52,BE52,BH52,BK52,BN52,BQ52),SUM(C53:C73),error) -> 42217 | D52: =IF(SUM(D53:D73)=SUM(G52,J52,M52,P52,S52,V52,Y52,AB52,AE52,AH52,AK52,AN52,AQ52,AT52,AW52,AZ52,BC52,BF52,BI52,BL52,BO52,BR52),SUM(D53:D73),error) -> 23231 | E52: 6852 | F52: 4522 | G52: 2330 | H52: 10724 | I52: 7093 | J52: 3631 | K52: 3066 | L52: 1969 | M52: 1097 | N52: 1917 | O52: 954 | P52: 963 | Q52: 5734 | R52: 3418 | S52: 2316 | T52: 1267 | U52: 735 | V52: 532 | W52: 3439 | X52: 2505 | Y52: 934 | Z52: 1637 | AA52: 854 | AB52: 783 | AC52: 898 | AD52: 493 | AE52: 405 | AF52: =SUM(AF53:AF73) -> 14436 | AG52: =SUM(AG53:AG73) -> 8768 | AH52: =SUM(AH53:AH73) -> 5668 | AI52: 812 | AJ52: 481 | AK52: 331 | AL52: 364 | AM52: 181 | AN52: 183 | AO52: 567 | AP52: 288 | AQ52: 279 | AR52: 1213 | AS52: 981 | AT52: 232 | AU52: 989 | AV52: 486 | AW52: 503 | AX52: 1849 | AY52: 1532 | AZ52: 317 | BA52: 1939 | BB52: 1542 | BC52: 397 | BD52: 4690 | BE52: 3194 | BF52: 1496 | BG52: 687 | BH52: 350 | BI52: 337 | BJ52: 512 | BK52: 239 | BL52: 273 | BM52: 1716 | BN52: 1519 | BO52: 197 | BP52: 140 | BQ52: 113 | BR52: 27
A53: 0-4 | B53: =C53+D53 -> 1050 | C53: =F53+I53+L53+O53+R53+U53+X53+AA53+AD53+AG53+AJ53+AM53+AP53+AS53+AV53+AY53+BB53+BE53+BH53+BK53+BN53+BQ53 -> 541 | D53: =G53+J53+M53+P53+S53+V53+Y53+AB53+AE53+AH53+AK53+AN53+AQ53+AT53+AW53+AZ53+BC53+BF53+BI53+BL53+BO53+BR53 -> 509 | E53: 67 | F53: 38 | G53: 29 | H53: 361 | I53: 193 | J53: 168 | K53: 35 | L53: 18 | M53: 17 | N53: 12 | O53: 3 | P53: 9 | Q53: 111 | R53: 51 | S53: 60 | T53: 8 | U53: 4 | V53: 4 | W53: 42 | X53: 21 | Y53: 21 | Z53: 11 | AA53: 5 | AB53: 6 | AC53: 6 | AD53: 4 | AE53: 2 | AF53: =SUM(AG53:AH53) -> 286 | AG53: 147 | AH53: 139 | AI53: 3 | AJ53: 1 | AK53: 2 | AL53: 1 | AM53: 0 | AN53: 1 | AO53: 1 | AP53: 1 | AQ53: 0 | AR53: 1 | AS53: 0 | AT53: 1 | AU53: 2 | AV53: 1 | AW53: 1 | AX53: 12 | AY53: 7 | AZ53: 5 | BA53: 15 | BB53: 11 | BC53: 4 | BD53: 72 | BE53: 35 | BF53: 37 | BG53: 3 | BH53: 1 | BI53: 2 | BJ53: 0 | BK53: 0 | BL53: 0 | BM53: 1 | BN53: 0 | BO53: 1 | BP53: 0 | BQ53: 0 | BR53: 0
A54: 5-9 | B54: =C54+D54 -> 824 | C54: =F54+I54+L54+O54+R54+U54+X54+AA54+AD54+AG54+AJ54+AM54+AP54+AS54+AV54+AY54+BB54+BE54+BH54+BK54+BN54+BQ54 -> 404 | D54: =G54+J54+M54+P54+S54+V54+Y54+AB54+AE54+AH54+AK54+AN54+AQ54+AT54+AW54+AZ54+BC54+BF54+BI54+BL54+BO54+BR54 -> 420 | E54: 62 | F54: 31 | G54: 31 | H54: 321 | I54: 167 | J54: 154 | K54: 31 | L54: 13 | M54: 18 | N54: 15 | O54: 7 | P54: 8 | Q54: 76 | R54: 32 | S54: 44 | T54: 3 | U54: 2 | V54: 1 | W54: 39 | X54: 25 | Y54: 14 | Z54: 6 | AA54: 4 | AB54: 2 | AC54: 4 | AD54: 2 | AE54: 2 | AF54: =SUM(AG54:AH54) -> 149 | AG54: 66 | AH54: 83 | AI54: 3 | AJ54: 1 | AK54: 2 | AL54: 1 | AM54: 1 | AN54: 0 | AO54: 1 | AP54: 1 | AQ54: 0 | AR54: 1 | AS54: 0 | AT54: 1 | AU54: 0 | AV54: 0 | AW54: 0 | AX54: 13 | AY54: 5 | AZ54: 8 | BA54: 13 | BB54: 10 | BC54: 3 | BD54: 72 | BE54: 32 | BF54: 40 | BG54: 7 | BH54: 3 | BI54: 4 | BJ54: 2 | BK54: 1 | BL54: 1 | BM54: 3 | BN54: 1 | BO54: 2 | BP54: 2 | BQ54: 0 | BR54: 2
A55: 10-14 | B55: =C55+D55 -> 490 | C55: =F55+I55+L55+O55+R55+U55+X55+AA55+AD55+AG55+AJ55+AM55+AP55+AS55+AV55+AY55+BB55+BE55+BH55+BK55+BN55+BQ55 -> 242 | D55: =G55+J55+M55+P55+S55+V55+Y55+AB55+AE55+AH55+AK55+AN55+AQ55+AT55+AW55+AZ55+BC55+BF55+BI55+BL55+BO55+BR55 -> 248 | E55: 47 | F55: 27 | G55: 20 | H55: 179 | I55: 95 | J55: 84 | K55: 19 | L55: 11 | M55: 8 | N55: 10 | O55: 9 | P55: 1 | Q55: 45 | R55: 18 | S55: 27 | T55: 6 | U55: 1 | V55: 5 | W55: 33 | X55: 17 | Y55: 16 | Z55: 6 | AA55: 2 | AB55: 4 | AC55: 5 | AD55: 2 | AE55: 3 | AF55: =SUM(AG55:AH55) -> 72 | AG55: 26 | AH55: 46 | AI55: 1 | AJ55: 0 | AK55: 1 | AL55: 0 | AM55: 0 | AN55: 0 | AO55: 0 | AP55: 0 | AQ55: 0 | AR55: 0 | AS55: 0 | AT55: 0 | AU55: 4 | AV55: 1 | AW55: 3 | AX55: 2 | AY55: 0 | AZ55: 2 | BA55: 2 | BB55: 1 | BC55: 1 | BD55: 52 | BE55: 29 | BF55: 23 | BG55: 4 | BH55: 1 | BI55: 3 | BJ55: 2 | BK55: 1 | BL55: 1 | BM55: 1 | BN55: 1 | BO55: 0 | BP55: 0 | BQ55: 0 | BR55: 0
A56: 15-19 | B56: =C56+D56 -> 1407 | C56: =F56+I56+L56+O56+R56+U56+X56+AA56+AD56+AG56+AJ56+AM56+AP56+AS56+AV56+AY56+BB56+BE56+BH56+BK56+BN56+BQ56 -> 774 | D56: =G56+J56+M56+P56+S56+V56+Y56+AB56+AE56+AH56+AK56+AN56+AQ56+AT56+AW56+AZ56+BC56+BF56+BI56+BL56+BO56+BR56 -> 633 | E56: 99 | F56: 47 | G56: 52 | H56: 196 | I56: 110 | J56: 86 | K56: 60 | L56: 28 | M56: 32 | N56: 62 | O56: 28 | P56: 34 | Q56: 45 | R56: 20 | S56: 25 | T56: 18 | U56: 12 | V56: 6 | W56: 19 | X56: 11 | Y56: 8 | Z56: 16 | AA56: 14 | AB56: 2 | AC56: 9 | AD56: 3 | AE56: 6 | AF56: =SUM(AG56:AH56) -> 793 | AG56: 447 | AH56: 346 | AI56: 0 | AJ56: 0 | AK56: 0 | AL56: 3 | AM56: 1 | AN56: 2 | AO56: 1 | AP56: 1 | AQ56: 0 | AR56: 14 | AS56: 5 | AT56: 9 | AU56: 2 | AV56: 1 | AW56: 1 | AX56: 6 | AY56: 4 | AZ56: 2 | BA56: 4 | BB56: 3 | BC56: 1 | BD56: 52 | BE56: 32 | BF56: 20 | BG56: 4 | BH56: 3 | BI56: 1 | BJ56: 1 | BK56: 1 | BL56: 0 | BM56: 3 | BN56: 3 | BO56: 0 | BP56: 0 | BQ56: 0 | BR56: 0
A57: 20-24 | B57: =C57+D57 -> 10405 | C57: =F57+I57+L57+O57+R57+U57+X57+AA57+AD57+AG57+AJ57+AM57+AP57+AS57+AV57+AY57+BB57+BE57+BH57+BK57+BN57+BQ57 -> 6363 | D57: =G57+J57+M57+P57+S57+V57+Y57+AB57+AE57+AH57+AK57+AN57+AQ57+AT57+AW57+AZ57+BC57+BF57+BI57+BL57+BO57+BR57 -> 4042 | E57: 821 | F57: 473 | G57: 348 | H57: 1190 | I57: 771 | J57: 419 | K57: 525 | L57: 307 | M57: 218 | N57: 372 | O57: 200 | P57: 172 | Q57: 605 | R57: 389 | S57: 216 | T57: 106 | U57: 54 | V57: 52 | W57: 221 | X57: 161 | Y57: 60 | Z57: 142 | AA57: 79 | AB57: 63 | AC57: 64 | AD57: 41 | AE57: 23 | AF57: =SUM(AG57:AH57) -> 5077 | AG57: 2877 | AH57: 2200 | AI57: 59 | AJ57: 45 | AK57: 14 | AL57: 20 | AM57: 5 | AN57: 15 | AO57: 20 | AP57: 17 | AQ57: 3 | AR57: 119 | AS57: 103 | AT57: 16 | AU57: 72 | AV57: 37 | AW57: 35 | AX57: 209 | AY57: 178 | AZ57: 31 | BA57: 197 | BB57: 177 | BC57: 20 | BD57: 390 | BE57: 309 | BF57: 81 | BG57: 49 | BH57: 25 | BI57: 24 | BJ57: 31 | BK57: 16 | BL57: 15 | BM57: 112 | BN57: 95 | BO57: 17 | BP57: 4 | BQ57: 4 | BR57: 0
A58: 25-29 | B58: =C58+D58 -> 13880 | C58: =F58+I58+L58+O58+R58+U58+X58+AA58+AD58+AG58+AJ58+AM58+AP58+AS58+AV58+AY58+BB58+BE58+BH58+BK58+BN58+BQ58 -> 9698 | D58: =G58+J58+M58+P58+S58+V58+Y58+AB58+AE58+AH58+AK58+AN58+AQ58+AT58+AW58+AZ58+BC58+BF58+BI58+BL58+BO58+BR58 -> 4182 | E58: 1420 | F58: 1026 | G58: 394 | H58: 2201 | I58: 1514 | J58: 687 | K58: 724 | L58: 481 | M58: 243 | N58: 247 | O58: 146 | P58: 101 | Q58: 1072 | R58: 728 | S58: 344 | T58: 249 | U58: 164 | V58: 85 | W58: 851 | X58: 658 | Y58: 193 | Z58: 283 | AA58: 168 | AB58: 115 | AC58: 190 | AD58: 122 | AE58: 68 | AF58: =SUM(AG58:AH58) -> 3395 | AG58: 2184 | AH58: 1211 | AI58: 155 | AJ58: 110 | AK58: 45 | AL58: 45 | AM58: 21 | AN58: 24 | AO58: 36 | AP58: 18 | AQ58: 18 | AR58: 253 | AS58: 219 | AT58: 34 | AU58: 303 | AV58: 132 | AW58: 171 | AX58: 450 | AY58: 397 | AZ58: 53 | BA58: 469 | BB58: 400 | BC58: 69 | BD58: 967 | BE58: 742 | BF58: 225 | BG58: 102 | BH58: 61 | BI58: 41 | BJ58: 82 | BK58: 48 | BL58: 34 | BM58: 366 | BN58: 341 | BO58: 25 | BP58: 20 | BQ58: 18 | BR58: 2
A59: 30-34 | B59: =C59+D59 -> 12492 | C59: =F59+I59+L59+O59+R59+U59+X59+AA59+AD59+AG59+AJ59+AM59+AP59+AS59+AV59+AY59+BB59+BE59+BH59+BK59+BN59+BQ59 -> 9045 | D59: =G59+J59+M59+P59+S59+V59+Y59+AB59+AE59+AH59+AK59+AN59+AQ59+AT59+AW59+AZ59+BC59+BF59+BI59+BL59+BO59+BR59 -> 3447 | E59: 1404 | F59: 1062 | G59: 342 | H59: 1954 | I59: 1448 | J59: 506 | K59: 606 | L59: 447 | M59: 159 | N59: 357 | O59: 188 | P59: 169 | Q59: 1178 | R59: 771 | S59: 407 | T59: 251 | U59: 174 | V59: 77 | W59: 845 | X59: 669 | Y59: 176 | Z59: 301 | AA59: 183 | AB59: 118 | AC59: 171 | AD59: 112 | AE59: 59 | AF59: =SUM(AG59:AH59) -> 1897 | AG59: 1305 | AH59: 592 | AI59: 165 | AJ59: 114 | AK59: 51 | AL59: 73 | AM59: 44 | AN59: 29 | AO59: 88 | AP59: 44 | AQ59: 44 | AR59: 279 | AS59: 241 | AT59: 38 | AU59: 279 | AV59: 138 | AW59: 141 | AX59: 408 | AY59: 369 | AZ59: 39 | BA59: 498 | BB59: 418 | BC59: 80 | BD59: 991 | BE59: 717 | BF59: 274 | BG59: 148 | BH59: 88 | BI59: 60 | BJ59: 101 | BK59: 52 | BL59: 49 | BM59: 462 | BN59: 430 | BO59: 32 | BP59: 36 | BQ59: 31 | BR59: 5
A60: 35-39 | B60: =C60+D60 -> 9411 | C60: =F60+I60+L60+O60+R60+U60+X60+AA60+AD60+AG60+AJ60+AM60+AP60+AS60+AV60+AY60+BB60+BE60+BH60+BK60+BN60+BQ60 -> 6536 | D60: =G60+J60+M60+P60+S60+V60+Y60+AB60+AE60+AH60+AK60+AN60+AQ60+AT60+AW60+AZ60+BC60+BF60+BI60+BL60+BO60+BR60 -> 2875 | E60: 1139 | F60: 795 | G60: 344 | H60: 1662 | I60: 1217 | J60: 445 | K60: 438 | L60: 329 | M60: 109 | N60: 311 | O60: 163 | P60: 148 | Q60: 853 | R60: 526 | S60: 327 | T60: 232 | U60: 137 | V60: 95 | W60: 538 | X60: 435 | Y60: 103 | Z60: 271 | AA60: 131 | AB60: 140 | AC60: 131 | AD60: 73 | AE60: 58 | AF60: =SUM(AG60:AH60) -> 1134 | AG60: 767 | AH60: 367 | AI60: 139 | AJ60: 82 | AK60: 57 | AL60: 65 | AM60: 33 | AN60: 32 | AO60: 118 | AP60: 65 | AQ60: 53 | AR60: 221 | AS60: 183 | AT60: 38 | AU60: 158 | AV60: 98 | AW60: 60 | AX60: 327 | AY60: 282 | AZ60: 45 | BA60: 341 | BB60: 261 | BC60: 80 | BD60: 771 | BE60: 516 | BF60: 255 | BG60: 89 | BH60: 47 | BI60: 42 | BJ60: 79 | BK60: 37 | BL60: 42 | BM60: 359 | BN60: 325 | BO60: 34 | BP60: 35 | BQ60: 34 | BR60: 1
A61: 40-44 | B61: =C61+D61 -> 5848 | C61: =F61+I61+L61+O61+R61+U61+X61+AA61+AD61+AG61+AJ61+AM61+AP61+AS61+AV61+AY61+BB61+BE61+BH61+BK61+BN61+BQ61 -> 3825 | D61: =G61+J61+M61+P61+S61+V61+Y61+AB61+AE61+AH61+AK61+AN61+AQ61+AT61+AW61+AZ61+BC61+BF61+BI61+BL61+BO61+BR61 -> 2023 | E61: 670 | F61: 435 | G61: 235 | H61: 1004 | I61: 701 | J61: 303 | K61: 207 | L61: 127 | M61: 80 | N61: 147 | O61: 63 | P61: 84 | Q61: 611 | R61: 351 | S61: 260 | T61: 133 | U61: 82 | V61: 51 | W61: 336 | X61: 246 | Y61: 90 | Z61: 194 | AA61: 97 | AB61: 97 | AC61: 97 | AD61: 45 | AE61: 52 | AF61: =SUM(AG61:AH61) -> 683 | AG61: 473 | AH61: 210 | AI61: 96 | AJ61: 52 | AK61: 44 | AL61: 60 | AM61: 35 | AN61: 25 | AO61: 130 | AP61: 63 | AQ61: 67 | AR61: 153 | AS61: 131 | AT61: 22 | AU61: 54 | AV61: 26 | AW61: 28 | AX61: 203 | AY61: 165 | AZ61: 38 | BA61: 173 | BB61: 133 | BC61: 40 | BD61: 513 | BE61: 321 | BF61: 192 | BG61: 96 | BH61: 48 | BI61: 48 | BJ61: 67 | BK61: 25 | BL61: 42 | BM61: 207 | BN61: 193 | BO61: 14 | BP61: 14 | BQ61: 13 | BR61: 1
A62: 45-49 | B62: =C62+D62 -> 3208 | C62: =F62+I62+L62+O62+R62+U62+X62+AA62+AD62+AG62+AJ62+AM62+AP62+AS62+AV62+AY62+BB62+BE62+BH62+BK62+BN62+BQ62 -> 1826 | D62: =G62+J62+M62+P62+S62+V62+Y62+AB62+AE62+AH62+AK62+AN62+AQ62+AT62+AW62+AZ62+BC62+BF62+BI62+BL62+BO62+BR62 -> 1382 | E62: 357 | F62: 219 | G62: 138 | H62: 524 | I62: 323 | J62: 201 | K62: 123 | L62: 71 | M62: 52 | N62: 114 | O62: 53 | P62: 61 | Q62: 385 | R62: 187 | S62: 198 | T62: 76 | U62: 32 | V62: 44 | W62: 175 | X62: 102 | Y62: 73 | Z62: 144 | AA62: 62 | AB62: 82 | AC62: 58 | AD62: 28 | AE62: 30 | AF62: =SUM(AG62:AH62) -> 319 | AG62: 184 | AH62: 135 | AI62: 52 | AJ62: 27 | AK62: 25 | AL62: 34 | AM62: 16 | AN62: 18 | AO62: 89 | AP62: 41 | AQ62: 48 | AR62: 72 | AS62: 55 | AT62: 17 | AU62: 37 | AV62: 19 | AW62: 18 | AX62: 82 | AY62: 59 | AZ62: 23 | BA62: 91 | BB62: 61 | BC62: 30 | BD62: 282 | BE62: 164 | BF62: 118 | BG62: 50 | BH62: 21 | BI62: 29 | BJ62: 50 | BK62: 27 | BL62: 23 | BM62: 87 | BN62: 71 | BO62: 16 | BP62: 7 | BQ62: 4 | BR62: 3
A63: 50-54 | B63: =C63+D63 -> 2557 | C63: =F63+I63+L63+O63+R63+U63+X63+AA63+AD63+AG63+AJ63+AM63+AP63+AS63+AV63+AY63+BB63+BE63+BH63+BK63+BN63+BQ63 -> 1246 | D63: =G63+J63+M63+P63+S63+V63+Y63+AB63+AE63+AH63+AK63+AN63+AQ63+AT63+AW63+AZ63+BC63+BF63+BI63+BL63+BO63+BR63 -> 1311 | E63: 322 | F63: 164 | G63: 158 | H63: 477 | I63: 252 | J63: 225 | K63: 103 | L63: 55 | M63: 48 | N63: 89 | O63: 27 | P63: 62 | Q63: 296 | R63: 137 | S63: 159 | T63: 78 | U63: 27 | V63: 51 | W63: 127 | X63: 60 | Y63: 67 | Z63: 126 | AA63: 51 | AB63: 75 | AC63: 63 | AD63: 19 | AE63: 44 | AF63: =SUM(AG63:AH63) -> 251 | AG63: 124 | AH63: 127 | AI63: 48 | AJ63: 17 | AK63: 31 | AL63: 18 | AM63: 8 | AN63: 10 | AO63: 36 | AP63: 18 | AQ63: 18 | AR63: 45 | AS63: 29 | AT63: 16 | AU63: 29 | AV63: 13 | AW63: 16 | AX63: 59 | AY63: 34 | AZ63: 25 | BA63: 68 | BB63: 39 | BC63: 29 | BD63: 174 | BE63: 95 | BF63: 79 | BG63: 50 | BH63: 21 | BI63: 29 | BJ63: 39 | BK63: 16 | BL63: 23 | BM63: 52 | BN63: 34 | BO63: 18 | BP63: 7 | BQ63: 6 | BR63: 1
A64: 55-59 | B64: =C64+D64 -> 2027 | C64: =F64+I64+L64+O64+R64+U64+X64+AA64+AD64+AG64+AJ64+AM64+AP64+AS64+AV64+AY64+BB64+BE64+BH64+BK64+BN64+BQ64 -> 868 | D64: =G64+J64+M64+P64+S64+V64+Y64+AB64+AE64+AH64+AK64+AN64+AQ64+AT64+AW64+AZ64+BC64+BF64+BI64+BL64+BO64+BR64 -> 1159 | E64: 206 | F64: 84 | G64: 122 | H64: 390 | I64: 187 | J64: 203 | K64: 111 | L64: 47 | M64: 64 | N64: 78 | O64: 25 | P64: 53 | Q64: 248 | R64: 109 | S64: 139 | T64: 59 | U64: 25 | V64: 34 | W64: 123 | X64: 59 | Y64: 64 | Z64: 71 | AA64: 28 | AB64: 43 | AC64: 50 | AD64: 23 | AE64: 27 | AF64: =SUM(AG64:AH64) -> 187 | AG64: 81 | AH64: 106 | AI64: 37 | AJ64: 10 | AK64: 27 | AL64: 25 | AM64: 8 | AN64: 17 | AO64: 26 | AP64: 10 | AQ64: 16 | AR64: 31 | AS64: 8 | AT64: 23 | AU64: 25 | AV64: 8 | AW64: 17 | AX64: 47 | AY64: 22 | AZ64: 25 | BA64: 33 | BB64: 12 | BC64: 21 | BD64: 155 | BE64: 84 | BF64: 71 | BG64: 48 | BH64: 14 | BI64: 34 | BJ64: 34 | BK64: 11 | BL64: 23 | BM64: 34 | BN64: 11 | BO64: 23 | BP64: 9 | BQ64: 2 | BR64: 7
... A68: 75-79 | B68: =C68+D68 -> 59 | C68: =F68+I68+L68+O68+R68+U68+X68+AA68+AD68+AG68+AJ68+AM68+AP68+AS68+AV68+AY68+BB68+BE68+BH68+BK68+BN68+BQ68 -> 31 | D68: =G68+J68+M68+P68+S68+V68+Y68+AB68+AE68+AH68+AK68+AN68+AQ68+AT68+AW68+AZ68+BC68+BF68+BI68+BL68+BO68+BR68 -> 28 | E68: 7 | F68: 3 | G68: 4 | H68: 7 | I68: 3 | J68: 4 | K68: 6 | L68: 4 | M68: 2 | N68: 3 | O68: 2 | P68: 1 | Q68: 2 | R68: 1 | S68: 1 | T68: 2 | U68: 1 | V68: 1 | W68: 1 | X68: 1 | Y68: 0 | Z68: 3 | AA68: 1 | AB68: 2 | AC68: 0 | AD68: 0 | AE68: 0 | AF68: =SUM(AG68:AH68) -> 7 | AG68: 2 | AH68: 5 | AI68: 7 | AJ68: 3 | AK68: 4 | AL68: 2 | AM68: 1 | AN68: 1 | AO68: 0 | AP68: 0 | AQ68: 0 | AR68: 1 | AS68: 1 | AT68: 0 | AU68: 0 | AV68: 0 | AW68: 0 | AX68: 0 | AY68: 0 | AZ68: 0 | BA68: 0 | BB68: 0 | BC68: 0 | BD68: 8 | BE68: 7 | BF68: 1 | BG68: 2 | BH68: 0 | BI68: 2 | BJ68: 0 | BK68: 0 | BL68: 0 | BM68: 1 | BN68: 1 | BO68: 0 | BP68: 0 | BQ68: 0 | BR68: 0
A69: 80-84 | B69: =C69+D69 -> 18 | C69: =F69+I69+L69+O69+R69+U69+X69+AA69+AD69+AG69+AJ69+AM69+AP69+AS69+AV69+AY69+BB69+BE69+BH69+BK69+BN69+BQ69 -> 10 | D69: =G69+J69+M69+P69+S69+V69+Y69+AB69+AE69+AH69+AK69+AN69+AQ69+AT69+AW69+AZ69+BC69+BF69+BI69+BL69+BO69+BR69 -> 8 | E69: 1 | F69: 1 | G69: 0 | H69: 1 | I69: 0 | J69: 1 | K69: 1 | L69: 1 | M69: 0 | N69: 2 | O69: 1 | P69: 1 | Q69: 2 | R69: 1 | S69: 1 | T69: 0 | U69: 0 | V69: 0 | W69: 0 | X69: 0 | Y69: 0 | Z69: 0 | AC69: 0 | AD69: 0 | AE69: 0 | AF69: =SUM(AG69:AH69) -> 1 | AG69: 1 | AH69: 0 | AI69: 1 | AJ69: 0 | AK69: 1 | AL69: 1 | AM69: 1 | AN69: 0 | AO69: 0 | AP69: 0 | AQ69: 0 | AR69: 2 | AS69: 0 | AT69: 2 | AU69: 3 | AV69: 2 | AW69: 1 | AX69: 0 | AY69: 0 | AZ69: 0 | BA69: 0 | BB69: 0 | BC69: 0 | BD69: 2 | BE69: 2 | BF69: 0 | BG69: 0 | BH69: 0 | BI69: 0 | BJ69: 1 | BK69: 0 | BL69: 1 | BM69: 0 | BN69: 0 | BO69: 0 | BP69: 0 | BQ69: 0 | BR69: 0
A70: 85-89 | B70: =C70+D70 -> 17 | C70: =F70+I70+L70+O70+R70+U70+X70+AA70+AD70+AG70+AJ70+AM70+AP70+AS70+AV70+AY70+BB70+BE70+BH70+BK70+BN70+BQ70 -> 6 | D70: =G70+J70+M70+P70+S70+V70+Y70+AB70+AE70+AH70+AK70+AN70+AQ70+AT70+AW70+AZ70+BC70+BF70+BI70+BL70+BO70+BR70 -> 11 | E70: 4 | F70: 0 | G70: 4 | H70: 3 | I70: 1 | J70: 2 | K70: 1 | L70: 1 | M70: 0 | N70: 1 | O70: 1 | P70: 0 | Q70: 0 | R70: 0 | S70: 0 | T70: 0 | U70: 0 | V70: 0 | W70: 2 | X70: 0 | Y70: 2 | Z70: 1 | AA70: 1 | AC70: 0 | AD70: 0 | AE70: 0 | AF70: =SUM(AG70:AH70) -> 2 | AG70: 0 | AH70: 2 | AI70: 0 | AJ70: 0 | AK70: 0 | AL70: 0 | AM70: 0 | AN70: 0 | AO70: 0 | AP70: 0 | AQ70: 0 | AR70: 0 | AS70: 0 | AT70: 0 | AU70: 0 | AV70: 0 | AW70: 0 | AX70: 0 | AY70: 0 | AZ70: 0 | BA70: 0 | BD70: 2 | BE70: 1 | BF70: 1 | BG70: 1 | BH70: 1 | BI70: 0 | BJ70: 0 | BK70: 0 | BL70: 0 | BM70: 0 | BN70: 0 | BO70: 0 | BP70: 0 | BQ70: 0 | BR70: 0
A71: 90-94 | B71: =C71+D71 -> 7 | C71: =F71+I71+L71+O71+R71+U71+X71+AA71+AD71+AG71+AJ71+AM71+AP71+AS71+AV71+AY71+BB71+BE71+BH71+BK71+BN71+BQ71 -> 2 | D71: =G71+J71+M71+P71+S71+V71+Y71+AB71+AE71+AH71+AK71+AN71+AQ71+AT71+AW71+AZ71+BC71+BF71+BI71+BL71+BO71+BR71 -> 5 | E71: 3 | F71: 1 | G71: 2 | H71: 0 | I71: 0 | J71: 0 | K71: 0 | L71: 0 | M71: 0 | N71: 1 | O71: 0 | P71: 1 | Q71: 0 | R71: 0 | S71: 0 | T71: 0 | U71: 0 | V71: 0 | W71: 0 | X71: 0 | Y71: 0 | Z71: 1 | AB71: 1 | AC71: 0 | AD71: 0 | AE71: 0 | AF71: =SUM(AG71:AH71) -> 1 | AG71: 0 | AH71: 1 | AI71: 0 | AJ71: 0 | AK71: 0 | AL71: 0 | AM71: 0 | AN71: 0 | AO71: 0 | AP71: 0 | AQ71: 0 | AR71: 0 | AS71: 0 | AT71: 0 | AU71: 0 | AV71: 0 | AW71: 0 | AX71: 0 | AY71: 0 | AZ71: 0 | BA71: 0 | BD71: 0 | BE71: 0 | BF71: 0 | BG71: 0 | BH71: 0 | BI71: 0 | BJ71: 1 | BK71: 1 | BL71: 0 | BM71: 0 | BN71: 0 | BO71: 0 | BP71: 0 | BQ71: 0 | BR71: 0
A72: 95-99 | B72: =C72+D72 -> 1 | C72: =F72+I72+L72+O72+R72+U72+X72+AA72+AD72+AG72+AJ72+AM72+AP72+AS72+AV72+AY72+BB72+BE72+BH72+BK72+BN72+BQ72 -> 0 | D72: =G72+J72+M72+P72+S72+V72+Y72+AB72+AE72+AH72+AK72+AN72+AQ72+AT72+AW72+AZ72+BC72+BF72+BI72+BL72+BO72+BR72 -> 1 | E72: 0 | F72: 0 | G72: 0 | H72: 1 | I72: 0 | J72: 1 | K72: 0 | L72: 0 | M72: 0 | N72: 0 | O72: 0 | P72: 0 | Q72: 0 | R72: 0 | S72: 0 | T72: 0 | U72: 0 | V72: 0 | W72: 0 | X72: 0 | Y72: 0 | Z72: 0 | AC72: 0 | AD72: 0 | AE72: 0 | AF72: =SUM(AG72:AH72) -> 0 | AG72: 0 | AH72: 0 | AI72: 0 | AJ72: 0 | AK72: 0 | AL72: 0 | AM72: 0 | AN72: 0 | AO72: 0 | AP72: 0 | AQ72: 0 | AR72: 0 | AS72: 0 | AT72: 0 | AU72: 0 | AV72: 0 | AW72: 0 | AX72: 0 | AY72: 0 | AZ72: 0 | BA72: 0 | BD72: 0 | BE72: 0 | BF72: 0 | BG72: 0 | BH72: 0 | BI72: 0 | BJ72: 0 | BK72: 0 | BL72: 0 | BM72: 0 | BN72: 0 | BO72: 0 | BP72: 0 | BQ72: 0 | BR72: 0
A73: 100+ | B73: =C73+D73 -> 2 | C73: =F73+I73+L73+O73+R73+U73+X73+AA73+AD73+AG73+AJ73+AM73+AP73+AS73+AV73+AY73+BB73+BE73+BH73+BK73+BN73+BQ73 -> 0 | D73: =G73+J73+M73+P73+S73+V73+Y73+AB73+AE73+AH73+AK73+AN73+AQ73+AT73+AW73+AZ73+BC73+BF73+BI73+BL73+BO73+BR73 -> 2 | E73: 0 | F73: 0 | G73: 0 | H73: 0 | I73: 0 | J73: 0 | K73: 1 | L73: 0 | M73: 1 | N73: 0 | O73: 0 | P73: 0 | Q73: 1 | R73: 0 | S73: 1 | T73: 0 | U73: 0 | V73: 0 | W73: 0 | X73: 0 | Y73: 0 | Z73: 0 | AC73: 0 | AD73: 0 | AE73: 0 | AF73: =SUM(AG73:AH73) -> 0 | AG73: 0 | AH73: 0 | AI73: 0 | AJ73: 0 | AK73: 0 | AL73: 0 | AM73: 0 | AN73: 0 | AO73: 0 | AP73: 0 | AQ73: 0 | AR73: 0 | AS73: 0 | AT73: 0 | AU73: 0 | AV73: 0 | AW73: 0 | AX73: 0 | AY73: 0 | AZ73: 0 | BA73: 0 | BD73: 0 | BE73: 0 | BF73: 0 | BG73: 0 | BH73: 0 | BI73: 0 | BJ73: 0 | BK73: 0 | BL73: 0 | BM73: 0 | BN73: 0 | BO73: 0 | BP73: 0 | BQ73: 0 | BR73: 0

Sheet 2-2.시군 연령별 한국인(각세)
A2: 2-2. 시군, 성 및 연령별(각세) 인구현황_외국인 제외 (2023년 3분기)
A3: (단위 : 세, 명)
A4: 연령별 | B4: 경상북도 | E4: 포항시 | H4: 경주시 | K4: 김천시 | N4: 안동시 | Q4: 구미시 | T4: 영주시 | W4: 영천시 | Z4: 상주시 | AC4: 문경시 | AF4: 경산시 | AI4: 의성군 | AL4: 청송군 | AO4: 영양군 | AR4: 영덕군 | AU4: 청도군 | AX4: 고령군 | BA4: 성주군 | BD4: 칠곡군 | BG4: 예천군 | BJ4: 봉화군 | BM4: 울진군 | BP4: 울릉군
B5: 총계 | C5: 남 | D5: 여 | E5: 소계 | F5: 남 | G5: 여 | H5: 소계 | I5: 남 | J5: 여 | K5: 소계 | L5: 남 | M5: 여 | N5: 소계 | O5: 남 | P5: 여 | Q5: 소계 | R5: 남 | S5: 여 | T5: 소계 | U5: 남 | V5: 여 | W5: 소계 | X5: 남 | Y5: 여 | Z5: 소계 | AA5: 남 | AB5: 여 | AC5: 소계 | AD5: 남 | AE5: 여 | AF5: 소계 | AG5: 남 | AH5: 여 | AI5: 소계 | AJ5: 남 | AK5: 여 | AL5: 소계 | AM5: 남 | AN5: 여 | AO5: 소계 | AP5: 남 | AQ5: 여 | AR5: 소계 | AS5: 남 | AT5: 여 | AU5: 소계 | AV5: 남 | AW5: 여 | AX5: 소계 | AY5: 남 | AZ5: 여 | BA5: 소계 | BB5: 남 | BC5: 여 | BD5: 소계 | BE5: 남 | BF5: 여 | BG5: 소계 | BH5: 남 | BI5: 여 | BJ5: 소계 | BK5: 남 | BL5: 여 | BM5: 소계 | BN5: 남 | BO5: 여 | BP5: 소계 | BQ5: 남 | BR5: 여
A6: 총계 | B6: 2559924 | C6: 1292868 | D6: 1267056 | E6: 493102 | F6: 250120 | G6: 242982 | H6: 248244 | I6: 124299 | J6: 123945 | K6: 138059 | L6: 69330 | M6: 68729 | N6: 153306 | O6: 75750 | P6: 77556 | Q6: 406053 | R6: 209388 | S6: 196665 | T6: 100011 | U6: 49553 | V6: 50458 | W6: 100416 | X6: 51183 | Y6: 49233 | Z6: 94168 | AA6: 46364 | AB6: 47804 | AC6: 69171 | AD6: 34012 | AE6: 35159 | AF6: 267076 | AG6: 134335 | AH6: 132741 | AI6: 50016 | AJ6: 24726 | AK6: 25290 | AL6: 24068 | AM6: 12083 | AN6: 11985 | AO6: 15782 | AP6: 7859 | AQ6: 7923 | AR6: 34201 | AS6: 16300 | AT6: 17901 | AU6: 41450 | AV6: 20527 | AW6: 20923 | AX6: 30127 | AY6: 15496 | AZ6: 14631 | BA6: 42245 | BB6: 22075 | BC6: 20170 | BD6: 111173 | BE6: 58275 | BF6: 52898 | BG6: 55525 | BH6: 27337 | BI6: 28188 | BJ6: 29863 | BK6: 15192 | BL6: 14671 | BM6: 46754 | BN6: 23605 | BO6: 23149 | BP6: 9114 | BQ6: 5059 | BR6: 4055
A7: 0-4 | B7: 60838 | C7: 31261 | D7: 29577 | E7: 12232 | F7: 6304 | G7: 5928 | H7: 5460 | I7: 2825 | J7: 2635 | K7: 3661 | L7: 1911 | M7: 1750 | N7: 3404 | O7: 1758 | P7: 1646 | Q7: 12428 | R7: 6399 | S7: 6029 | T7: 1851 | U7: 930 | V7: 921 | W7: 2426 | X7: 1223 | Y7: 1203 | Z7: 1732 | AA7: 875 | AB7: 857 | AC7: 1383 | AD7: 717 | AE7: 666 | AF7: 6806 | AG7: 3506 | AH7: 3300 | AI7: 829 | AJ7: 439 | AK7: 390 | AL7: 390 | AM7: 213 | AN7: 177 | AO7: 218 | AP7: 98 | AQ7: 120 | AR7: 514 | AS7: 261 | AT7: 253 | AU7: 541 | AV7: 270 | AW7: 271 | AX7: 461 | AY7: 227 | AZ7: 234 | BA7: 795 | BB7: 407 | BC7: 388 | BD7: 2399 | BE7: 1196 | BF7: 1203 | BG7: 1727 | BH7: 871 | BI7: 856 | BJ7: 409 | BK7: 214 | BL7: 195 | BM7: 1034 | BN7: 544 | BO7: 490 | BP7: 138 | BQ7: 73 | BR7: 65
