Workbook
Name D_불명: OFFSET(#REF!,0,0,COUNTA(#REF!),6)
Name D_불명: OFFSET(#REF!,0,0,COUNTA(#REF!),6)
Name D_불명: OFFSET(#REF!,0,0,COUNTA(#REF!),6)
Name D_불명: OFFSET(#REF!,0,0,COUNTA(#REF!),6)
Name D_불명: OFFSET(#REF!,0,0,COUNTA(#REF!),6)
Name D_불명: OFFSET(#REF!,0,0,COUNTA(#REF!),6)
Name D_세대수: OFFSET(#REF!,0,0,COUNTA(#REF!),6)
Name D_세대수: OFFSET(#REF!,0,0,COUNTA(#REF!),6)
Name D_세대수: OFFSET(#REF!,0,0,COUNTA(#REF!),6)
Name D_세대수: OFFSET(#REF!,0,0,COUNTA(#REF!),6)
Name D_세대수: OFFSET(#REF!,0,0,COUNTA(#REF!),6)
Name D_세대수: OFFSET(#REF!,0,0,COUNTA(#REF!),6)
Name D_연령: OFFSET(#REF!,0,0,COUNTA(#REF!),9)
Name D_연령: OFFSET(#REF!,0,0,COUNTA(#REF!),9)
Name D_연령: OFFSET(#REF!,0,0,COUNTA(#REF!),9)
Name D_연령: OFFSET(#REF!,0,0,COUNTA(#REF!),9)
Name D_연령: OFFSET(#REF!,0,0,COUNTA(#REF!),9)
Name D_연령: OFFSET(#REF!,0,0,COUNTA(#REF!),9)
Name D_외국인: OFFSET(#REF!,0,0,COUNTA(#REF!),6)
Name D_외국인: OFFSET(#REF!,0,0,COUNTA(#REF!),6)
Name D_외국인: OFFSET(#REF!,0,0,COUNTA(#REF!),6)
Name D_외국인: OFFSET(#REF!,0,0,COUNTA(#REF!),6)
Name D_외국인: OFFSET(#REF!,0,0,COUNTA(#REF!),6)
Name D_외국인: OFFSET(#REF!,0,0,COUNTA(#REF!),6)
Name D_외국인_상세: OFFSET(#REF!,0,0,COUNTA(#REF!),8)
Name D_외국인_상세: OFFSET(#REF!,0,0,COUNTA(#REF!),8)
Name D_외국인_상세: OFFSET(#REF!,0,0,COUNTA(#REF!),8)
Name D_외국인_상세: OFFSET(#REF!,0,0,COUNTA(#REF!),8)
Name D_외국인_상세: OFFSET(#REF!,0,0,COUNTA(#REF!),8)
Name D_외국인_상세: OFFSET(#REF!,0,0,COUNTA(#REF!),8)
Name DATA_국적별외국인: #REF!
Name DATA_국적별외국인: #REF!
Name DATA_국적별외국인: #REF!
Name DATA_국적별외국인: #REF!
Name DATA_국적별외국인: '3-1. 국적별 외국인 현황'!$A$6:$BR$62
Name DATA_국적별외국인: #REF!
Name DATA_세대인구총괄: '1-2. 읍면동별 인구 및 세대현황'!$A$6:$L$191
Name DATA_세대인구총괄: '1-2. 읍면동별 인구 및 세대현황'!$A$6:$L$191
Name DATA_세대인구총괄: '1-2. 읍면동별 인구 및 세대현황'!$A$6:$L$191
Name DATA_세대인구총괄: '1-2. 읍면동별 인구 및 세대현황'!$A$6:$L$191
Name DATA_세대인구총괄: #REF!
Name DATA_체류자격: #REF!
Name DATA_체류자격: #REF!
Name DATA_체류자격: #REF!
Name DATA_체류자격: #REF!
Name DATA_체류자격: #REF!
Name DATA_체류자격: #REF!
Name DATA1: OFFSET([1]D1!$A$1,0,0,COUNTA([1]D1!$A:$A),9)
Name DATA1: OFFSET([1]D1!$A$1,0,0,COUNTA([1]D1!$A:$A),9)
Name DATA1: OFFSET([1]D1!$A$1,0,0,COUNTA([1]D1!$A:$A),9)
Name DATA1: OFFSET([1]D1!$A$1,0,0,COUNTA([1]D1!$A:$A),9)
Name DATA1: OFFSET([1]D1!$A$1,0,0,COUNTA([1]D1!$A:$A),9)
Name DATA1: OFFSET([1]D1!$A$1,0,0,COUNTA([1]D1!$A:$A),9)
Name DATA2: OFFSET([1]D2!$A$1,0,0,COUNTA([1]D2!$A:$A),13)
Name DATA2: OFFSET([1]D2!$A$1,0,0,COUNTA([1]D2!$A:$A),13)
Name DATA2: OFFSET([1]D2!$A$1,0,0,COUNTA([1]D2!$A:$A),13)
Name DATA2: OFFSET([1]D2!$A$1,0,0,COUNTA([1]D2!$A:$A),13)
Name DATA2: OFFSET([1]D2!$A$1,0,0,COUNTA([1]D2!$A:$A),13)
Name DATA2: OFFSET([1]D2!$A$1,0,0,COUNTA([1]D2!$A:$A),13)
Name DATA3: OFFSET([1]D3!$A$1,0,0,COUNTA([1]D3!$A:$A),9)

Sheet 1-1. 시군별 인구 및 세대현황
A2: 1-1. 시군별 인구 및 세대현황
I3: (단위 : 세대, 명)
A4: 연도(분기) | B4: 세대수 | C4: 총계 | F4: 내국인 | I4: 외국인
C5: 총계 | D5: 남 | E5: 여 | F5: 소계 | G5: 남 | H5: 여 | I5: 소계 | J5: 남 | K5: 여
A6: 2013년 | B6: 1139387 | C6: 2742939 | D6: 1382922 | E6: 1360017 | F6: 2699440 | G6: 1355951 | H6: 1343489 | I6: 43499 | J6: 26971 | K6: 16528
A7: 2014년 | B7: 1153559 | C7: 2748599 | D7: 1386564 | E7: 1362035 | F7: 2700794 | G7: 1356182 | H7: 1344612 | I7: 47805 | J7: 30382 | K7: 17423
A8: 2015년 | B8: 1169648 | C8: 2752591 | D8: 1388885 | E8: 1363706 | F8: 2702826 | G8: 1357306 | H8: 1345520 | I8: 49765 | J8: 31579 | K8: 18186
A9: 2016년 | B9: 1180643 | C9: 2751749 | D9: 1389260 | E9: 1362489 | F9: 2700398 | G9: 1356868 | H9: 1343530 | I9: 51351 | J9: 32392 | K9: 18959
A10: 2017년 | B10: 1193261 | C10: 2745070 | D10: 1386747 | E10: 1358323 | F10: 2691706 | G10: 1353164 | H10: 1338542 | I10: 53364 | J10: 33583 | K10: 19781
A11: 2018년 | B11: 1207351 | C11: 2733800 | D11: 1382582 | E11: 1351218 | F11: 2676831 | G11: 1346689 | H11: 1330142 | I11: 56969 | J11: 35893 | K11: 21076
A12: 2019년 | B12: 1227548 | C12: 2723955 | D12: 1378492 | E12: 1345463 | F12: 2665836 | G12: 1342037 | H12: 1323799 | I12: 58119 | J12: 36455 | K12: 21664
A13: 2020년 | B13: 1254662 | C13: 2691891 | D13: 1361907 | E13: 1329984 | F13: 2639422 | G13: 1329211 | H13: 1310211 | I13: 52469 | J13: 32696 | K13: 19773
A14: 2021년 | B14: 1276846 | C14: 2677709 | D14: 1355128 | E14: 1322581 | F14: 2626609 | G14: 1323661 | H14: 1302948 | I14: 51100 | J14: 31467 | K14: 19633
A15: 2022년 | B15: 1286873 | C15: 2657547 | D15: 1347878 | E15: 1309669 | F15: 2600492 | G15: 1311881 | H15: 1288611 | I15: 57055 | J15: 35997 | K15: 21058
A16: 2023년 1분기 | B16: 1291726 | C16: 2651548 | D16: 1346085 | E16: 1305463 | F16: 2593210 | G16: 1309056 | H16: 1284154 | I16: 58338 | J16: 37029 | K16: 21309
A17: 2023년 2분기 | B17: 1295243 | C17: 2651637 | D17: 1347526 | E17: 1304111 | F17: 2588860 | G17: 1307284 | H17: 1281576 | I17: 62777 | J17: 40242 | K17: 22535
A19: ※ 군위군 대구광역시 편입('23.7.1.)으로 금분기 결과부터 군위군 제외
A20: 2023년 3분기 경상북도 | B20: =SUM(B21:B42) -> 1282575 | C20: =IF(SUM(C21:C42)=D20+E20,SUM(C21:C42),error) -> 2625372 | D20: =IF(SUM(D21:D42)=G20+J20,SUM(D21:D42),error) -> 1335085 | E20: =IF(SUM(E21:E42)=H20+K20,SUM(E21:E42),error) -> 1290287 | F20: =SUM(F21:F42) -> 2559924 | G20: =SUM(G21:G42) -> 1292868 | H20: =SUM(H21:H42) -> 1267056 | I20: =SUM(I21:I42) -> 65448 | J20: =SUM(J21:J42) -> 42217 | K20: =SUM(K21:K42) -> 23231
A21: 포항시 | B21: 233509 | C21: =IF(D21+E21=F21+I21,D21+E21,error) -> 499954 | D21: =G21+J21 -> 254642 | E21: =H21+K21 -> 245312 | F21: 493102 | G21: 250120 | H21: 242982 | I21: =SUM(J21:K21) -> 6852 | J21: =SUMIF('1-2. 읍면동별 인구 및 세대현황'!$A$7:$A$352,'1-1. 시군별 인구 및 세대현황'!A21,'1-2. 읍면동별 인구 및 세대현황'!$J$7:$J$136) -> 4522 | K21: =SUMIF('1-2. 읍면동별 인구 및 세대현황'!$A$7:$A$352,'1-1. 시군별 인구 및 세대현황'!A21,'1-2. 읍면동별 인구 및 세대현황'!$K$7:$K$136) -> 2330
A22: 경주시 | B22: 124772 | C22: =IF(D22+E22=F22+I22,D22+E22,error) -> 258968 | D22: =G22+J22 -> 131392 | E22: =H22+K22 -> 127576 | F22: 248244 | G22: 124299 | H22: 123945 | I22: =SUM(J22:K22) -> 10724 | J22: =SUMIF('1-2. 읍면동별 인구 및 세대현황'!$A$7:$A$352,'1-1. 시군별 인구 및 세대현황'!A22,'1-2. 읍면동별 인구 및 세대현황'!$J$7:$J$136) -> 7093 | K22: =SUMIF('1-2. 읍면동별 인구 및 세대현황'!$A$7:$A$352,'1-1. 시군별 인구 및 세대현황'!A22,'1-2. 읍면동별 인구 및 세대현황'!$K$7:$K$136) -> 3631
A23: 김천시 | B23: 69346 | C23: =IF(D23+E23=F23+I23,D23+E23,error) -> 141125 | D23: =G23+J23 -> 71299 | E23: =H23+K23 -> 69826 | F23: 138059 | G23: 69330 | H23: 68729 | I23: =SUM(J23:K23) -> 3066 | J23: =SUMIF('1-2. 읍면동별 인구 및 세대현황'!$A$7:$A$352,'1-1. 시군별 인구 및 세대현황'!A23,'1-2. 읍면동별 인구 및 세대현황'!$J$7:$J$136) -> 1969 | K23: =SUMIF('1-2. 읍면동별 인구 및 세대현황'!$A$7:$A$352,'1-1. 시군별 인구 및 세대현황'!A23,'1-2. 읍면동별 인구 및 세대현황'!$K$7:$K$136) -> 1097
A24: 안동시 | B24: 78260 | C24: =IF(D24+E24=F24+I24,D24+E24,error) -> 155223 | D24: =G24+J24 -> 76704 | E24: =H24+K24 -> 78519 | F24: 153306 | G24: 75750 | H24: 77556 | I24: =SUM(J24:K24) -> 1917 | J24: =SUMIF('1-2. 읍면동별 인구 및 세대현황'!$A$7:$A$352,'1-1. 시군별 인구 및 세대현황'!A24,'1-2. 읍면동별 인구 및 세대현황'!$J$7:$J$136) -> 954 | K24: =SUMIF('1-2. 읍면동별 인구 및 세대현황'!$A$7:$A$352,'1-1. 시군별 인구 및 세대현황'!A24,'1-2. 읍면동별 인구 및 세대현황'!$K$7:$K$136) -> 963
A25: 구미시 | B25: 186960 | C25: =IF(D25+E25=F25+I25,D25+E25,error) -> 411787 | D25: =G25+J25 -> 212806 | E25: =H25+K25 -> 198981 | F25: 406053 | G25: 209388 | H25: 196665 | I25: =SUM(J25:K25) -> 5734 | J25: =SUMIF('1-2. 읍면동별 인구 및 세대현황'!$A$7:$A$352,'1-1. 시군별 인구 및 세대현황'!A25,'1-2. 읍면동별 인구 및 세대현황'!$J$7:$J$136) -> 3418 | K25: =SUMIF('1-2. 읍면동별 인구 및 세대현황'!$A$7:$A$352,'1-1. 시군별 인구 및 세대현황'!A25,'1-2. 읍면동별 인구 및 세대현황'!$K$7:$K$136) -> 2316
A26: 영주시 | B26: 51228 | C26: =IF(D26+E26=F26+I26,D26+E26,error) -> 101278 | D26: =G26+J26 -> 50288 | E26: =H26+K26 -> 50990 | F26: 100011 | G26: 49553 | H26: 50458 | I26: =SUM(J26:K26) -> 1267 | J26: =SUMIF('1-2. 읍면동별 인구 및 세대현황'!$A$7:$A$352,'1-1. 시군별 인구 및 세대현황'!A26,'1-2. 읍면동별 인구 및 세대현황'!$J$7:$J$136) -> 735 | K26: =SUMIF('1-2. 읍면동별 인구 및 세대현황'!$A$7:$A$352,'1-1. 시군별 인구 및 세대현황'!A26,'1-2. 읍면동별 인구 및 세대현황'!$K$7:$K$136) -> 532
A27: 영천시 | B27: 54866 | C27: =IF(D27+E27=F27+I27,D27+E27,error) -> 103855 | D27: =G27+J27 -> 53688 | E27: =H27+K27 -> 50167 | F27: 100416 | G27: 51183 | H27: 49233 | I27: =SUM(J27:K27) -> 3439 | J27: =SUMIF('1-2. 읍면동별 인구 및 세대현황'!$A$7:$A$352,'1-1. 시군별 인구 및 세대현황'!A27,'1-2. 읍면동별 인구 및 세대현황'!$J$7:$J$136) -> 2505 | K27: =SUMIF('1-2. 읍면동별 인구 및 세대현황'!$A$7:$A$352,'1-1. 시군별 인구 및 세대현황'!A27,'1-2. 읍면동별 인구 및 세대현황'!$K$7:$K$136) -> 934
A28: 상주시 | B28: 49592 | C28: =IF(D28+E28=F28+I28,D28+E28,error) -> 95805 | D28: =G28+J28 -> 47218 | E28: =H28+K28 -> 48587 | F28: 94168 | G28: 46364 | H28: 47804 | I28: =SUM(J28:K28) -> 1637 | J28: =SUMIF('1-2. 읍면동별 인구 및 세대현황'!$A$7:$A$352,'1-1. 시군별 인구 및 세대현황'!A28,'1-2. 읍면동별 인구 및 세대현황'!$J$7:$J$136) -> 854 | K28: =SUMIF('1-2. 읍면동별 인구 및 세대현황'!$A$7:$A$352,'1-1. 시군별 인구 및 세대현황'!A28,'1-2. 읍면동별 인구 및 세대현황'!$K$7:$K$136) -> 783
A29: 문경시 | B29: 36957 | C29: =IF(D29+E29=F29+I29,D29+E29,error) -> 70069 | D29: =G29+J29 -> 34505 | E29: =H29+K29 -> 35564 | F29: 69171 | G29: 34012 | H29: 35159 | I29: =SUM(J29:K29) -> 898 | J29: =SUMIF('1-2. 읍면동별 인구 및 세대현황'!$A$7:$A$352,'1-1. 시군별 인구 및 세대현황'!A29,'1-2. 읍면동별 인구 및 세대현황'!$J$7:$J$136) -> 493 | K29: =SUMIF('1-2. 읍면동별 인구 및 세대현황'!$A$7:$A$352,'1-1. 시군별 인구 및 세대현황'!A29,'1-2. 읍면동별 인구 및 세대현황'!$K$7:$K$136) -> 405
A30: 경산시 | B30: 129501 | C30: =IF(D30+E30=F30+I30,D30+E30,error) -> 281512 | D30: =G30+J30 -> 143103 | E30: =H30+K30 -> 138409 | F30: 267076 | G30: 134335 | H30: 132741 | I30: =SUM(J30:K30) -> 14436 | J30: =SUMIF('1-2. 읍면동별 인구 및 세대현황'!$A$7:$A$352,'1-1. 시군별 인구 및 세대현황'!A30,'1-2. 읍면동별 인구 및 세대현황'!$J$7:$J$136) -> 8768 | K30: =SUMIF('1-2. 읍면동별 인구 및 세대현황'!$A$7:$A$352,'1-1. 시군별 인구 및 세대현황'!A30,'1-2. 읍면동별 인구 및 세대현황'!$K$7:$K$136) -> 5668
A31: 의성군 | B31: 29324 | C31: =IF(D31+E31=F31+I31,D31+E31,error) -> 50828 | D31: =G31+J31 -> 25207 | E31: =H31+K31 -> 25621 | F31: 50016 | G31: 24726 | H31: 25290 | I31: =SUM(J31:K31) -> 812 | J31: =SUMIF('1-2. 읍면동별 인구 및 세대현황'!$A$7:$A$352,'1-1. 시군별 인구 및 세대현황'!A31,'1-2. 읍면동별 인구 및 세대현황'!$J$7:$J$136) -> 481 | K31: =SUMIF('1-2. 읍면동별 인구 및 세대현황'!$A$7:$A$352,'1-1. 시군별 인구 및 세대현황'!A31,'1-2. 읍면동별 인구 및 세대현황'!$K$7:$K$136) -> 331
A32: 청송군 | B32: 14009 | C32: =IF(D32+E32=F32+I32,D32+E32,error) -> 24432 | D32: =G32+J32 -> 12264 | E32: =H32+K32 -> 12168 | F32: 24068 | G32: 12083 | H32: 11985 | I32: =SUM(J32:K32) -> 364 | J32: =SUMIF('1-2. 읍면동별 인구 및 세대현황'!$A$7:$A$352,'1-1. 시군별 인구 및 세대현황'!A32,'1-2. 읍면동별 인구 및 세대현황'!$J$7:$J$136) -> 181 | K32: =SUMIF('1-2. 읍면동별 인구 및 세대현황'!$A$7:$A$352,'1-1. 시군별 인구 및 세대현황'!A32,'1-2. 읍면동별 인구 및 세대현황'!$K$7:$K$136) -> 183
... A42: 울릉군 | B42: 5590 | C42: =IF(D42+E42=F42+I42,D42+E42,error) -> 9254 | D42: =G42+J42 -> 5172 | E42: =H42+K42 -> 4082 | F42: 9114 | G42: 5059 | H42: 4055 | I42: =SUM(J42:K42) -> 140 | J42: =SUMIF('1-2. 읍면동별 인구 및 세대현황'!$A$7:$A$352,'1-1. 시군별 인구 및 세대현황'!A42,'1-2. 읍면동별 인구 및 세대현황'!$J$7:$J$136) -> 113 | K42: =SUMIF('1-2. 읍면동별 인구 및 세대현황'!$A$7:$A$352,'1-1. 시군별 인구 및 세대현황'!A42,'1-2. 읍면동별 인구 및 세대현황'!$K$7:$K$136) -> 27

Sheet 1-2. 읍면동별 인구 및 세대현황
A2: 1-2. 읍면동별 인구 및 세대현황 (2023년 3분기)
A3: * 행정동 기준 | K3: (단위 : 세대, 명)
A4: 구분 | B4: 세대수 | C4: 총계 | F4: 한국인 | I4: 외국인
C5: 총 계 | D5: 남 | E5: 여 | F5: 소 계 | G5: 남 | H5: 여 | I5: 소계 | J5: 남 | K5: 여
A6: 경상북도 | B6: =B7+B39+B63+B86+B111+B137+B157+B174+B199++B214+B230+B249+B258+B265+B275+B285+B294+B305+B314+B327+B338+B349 -> 1282575 | C6: =IF((C7+C39+C63+C86+C111+C137+C157+C174+C199+C214+C230+C249+C258+C265+C275+C285+C294+C305+C314+C327+C338+C349)=F6+I6,F6+I6) -> 2625372 | D6: =IF((D7+D39+D63+D86+D111+D137+D157+D174+D199+D214+D230+D249+D258+D265+D275+D285+D294+D305+D314+D327+D338+D349)=G6+J6,G6+J6) -> 1335085 | E6: =IF((E7+E39+E63+E86+E111+E137+E157+E174+E199+E214+E230+E249+E258+E265+E275+E285+E294+E305+E314+E327+E338+E349)=H6+K6,H6+K6) -> 1290287 | F6: =F7+F39+F63+F86+F111+F137+F157+F174+F199++F214+F230+F249+F258+F265+F275+F285+F294+F305+F314+F327+F338+F349 -> 2559924 | G6: =G7+G39+G63+G86+G111+G137+G157+G174+G199++G214+G230+G249+G258+G265+G275+G285+G294+G305+G314+G327+G338+G349 -> 1292868 | H6: =H7+H39+H63+H86+H111+H137+H157+H174+H199++H214+H230+H249+H258+H265+H275+H285+H294+H305+H314+H327+H338+H349 -> 1267056 | I6: =I7+I39+I63+I86+I111+I137+I157+I174+I199++I214+I230+I249+I258+I265+I275+I285+I294+I305+I314+I327+I338+I349 -> 65448 | J6: =J7+J39+J63+J86+J111+J137+J157+J174+J199++J214+J230+J249+J258+J265+J275+J285+J294+J305+J314+J327+J338+J349 -> 42217 | K6: =K7+K39+K63+K86+K111+K137+K157+K174+K199++K214+K230+K249+K258+K265+K275+K285+K294+K305+K314+K327+K338+K349 -> 23231
A7: 포항시 | B7: 233509 | C7: 499954 | D7: 254642 | E7: 245312 | F7: 493102 | G7: 250120 | H7: 242982 | I7: 6852 | J7: 4522 | K7: 2330
A8: 남구 | B8: 110576 | C8: 230411 | D8: 120245 | E8: 110166 | F8: 226578 | G8: 117524 | H8: 109054 | I8: 3833 | J8: 2721 | K8: 1112
A9: 구룡포읍 | B9: 4392 | C9: 7789 | D9: 4328 | E9: 3461 | F9: 6883 | G9: 3484 | H9: 3399 | I9: 906 | J9: 844 | K9: 62
A10: 연일읍 | B10: 12397 | C10: 29527 | D10: 14998 | E10: 14529 | F10: 29290 | G10: 14867 | H10: 14423 | I10: 237 | J10: 131 | K10: 106
A11: 오천읍 | B11: 27490 | C11: 58047 | D11: 31155 | E11: 26892 | F11: 57302 | G11: 30734 | H11: 26568 | I11: 745 | J11: 421 | K11: 324
A12: 대송면 | B12: 1903 | C12: 3456 | D12: 1887 | E12: 1569 | F12: 3246 | G12: 1694 | H12: 1552 | I12: 210 | J12: 193 | K12: 17
A13: 동해면 | B13: 4785 | C13: 9609 | D13: 4876 | E13: 4733 | F13: 9507 | G13: 4811 | H13: 4696 | I13: 102 | J13: 65 | K13: 37
A14: 장기면 | B14: 2406 | C14: 4152 | D14: 2163 | E14: 1989 | F14: 3880 | G14: 1903 | H14: 1977 | I14: 272 | J14: 260 | K14: 12
A15: 호미곶면 | B15: 1126 | C15: 1896 | D15: 987 | E15: 909 | F15: 1738 | G15: 846 | H15: 892 | I15: 158 | J15: 141 | K15: 17
A16: 상대동 | B16: 13754 | C16: 24297 | D16: 12703 | E16: 11594 | F16: 24104 | G16: 12632 | H16: 11472 | I16: 193 | J16: 71 | K16: 122
A17: 해도동 | B17: 9936 | C17: 16759 | D17: 8601 | E17: 8158 | F17: 16626 | G17: 8545 | H17: 8081 | I17: 133 | J17: 56 | K17: 77
A18: 송도동 | B18: 6476 | C18: 11884 | D18: 5960 | E18: 5924 | F18: 11716 | G18: 5839 | H18: 5877 | I18: 168 | J18: 121 | K18: 47
... A352: 북면 | B352: 860 | C352: 1309 | D352: 730 | E352: 579 | F352: 1302 | G352: 725 | H352: 577 | I352: 7 | J352: 5 | K352: 2

Sheet 1-3. 리별 인구 및 세대현황(시)
A2: 1-3. 리별 인구 및 세대현황(시)_외국인 제외 (2023년 3분기)
A3: (단위 : 세대, 명) | AW3: (단위:명,세대)
A4: 포항시 | F4: 경주시 | K4: 김천시 | P4: 안동시 | U4: 구미시 | Z4: 영주시 | AE4: 영천시 | AJ4: 상주시 | AO4: 문경시 | AT4: 경산시
A5: 행정구역 | B5: 계 | C5: 남 | D5: 여 | E5: 세대수 | F5: 행정구역 | G5: 계 | H5: 남 | I5: 여 | J5: 세대수 | K5: 행정구역 | L5: 계 | M5: 남 | N5: 여 | O5: 세대수 | P5: 행정구역 | Q5: 계 | R5: 남 | S5: 여 | T5: 세대수 | U5: 행정구역 | V5: 계 | W5: 남 | X5: 여 | Y5: 세대수 | Z5: 행정구역 | AA5: 계 | AB5: 남 | AC5: 여 | AD5: 세대수 | AE5: 행정구역 | AF5: 계 | AG5: 남 | AH5: 여 | AI5: 세대수 | AJ5: 행정구역 | AK5: 계 | AL5: 남 | AM5: 여 | AN5: 세대수 | AO5: 행정구역 | AP5: 계 | AQ5: 남 | AR5: 여 | AS5: 세대수 | AT5: 행정구역 | AU5: 계 | AV5: 남 | AW5: 여 | AX5: 세대수
A6: 구룡포읍 | B6: 6883 | C6: 3484 | D6: 3399 | E6: 4392 | F6: 감포읍 | G6: 5274 | H6: 2642 | I6: 2632 | J6: 3158 | K6: 아포읍 | L6: 7736 | M6: 3880 | N6: 3856 | O6: 4106 | P6: 풍산읍 | Q6: 6133 | R6: 3092 | S6: 3041 | T6: 3519 | U6: 선산읍 | V6: 14083 | W6: 6964 | X6: 7119 | Y6: 6757 | Z6: 풍기읍 | AA6: 10427 | AB6: 5207 | AC6: 5220 | AD6: 5762 | AE6: 금호읍 | AF6: 10432 | AG6: 5526 | AH6: 4906 | AI6: 6223 | AJ6: 함창읍 | AK6: 6184 | AL6: 3011 | AM6: 3173 | AN6: 3408 | AO6: 문경읍 | AP6: 6796 | AQ6: 3292 | AR6: 3504 | AS6: 3798 | AT6: 하양읍 | AU6: =SUM(AV6:AW6) -> 31374 | AV6: =SUM(AV7:AV48) -> 15847 | AW6: =SUM(AW7:AW48) -> 15527 | AX6: =SUM(AX7:AX48) -> 15482
A7: 구룡포1리 | B7: 757 | C7: 383 | D7: 374 | E7: 472 | F7: 감포1리 | G7: 367 | H7: 183 | I7: 184 | J7: 221 | K7: 인1리 | L7: 219 | M7: 108 | N7: 111 | O7: 118 | P7: 안교1리 | Q7: 781 | R7: 382 | S7: 399 | T7: 448 | U7: 완전리 | V7: 1321 | W7: 643 | X7: 678 | Y7: 667 | Z7: 성내1리 | AA7: 326 | AB7: 136 | AC7: 190 | AD7: 178 | AE7: 교대1리 | AF7: 866 | AG7: 442 | AH7: 424 | AI7: 472 | AJ7: 구향1리 | AK7: 192 | AL7: 95 | AM7: 97 | AN7: 99 | AO7: 상1리 | AP7: 207 | AQ7: 106 | AR7: 101 | AS7: 121 | AT7: 금락1리 | AU7: =SUM(AV7:AW7) -> 1695 | AV7: 880 | AW7: 815 | AX7: 1165
A8: 구룡포2리 | B8: 1084 | C8: 545 | D8: 539 | E8: 611 | F8: 감포2리 | G8: 875 | H8: 440 | I8: 435 | J8: 511 | K8: 인2리 | L8: 174 | M8: 96 | N8: 78 | O8: 98 | P8: 안교2리 | Q8: 373 | R8: 170 | S8: 203 | T8: 228 | U8: 동부리 | V8: 1066 | W8: 538 | X8: 528 | Y8: 534 | Z8: 성내2리 | AA8: 214 | AB8: 90 | AC8: 124 | AD8: 118 | AE8: 교대2리 | AF8: 519 | AG8: 266 | AH8: 253 | AI8: 290 | AJ8: 구향2리 | AK8: 749 | AL8: 360 | AM8: 389 | AN8: 392 | AO8: 상2리 | AP8: 457 | AQ8: 211 | AR8: 246 | AS8: 253 | AT8: 금락2리 | AU8: =SUM(AV8:AW8) -> 1428 | AV8: 742 | AW8: 686 | AX8: 915
A9: 구룡포3리 | B9: 262 | C9: 129 | D9: 133 | E9: 196 | F9: 감포3리 | G9: 441 | H9: 235 | I9: 206 | J9: 273 | K9: 인3리 | L9: 78 | M9: 37 | N9: 41 | O9: 49 | P9: 안교3리 | Q9: 125 | R9: 70 | S9: 55 | T9: 76 | U9: 노상리 | V9: 2013 | W9: 898 | X9: 1115 | Y9: 995 | Z9: 성내3리 | AA9: 460 | AB9: 215 | AC9: 245 | AD9: 248 | AE9: 교대3리 | AF9: 358 | AG9: 196 | AH9: 162 | AI9: 194 | AJ9: 구향3리 | AK9: 608 | AL9: 289 | AM9: 319 | AN9: 341 | AO9: 하1리 | AP9: 579 | AQ9: 280 | AR9: 299 | AS9: 315 | AT9: 금락3리 | AU9: =SUM(AV9:AW9) -> 70 | AV9: 27 | AW9: 43 | AX9: 43
A10: 구룡포4리 | B10: 409 | C10: 199 | D10: 210 | E10: 281 | F10: 감포4리 | G10: 482 | H10: 242 | I10: 240 | J10: 285 | K10: 인4리 | L10: 127 | M10: 63 | N10: 64 | O10: 65 | P10: 상리1리 | Q10: 209 | R10: 108 | S10: 101 | T10: 110 | U10: 이문리 | V10: 1821 | W10: 915 | X10: 906 | Y10: 874 | Z10: 성내4리 | AA10: 952 | AB10: 460 | AC10: 492 | AD10: 489 | AE10: 교대4리 | AF10: 987 | AG10: 468 | AH10: 519 | AI10: 441 | AJ10: 구향4리 | AK10: 200 | AL10: 97 | AM10: 103 | AN10: 118 | AO10: 하2리 | AP10: 623 | AQ10: 303 | AR10: 320 | AS10: 346 | AT10: 금락4리 | AU10: =SUM(AV10:AW10) -> 1464 | AV10: 726 | AW10: 738 | AX10: 1007
A11: 구룡포5리 | B11: 403 | C11: 197 | D11: 206 | E11: 270 | F11: 감포5리 | G11: 288 | H11: 140 | I11: 148 | J11: 167 | K11: 의1리 | L11: 331 | M11: 167 | N11: 164 | O11: 190 | P11: 상리2리 | Q11: 103 | R11: 56 | S11: 47 | T11: 50 | U11: 죽장1리 | V11: 208 | W11: 112 | X11: 96 | Y11: 105 | Z11: 동부1리 | AA11: 1105 | AB11: 547 | AC11: 558 | AD11: 505 | AE11: 덕성리 | AF11: 784 | AG11: 381 | AH11: 403 | AI11: 447 | AJ11: 구향5리 | AK11: 381 | AL11: 189 | AM11: 192 | AN11: 272 | AO11: 교촌리 | AP11: 738 | AQ11: 330 | AR11: 408 | AS11: 449 | AT11: 금락5리 | AU11: =SUM(AV11:AW11) -> 1421 | AV11: 663 | AW11: 758 | AX11: 615
A12: 구룡포6리 | B12: 533 | C12: 263 | D12: 270 | E12: 364 | F12: 오류1리 | G12: 179 | H12: 88 | I12: 91 | J12: 110 | K12: 의2리 | L12: 104 | M12: 49 | N12: 55 | O12: 63 | P12: 상리3리 | Q12: 146 | R12: 82 | S12: 64 | T12: 87 | U12: 죽장2리 | V12: 205 | W12: 102 | X12: 103 | Y12: 104 | Z12: 동부2리 | AA12: 627 | AB12: 313 | AC12: 314 | AD12: 308 | AE12: 성천리 | AF12: 126 | AG12: 66 | AH12: 60 | AI12: 74 | AJ12: 구향6리 | AK12: 415 | AL12: 201 | AM12: 214 | AN12: 169 | AO12: 요성리 | AP12: 333 | AQ12: 152 | AR12: 181 | AS12: 177 | AT12: 금락6리 | AU12: =SUM(AV12:AW12) -> 2872 | AV12: 1367 | AW12: 1505 | AX12: 1123
A13: 구룡포7리 | B13: 112 | C13: 55 | D13: 57 | E13: 60 | F13: 오류2리 | G13: 351 | H13: 173 | I13: 178 | J13: 216 | K13: 예1리 | L13: 121 | M13: 64 | N13: 57 | O13: 67 | P13: 하리1리 | Q13: 226 | R13: 107 | S13: 119 | T13: 122 | U13: 봉곡1리 | V13: 151 | W13: 72 | X13: 79 | Y13: 92 | Z13: 동부3리 | AA13: 719 | AB13: 341 | AC13: 378 | AD13: 434 | AE13: 대미1리 | AF13: 163 | AG13: 93 | AH13: 70 | AI13: 95 | AJ13: 오동1리 | AK13: 534 | AL13: 228 | AM13: 306 | AN13: 205 | AO13: 지곡1리 | AP13: 80 | AQ13: 39 | AR13: 41 | AS13: 47 | AT13: 금락7리 | AU13: =SUM(AV13:AW13) -> 1541 | AV13: 734 | AW13: 807 | AX13: 674
A14: 삼정1리 | B14: 111 | C14: 51 | D14: 60 | E14: 68 | F14: 오류3리 | G14: 121 | H14: 68 | I14: 53 | J14: 77 | K14: 예2리 | L14: 152 | M14: 75 | N14: 77 | O14: 75 | P14: 하리2리 | Q14: 357 | R14: 189 | S14: 168 | T14: 199 | U14: 봉곡2리 | V14: 66 | W14: 32 | X14: 34 | Y14: 38 | Z14: 동부4리 | AA14: 969 | AB14: 477 | AC14: 492 | AD14: 439 | AE14: 대미2리 | AF14: 130 | AG14: 66 | AH14: 64 | AI14: 72 | AJ14: 오동2리 | AK14: 239 | AL14: 123 | AM14: 116 | AN14: 145 | AO14: 지곡2리 | AP14: 89 | AQ14: 41 | AR14: 48 | AS14: 57 | AT14: 금락8리 | AU14: =SUM(AV14:AW14) -> 1262 | AV14: 642 | AW14: 620 | AX14: 543
A15: 삼정2리 | B15: 166 | C15: 76 | D15: 90 | E15: 106 | F15: 오류4리 | G15: 239 | H15: 118 | I15: 121 | J15: 153 | K15: 지1리 | L15: 193 | M15: 88 | N15: 105 | O15: 99 | P15: 마애리 | Q15: 162 | R15: 78 | S15: 84 | T15: 99 | U15: 포상1리 | V15: 89 | W15: 49 | X15: 40 | Y15: 47 | Z15: 동부5리 | AA15: 203 | AB15: 105 | AC15: 98 | AD15: 115 | AE15: 석섬리 | AF15: 152 | AG15: 85 | AH15: 67 | AI15: 99 | AJ15: 오사1리 | AK15: 264 | AL15: 133 | AM15: 131 | AN15: 149 | AO15: 마원1리 | AP15: 195 | AQ15: 95 | AR15: 100 | AS15: 115 | AT15: 동서1리 | AU15: =SUM(AV15:AW15) -> 954 | AV15: 489 | AW15: 465 | AX15: 510
A16: 삼정3리 | B16: 141 | C16: 65 | D16: 76 | E16: 90 | F16: 전동리 | G16: 251 | H16: 138 | I16: 113 | J16: 152 | K16: 지2리 | L16: 98 | M16: 50 | N16: 48 | O16: 62 | P16: 수1리 | Q16: 184 | R16: 87 | S16: 97 | T16: 94 | U16: 포상2리 | V16: 93 | W16: 48 | X16: 45 | Y16: 55 | Z16: 동부6리 | AA16: 224 | AB16: 105 | AC16: 119 | AD16: 131 | AE16: 원제1리 | AF16: 330 | AG16: 181 | AH16: 149 | AI16: 191 | AJ16: 오사2리 | AK16: 26 | AL16: 19 | AM16: 7 | AN16: 17 | AO16: 마원2리 | AP16: 132 | AQ16: 65 | AR16: 67 | AS16: 73 | AT16: 동서2리 | AU16: =SUM(AV16:AW16) -> 497 | AV16: 268 | AW16: 229 | AX16: 273
A17: 석병1리 | B17: 191 | C17: 99 | D17: 92 | E17: 129 | F17: 전촌1리 | G17: 182 | H17: 89 | I17: 93 | J17: 113 | K17: 대신1리 | L17: 221 | M17: 110 | N17: 111 | O17: 122 | P17: 수2리 | Q17: 120 | R17: 68 | S17: 52 | T17: 61 | U17: 소재리 | V17: 137 | W17: 77 | X17: 60 | Y17: 77 | Z17: 산법리 | AA17: 644 | AB17: 381 | AC17: 263 | AD17: 538 | AE17: 원제2리 | AF17: 1085 | AG17: 705 | AH17: 380 | AI17: 961 | AJ17: 증촌1리 | AK17: 311 | AL17: 146 | AM17: 165 | AN17: 152 | AO17: 마원3리 | AP17: 112 | AQ17: 54 | AR17: 58 | AS17: 61 | AT17: 동서3리 | AU17: =SUM(AV17:AW17) -> 139 | AV17: 66 | AW17: 73 | AX17: 72
A18: 석병2리 | B18: 282 | C18: 148 | D18: 134 | E18: 192 | F18: 전촌2리 | G18: 210 | H18: 106 | I18: 104 | J18: 118 | K18: 대신2리 | L18: 147 | M18: 71 | N18: 76 | O18: 78 | P18: 회곡리 | Q18: 149 | R18: 73 | S18: 76 | T18: 88 | U18: 내고1리 | V18: 187 | W18: 88 | X18: 99 | Y18: 92 | Z18: 미곡리 | AA18: 111 | AB18: 64 | AC18: 47 | AD18: 63 | AE18: 냉천1리 | AF18: 659 | AG18: 334 | AH18: 325 | AI18: 346 | AJ18: 증촌2리 | AK18: 127 | AL18: 65 | AM18: 62 | AN18: 68 | AO18: 진안리 | AP18: 127 | AQ18: 67 | AR18: 60 | AS18: 72 | AT18: 동서4리 | AU18: =SUM(AV18:AW18) -> 1178 | AV18: 547 | AW18: 631 | AX18: 505
... A48: 유강3리 | B48: 1004 | C48: 484 | D48: 520 | E48: 385 | F48: 산대5리 | G48: 2707 | H48: 1282 | I48: 1425 | J48: 1438 | K48: 용암2리 | L48: 67 | M48: 36 | N48: 31 | O48: 45 | P48: 산야3리 | Q48: 65 | R48: 31 | S48: 34 | T48: 39 | U48: 횡산리 | V48: 146 | W48: 67 | X48: 79 | Y48: 89 | Z48: 용상2리 | AA48: 140 | AB48: 70 | AC48: 70 | AD48: 69 | AE48: 대평리 | AF48: 215 | AG48: 115 | AH48: 100 | AI48: 135 | AJ48: 목가리 | AK48: 199 | AL48: 107 | AM48: 92 | AN48: 104 | AO48: 작천2리 | AP48: 128 | AQ48: 65 | AR48: 63 | AS48: 66 | AT48: 양지3리 | AU48: =SUM(AV48:AW48) -> 590 | AV48: 308 | AW48: 282 | AX48: 564
A49: 유강4리 | B49: 1432 | C49: 727 | D49: 705 | E49: 498 | F49: 산대6리 | G49: 1049 | H49: 514 | I49: 535 | J49: 548 | K49: 도공촌리 | L49: 320 | M49: 168 | N49: 152 | O49: 167 | P49: 주계리 | Q49: 199 | R49: 104 | S49: 95 | T49: 107 | U49: 외예리 | V49: 199 | W49: 101 | X49: 98 | Y49: 107 | Z49: 신천1리 | AA49: 64 | AB49: 30 | AC49: 34 | AD49: 30 | AE49: 죽정리 | AF49: 154 | AG49: 82 | AH49: 72 | AI49: 92 | AJ49: 덕가리 | AK49: 187 | AL49: 93 | AM49: 94 | AN49: 97 | AO49: 성저1리 | AP49: 159 | AQ49: 75 | AR49: 84 | AS49: 92 | AT49: 진량읍 | AU49: =SUM(AV49:AW49) -> 34483 | AV49: =SUM(AV50:AV103) -> 17985 | AW49: =SUM(AW50:AW103) -> 16498 | AX49: =SUM(AX50:AX103) -> 17360
A50: 유강5리 | B50: 2164 | C50: 1132 | D50: 1032 | E50: 923 | F50: 산대7리 | G50: 2040 | H50: 1014 | I50: 1026 | J50: 809 | K50: 봉곡1리 | L50: 315 | M50: 162 | N50: 153 | O50: 63 | P50: 가야리 | Q50: 169 | R50: 90 | S50: 79 | T50: 99 | U50: 내예리 | V50: 94 | W50: 42 | X50: 52 | Y50: 57 | Z50: 신천2리 | AA50: 91 | AB50: 41 | AC50: 50 | AD50: 53 | AE50: 송천리 | AF50: 309 | AG50: 160 | AH50: 149 | AI50: 178 | AJ50: 용담1리 | AK50: 123 | AL50: 59 | AM50: 64 | AN50: 66 | AO50: 성저2리 | AP50: 72 | AQ50: 41 | AR50: 31 | AS50: 35 | AT50: 신상1리 | AU50: =SUM(AV50:AW50) -> 571 | AV50: 308 | AW50: 263 | AX50: 286
A51: 유강6리 | B51: 1676 | C51: 867 | D51: 809 | E51: 657 | F51: 산대8리 | G51: 1169 | H51: 565 | I51: 604 | J51: 756 | K51: 봉곡2리 | L51: 123 | M51: 63 | N51: 60 | O51: 128 | P51: 지내1리 | Q51: 149 | R51: 76 | S51: 73 | T51: 91 | U51: 원호1리 | V51: 50 | W51: 22 | X51: 28 | Y51: 27 | Z51: 운문1리 | AA51: 161 | AB51: 76 | AC51: 85 | AD51: 89 | AE51: 원촌1리 | AF51: 248 | AG51: 136 | AH51: 112 | AI51: 146 | AJ51: 용담2리 | AK51: 113 | AL51: 60 | AM51: 53 | AN51: 56 | AO51: 수예리 | AP51: 64 | AQ51: 35 | AR51: 29 | AS51: 36 | AT51: 신상2리 | AU51: =SUM(AV51:AW51) -> 584 | AV51: 354 | AW51: 230 | AX51: 340
A52: 유강7리 | B52: 2235 | C52: 1106 | D52: 1129 | E52: 759 | F52: 산대9리 | G52: 1603 | H52: 790 | I52: 813 | J52: 831 | K52: 연명리 | L52: 246 | M52: 121 | N52: 125 | O52: 86 | P52: 지내2리 | Q52: 154 | R52: 82 | S52: 72 | T52: 75 | U52: 원호2리 | V52: 387 | W52: 206 | X52: 181 | Y52: 165 | Z52: 운문2리 | AA52: 179 | AB52: 96 | AC52: 83 | AD52: 98 | AE52: 원촌2리 | AF52: 114 | AG52: 52 | AH52: 62 | AI52: 76 | AJ52: 용담3리 | AK52: 72 | AL52: 36 | AM52: 36 | AN52: 41 | AO52: 민지1리 | AP52: 67 | AQ52: 37 | AR52: 30 | AS52: 45 | AT52: 신상3리 | AU52: =SUM(AV52:AW52) -> 779 | AV52: 506 | AW52: 273 | AX52: 541
A53: 자명1리 | B53: 183 | C53: 88 | D53: 95 | E53: 95 | F53: 산대10리 | G53: 971 | H53: 485 | I53: 486 | J53: 387 | K53: 노곡리 | L53: 160 | M53: 80 | N53: 80 | O53: 124 | P53: 태1리 | Q53: 264 | R53: 140 | S53: 124 | T53: 151 | U53: 원호3리 | V53: 624 | W53: 325 | X53: 299 | Y53: 315 | Z53: 두월1리 | AA53: 117 | AB53: 60 | AC53: 57 | AD53: 57 | AE53: 신학1리 | AF53: 250 | AG53: 130 | AH53: 120 | AI53: 143 | AJ53: 묵상리 | AK53: 218 | AL53: 109 | AM53: 109 | AN53: 133 | AO53: 민지2리 | AP53: 47 | AQ53: 19 | AR53: 28 | AS53: 22 | AT53: 신상4리 | AU53: =SUM(AV53:AW53) -> 1223 | AV53: 602 | AW53: 621 | AX53: 486
A54: 자명2리 | B54: 186 | C54: 93 | D54: 93 | E54: 86 | F54: 산대11리 | G54: 2239 | H54: 1085 | I54: 1154 | J54: 990 | K54: 남면 | L54: 3034 | M54: 1570 | N54: 1464 | O54: 1753 | P54: 태2리 | Q54: 144 | R54: 75 | S54: 69 | T54: 72 | U54: 원호4리 | V54: 1794 | W54: 866 | X54: 928 | Y54: 769 | Z54: 두월2리 | AA54: 93 | AB54: 52 | AC54: 41 | AD54: 54 | AE54: 신학2리 | AF54: 80 | AG54: 41 | AH54: 39 | AI54: 43 | AJ54: 묵하리 | AK54: 208 | AL54: 104 | AM54: 104 | AN54: 105 | AO54: 전곡1리 | AP54: 102 | AQ54: 49 | AR54: 53 | AS54: 53 | AT54: 신상5리 | AU54: =SUM(AV54:AW54) -> 1390 | AV54: 685 | AW54: 705 | AX54: 505
A55: 학전리 | B55: 184 | C55: 100 | D55: 84 | E55: 105 | F55: 옥산1리 | G55: 151 | H55: 78 | I55: 73 | J55: 91 | K55: 옥산1리 | L55: 219 | M55: 115 | N55: 104 | O55: 120 | P55: 서지리 | Q55: 158 | R55: 80 | S55: 78 | T55: 86 | U55: 원호5리 | V55: 1540 | W55: 726 | X55: 814 | Y55: 651 | Z55: 내림1리 | AA55: 51 | AB55: 26 | AC55: 25 | AD55: 28 | AE55: 치일1리 | AF55: 260 | AG55: 132 | AH55: 128 | AI55: 165 | AJ55: 매협1리 | AK55: 131 | AL55: 66 | AM55: 65 | AN55: 79 | AO55: 전곡2리 | AP55: 55 | AQ55: 23 | AR55: 32 | AS55: 34 | AT55: 신상6리 | AU55: =SUM(AV55:AW55) -> 804 | AV55: 508 | AW55: 296 | AX55: 598
A56: 달전리 | B56: 163 | C56: 89 | D56: 74 | E56: 102 | F56: 옥산2리 | G56: 143 | H56: 71 | I56: 72 | J56: 81 | K56: 옥산2리 | L56: 173 | M56: 91 | N56: 82 | O56: 98 | P56: 이하1리 | Q56: 173 | R56: 89 | S56: 84 | T56: 101 | U56: 원호6리 | V56: 1347 | W56: 656 | X56: 691 | Y56: 520 | Z56: 내림2리 | AA56: 46 | AB56: 23 | AC56: 23 | AD56: 22 | AE56: 치일2리 | AF56: 129 | AG56: 68 | AH56: 61 | AI56: 83 | AJ56: 매협2리 | AK56: 112 | AL56: 56 | AM56: 56 | AN56: 56 | AO56: 전곡3리 | AP56: 68 | AQ56: 36 | AR56: 32 | AS56: 40 | AT56: 신상7리 | AU56: =SUM(AV56:AW56) -> 186 | AV56: 134 | AW56: 52 | AX56: 155
A57: 중명1리 | B57: 149 | C57: 76 | D57: 73 | E57: 76 | F57: 옥산3리 | G57: 521 | H57: 282 | I57: 239 | J57: 236 | K57: 운곡1리 | L57: 252 | M57: 128 | N57: 124 | O57: 142 | P57: 이하2리 | Q57: 97 | R57: 44 | S57: 53 | T57: 54 | U57: 원호7리 | V57: 2075 | W57: 1042 | X57: 1033 | Y57: 726 | Z57: 평은면 | AA57: 1393 | AB57: 713 | AC57: 680 | AD57: 793 | AE57: 애련리 | AF57: 227 | AG57: 128 | AH57: 99 | AI57: 145 | AJ57: 매호1리 | AK57: 37 | AL57: 19 | AM57: 18 | AN57: 23 | AO57: 성유1리 | AP57: 103 | AQ57: 54 | AR57: 49 | AS57: 58 | AT57: 선화1리 | AU57: =SUM(AV57:AW57) -> 175 | AV57: 94 | AW57: 81 | AX57: 89
A58: 중명2리 | B58: 284 | C58: 138 | D58: 146 | E58: 132 | F58: 옥산4리 | G58: 194 | H58: 98 | I58: 96 | J58: 117 | K58: 운곡2리 | L58: 117 | M58: 60 | N58: 57 | O58: 50 | P58: 이상리 | Q58: 170 | R58: 91 | S58: 79 | T58: 87 | U58: 원호8리 | V58: 1912 | W58: 970 | X58: 942 | Y58: 638 | Z58: 평온1리 | AA58: 252 | AB58: 116 | AC58: 136 | AD58: 134 | AE58: 계포리 | AF58: 237 | AG58: 134 | AH58: 103 | AI58: 137 | AJ58: 매호2리 | AK58: 147 | AL58: 67 | AM58: 80 | AN58: 91 | AO58: 성유2리 | AP58: 43 | AQ58: 21 | AR58: 22 | AS58: 27 | AT58: 선화2리 | AU58: =SUM(AV58:AW58) -> 258 | AV58: 130 | AW58: 128 | AX58: 137
A59: 중단1리 | B59: 177 | C59: 93 | D59: 84 | E59: 93 | F59: 하곡리 | G59: 191 | H59: 95 | I59: 96 | J59: 105 | K59: 송곡1리 | L59: 156 | M59: 85 | N59: 71 | O59: 84 | P59: 주하1리 | Q59: 93 | R59: 43 | S59: 50 | T59: 48 | U59: 원호9리 | V59: 2409 | W59: 1217 | X59: 1192 | Y59: 792 | Z59: 평온2리 | AA59: 139 | AB59: 75 | AC59: 64 | AD59: 75 | AE59: 계지1리 | AF59: 197 | AG59: 108 | AH59: 89 | AI59: 107 | AJ59: 퇴강리 | AK59: 110 | AL59: 57 | AM59: 53 | AN59: 62 | AO59: 죽문1리 | AP59: 102 | AQ59: 49 | AR59: 53 | AS59: 71 | AT59: 선화3리 | AU59: =SUM(AV59:AW59) -> 150 | AV59: 85 | AW59: 65 | AX59: 96
A60: 중단2리 | B60: 91 | C60: 47 | D60: 44 | E60: 48 | F60: 강교1리 | G60: 137 | H60: 61 | I60: 76 | J60: 84 | K60: 송곡2리 | L60: 81 | M60: 41 | N60: 40 | O60: 41 | P60: 주하2리 | Q60: 106 | R60: 61 | S60: 45 | T60: 58 | U60: 원호10리 | V60: 1616 | W60: 824 | X60: 792 | Y60: 559 | Z60: 강동1리 | AA60: 98 | AB60: 52 | AC60: 46 | AD60: 57 | AE60: 계지2리 | AF60: 163 | AG60: 84 | AH60: 79 | AI60: 92 | AJ60: 엄암리 | AK60: 274 | AL60: 137 | AM60: 137 | AN60: 152 | AO60: 죽문2리 | AP60: 71 | AQ60: 46 | AR60: 25 | AS60: 46 | AT60: 선화4리 | AU60: =SUM(AV60:AW60) -> 180 | AV60: 92 | AW60: 88 | AX60: 78
A61: 택전1리 | B61: 625 | C61: 330 | D61: 295 | E61: 347 | F61: 강교2리 | G61: 68 | H61: 39 | I61: 29 | J61: 48 | K61: 월명1리 | L61: 251 | M61: 99 | N61: 152 | O61: 164 | P61: 감애1리 | Q61: 252 | R61: 127 | S61: 125 | T61: 133 | U61: 문성1리 | V61: 930 | W61: 462 | X61: 468 | Y61: 408 | Z61: 강동2리 | AA61: 37 | AB61: 19 | AC61: 18 | AD61: 24 | AE61: 용천리 | AF61: 106 | AG61: 62 | AH61: 44 | AI61: 63 | AJ61: 금흔1리 | AK61: 138 | AL61: 64 | AM61: 74 | AN61: 74 | AO61: 완장1리 | AP61: 146 | AQ61: 70 | AR61: 76 | AS61: 96 | AT61: 선화5리 | AU61: =SUM(AV61:AW61) -> 2192 | AV61: 1123 | AW61: 1069 | AX61: 1165
... A103: 세계5리 | B103: 1418 | C103: 687 | D103: 731 | E103: 748 | F103: 입실3리 | G103: 1070 | H103: 606 | I103: 464 | J103: 658 | K103: 삼성2리 | L103: 95 | M103: 47 | N103: 48 | O103: 51 | P103: 명2리 | Q103: 273 | R103: 142 | S103: 131 | T103: 204 | U103: 신당10리 | V103: 1134 | W103: 562 | X103: 572 | Y103: 376 | Z103: 화기1리 | AA103: 107 | AB103: 57 | AC103: 50 | AD103: 63 | AE103: 가상리 | AF103: 162 | AG103: 80 | AH103: 82 | AI103: 106 | AJ103: 신오리 | AK103: 220 | AL103: 114 | AM103: 106 | AN103: 120 | AO103: 위만1리 | AP103: 152 | AQ103: 83 | AR103: 69 | AS103: 85 | AT103: 가야리 | AU103: =SUM(AV103:AW103) -> 178 | AV103: 100 | AW103: 78 | AX103: 96
A104: 용덕1리 | B104: 1118 | C104: 579 | D104: 539 | E104: 570 | F104: 입실4리 | G104: 770 | H104: 368 | I104: 402 | J104: 467 | K104: 광덕1리 | L104: 109 | M104: 64 | N104: 45 | O104: 69 | P104: 대두서리 | Q104: 205 | R104: 110 | S104: 95 | T104: 115 | U104: 신당11리 | V104: 1135 | W104: 584 | X104: 551 | Y104: 358 | Z104: 화기2리 | AA104: 96 | AB104: 52 | AC104: 44 | AD104: 47 | AE104: 대기리 | AF104: 123 | AG104: 67 | AH104: 56 | AI104: 71 | AJ104: 유곡1리 | AK104: 115 | AL104: 57 | AM104: 58 | AN104: 58 | AO104: 위만2리 | AP104: 41 | AQ104: 23 | AR104: 18 | AS104: 29 | AT104: 압량읍 | AU104: =SUM(AV104:AW104) -> 20611 | AV104: =SUM(AV105:AV133) -> 10969 | AW104: =SUM(AW105:AW133) -> 9642 | AX104: =SUM(AX105:AX133) -> 10716
A105: 용덕2리 | B105: 326 | C105: 172 | D105: 154 | E105: 159 | F105: 입실5리 | G105: 1403 | H105: 744 | I105: 659 | J105: 671 | K105: 광덕2리 | L105: 137 | M105: 72 | N105: 65 | O105: 74 | P105: 자품리 | Q105: 212 | R105: 120 | S105: 92 | T105: 123 | U105: 신당12리 | V105: 1105 | W105: 558 | X105: 547 | Y105: 464 | Z105: 소룡1리 | AA105: 37 | AB105: 17 | AC105: 20 | AD105: 22 | AE105: 암기리 | AF105: 130 | AG105: 64 | AH105: 66 | AI105: 72 | AJ105: 유곡2리 | AK105: 110 | AL105: 51 | AM105: 59 | AN105: 68 | AO105: 우본1리 | AP105: 73 | AQ105: 38 | AR105: 35 | AS105: 50 | AT105: 부적1리 | AU105: =SUM(AV105:AW105) -> 911 | AV105: 512 | AW105: 399 | AX105: 658
A106: 용덕3리 | B106: 1402 | C106: 683 | D106: 719 | E106: 650 | F106: 구어1리 | G106: 300 | H106: 169 | I106: 131 | J106: 193 | K106: 덕남1리 | L106: 149 | M106: 77 | N106: 72 | O106: 86 | P106: 풍천면 | Q106: 7164 | R106: 3666 | S106: 3498 | T106: 4207 | U106: 신당13리 | V106: 1135 | W106: 575 | X106: 560 | Y106: 534 | Z106: 소룡2리 | AA106: 84 | AB106: 38 | AC106: 46 | AD106: 58 | AE106: 삼부리 | AF106: 134 | AG106: 68 | AH106: 66 | AI106: 89 | AJ106: 청리면 | AK106: 2513 | AL106: 1224 | AM106: 1289 | AN106: 1405 | AO106: 우본2리 | AP106: 47 | AQ106: 21 | AR106: 26 | AS106: 26 | AT106: 부적2리 | AU106: =SUM(AV106:AW106) -> 421 | AV106: 231 | AW106: 190 | AX106: 199
A107: 용덕4리 | B107: 1571 | C107: 776 | D107: 795 | E107: 788 | F107: 구어2리 | G107: 817 | H107: 430 | I107: 387 | J107: 431 | K107: 덕남2리 | L107: 155 | M107: 78 | N107: 77 | O107: 89 | P107: 갈전1리 | Q107: 189 | R107: 100 | S107: 89 | T107: 114 | U107: 신당14리 | V107: 1100 | W107: 579 | X107: 521 | Y107: 457 | Z107: 소룡3리 | AA107: 71 | AB107: 42 | AC107: 29 | AD107: 36 | AE107: 석촌리 | AF107: 154 | AG107: 73 | AH107: 81 | AI107: 95 | AJ107: 원장1리 | AK107: 379 | AL107: 184 | AM107: 195 | AN107: 210 | AO107: 연소1리 | AP107: 68 | AQ107: 33 | AR107: 35 | AS107: 39 | AT107: 부적3리 | AU107: =SUM(AV107:AW107) -> 402 | AV107: 200 | AW107: 202 | AX107: 197
A108: 용덕5리 | B108: 1238 | C108: 629 | D108: 609 | E108: 638 | F108: 모화1리 | G108: 414 | H108: 214 | I108: 200 | J108: 247 | K108: 태촌1리 | L108: 115 | M108: 61 | N108: 54 | O108: 63 | P108: 갈전2리 | Q108: 339 | R108: 172 | S108: 167 | T108: 212 | U108: 신당15리 | V108: 913 | W108: 488 | X108: 425 | Y108: 452 | Z108: 호문1리 | AA108: 53 | AB108: 27 | AC108: 26 | AD108: 31 | AE108: 당곡리 | AF108: 111 | AG108: 60 | AH108: 51 | AI108: 71 | AJ108: 원장2리 | AK108: 87 | AL108: 46 | AM108: 41 | AN108: 54 | AO108: 연소2리 | AP108: 124 | AQ108: 65 | AR108: 59 | AS108: 59 | AT108: 부적4리 | AU108: =SUM(AV108:AW108) -> 1189 | AV108: 629 | AW108: 560 | AX108: 761
A109: 용덕6리 | B109: 1344 | C109: 678 | D109: 666 | E109: 673 | F109: 모화2리 | G109: 380 | H109: 206 | I109: 174 | J109: 223 | K109: 태촌2리 | L109: 85 | M109: 39 | N109: 46 | O109: 52 | P109: 갈전3리 | Q109: 350 | R109: 172 | S109: 178 | T109: 222 | U109: 봉산1리 | V109: 218 | W109: 129 | X109: 89 | Y109: 137 | Z109: 호문2리 | AA109: 21 | AB109: 8 | AC109: 13 | AD109: 14 | AE109: 유성1리 | AF109: 102 | AG109: 58 | AH109: 44 | AI109: 67 | AJ109: 월로리 | AK109: 176 | AL109: 78 | AM109: 98 | AN109: 98 | AO109: 불암리 | AP109: 285 | AQ109: 133 | AR109: 152 | AS109: 173 | AT109: 부적5리 | AU109: =SUM(AV109:AW109) -> 1872 | AV109: 1114 | AW109: 758 | AX109: 1446
A110: 구정1리 | B110: 448 | C110: 236 | D110: 212 | E110: 270 | F110: 모화3리 | G110: 641 | H110: 351 | I110: 290 | J110: 374 | K110: 태촌3리 | L110: 174 | M110: 85 | N110: 89 | O110: 97 | P110: 갈전4리 | Q110: 621 | R110: 318 | S110: 303 | T110: 339 | U110: 봉산2리 | V110: 623 | W110: 500 | X110: 123 | Y110: 580 | Z110: 호문3리 | AA110: 115 | AB110: 53 | AC110: 62 | AD110: 62 | AE110: 유성2리 | AF110: 152 | AG110: 76 | AH110: 76 | AI110: 103 | AJ110: 청하1리 | AK110: 189 | AL110: 92 | AM110: 97 | AN110: 99 | AO110: 존도1리 | AP110: 108 | AQ110: 55 | AR110: 53 | AS110: 66 | AT110: 부적6리 | AU110: =SUM(AV110:AW110) -> 1202 | AV110: 564 | AW110: 638 | AX110: 542
A111: 구정2리 | B111: 1554 | C111: 786 | D111: 768 | E111: 802 | F111: 모화4리 | G111: 672 | H111: 337 | I111: 335 | J111: 337 | K111: 성촌리 | L111: 178 | M111: 87 | N111: 91 | O111: 102 | P111: 갈전5리 | Q111: 620 | R111: 294 | S111: 326 | T111: 300 | U111: 임천리 | V111: 410 | W111: 221 | X111: 189 | Y111: 218 | Z111: 안정면 | AA111: 2851 | AB111: 1426 | AC111: 1425 | AD111: 1598 | AE111: 유성3리 | AF111: 146 | AG111: 74 | AH111: 72 | AI111: 85 | AJ111: 청하2리 | AK111: 115 | AL111: 52 | AM111: 63 | AN111: 63 | AO111: 존도2리 | AP111: 161 | AQ111: 84 | AR111: 77 | AS111: 92 | AT111: 신대1리 | AU111: =SUM(AV111:AW111) -> 2240 | AV111: 1430 | AW111: 810 | AX111: 1773
...

Sheet 1-3. 리별 인구 및 세대현황(군)
A2: 1-3. 리별 인구 및 세대현황(군)_외국인 제외 (2023년 3분기)
A3: (단위 : 세대, 명) | BF3: (단위:명,세대)
A4: 의성군 | F4: 청송군 | K4: 영양군 | P4: 영덕군 | U4: 청도군 | Z4: 고령군 | AE4: 성주군 | AJ4: 칠곡군 | AO4: 예천군 | AT4: 봉화군 | AY4: 울진군 | BD4: 울릉군
A5: 행정구역 | B5: 계 | C5: 남 | D5: 여 | E5: 세대수 | F5: 행정구역 | G5: 계 | H5: 남 | I5: 여 | J5: 세대수 | K5: 행정구역 | L5: 계 | M5: 남 | N5: 여 | O5: 세대수 | P5: 행정구역 | Q5: 계 | R5: 남 | S5: 여 | T5: 세대수 | U5: 행정구역 | V5: 계 | W5: 남 | X5: 여 | Y5: 세대수 | Z5: 행정구역 | AA5: 계 | AB5: 남 | AC5: 여 | AD5: 세대수 | AE5: 행정구역 | AF5: 계 | AG5: 남 | AH5: 여 | AI5: 세대수 | AJ5: 행정구역 | AK5: 계 | AL5: 남 | AM5: 여 | AN5: 세대수 | AO5: 행정구역 | AP5: 계 | AQ5: 남 | AR5: 여 | AS5: 세대수 | AT5: 행정구역 | AU5: 계 | AV5: 남 | AW5: 여 | AX5: 세대수 | AY5: 행정구역 | AZ5: 계 | BA5: 남 | BB5: 여 | BC5: 세대수 | BD5: 행정구역 | BE5: 계 | BF5: 남 | BG5: 여 | BH5: 세대수
A6: 의성읍 | B6: 12692 | C6: 6251 | D6: 6441 | E6: 6752 | F6: 청송읍 | G6: 5008 | H6: 2479 | I6: 2529 | J6: 2680 | K6: 영양읍 | L6: 6920 | M6: 3401 | N6: 3519 | O6: 3724 | P6: 영덕읍 | Q6: 10456 | R6: 5054 | S6: 5402 | T6: 5440 | U6: 화양읍 | V6: 8270 | W6: 4070 | X6: 4200 | Y6: 4197 | Z6: 대가야읍 | AA6: 9676 | AB6: 4892 | AC6: 4784 | AD6: 5140 | AE6: 성주읍 | AF6: 13243 | AG6: 6699 | AH6: 6544 | AI6: 6743 | AJ6: 왜관읍 | AK6: 31555 | AL6: 15857 | AM6: 15698 | AN6: 14923 | AO6: 예천읍 | AP6: 14144 | AQ6: 6979 | AR6: 7165 | AS6: 7341 | AT6: 봉화읍 | AU6: 9466 | AV6: 4651 | AW6: 4815 | AX6: 4871 | AY6: 울진읍 | AZ6: 13561 | BA6: 6861 | BB6: 6700 | BC6: 6311 | BD6: 울릉읍 | BE6: 6440 | BF6: 3571 | BG6: 2869 | BH6: 3931
A7: 후죽1리 | B7: 518 | C7: 246 | D7: 272 | E7: 288 | F7: 월막1리 | G7: 765 | H7: 377 | I7: 388 | J7: 402 | K7: 동부1리 | L7: 1264 | M7: 592 | N7: 672 | O7: 682 | P7: 구미리 | Q7: 114 | R7: 54 | S7: 60 | T7: 65 | U7: 동상리 | V7: 352 | W7: 159 | X7: 193 | Y7: 198 | Z7: 쾌빈1리 | AA7: 297 | AB7: 154 | AC7: 143 | AD7: 176 | AE7: 경산1리 | AF7: 586 | AG7: 277 | AH7: 309 | AI7: 304 | AJ7: 왜관1리 | AK7: 1019 | AL7: 510 | AM7: 509 | AN7: 607 | AO7: 노하리 | AP7: 316 | AQ7: 148 | AR7: 168 | AS7: 176 | AT7: 내성1리 | AU7: 897 | AV7: 422 | AW7: 475 | AX7: 449 | AY7: 읍내1리 | AZ7: 801 | BA7: 389 | BB7: 412 | BC7: 388 | BD7: 도동1리 | BE7: 1108 | BF7: 585 | BG7: 523 | BH7: 675
A8: 후죽2리 | B8: 432 | C8: 208 | D8: 224 | E8: 247 | F8: 월막2리 | G8: 1036 | H8: 500 | I8: 536 | J8: 533 | K8: 동부2리 | L8: 409 | M8: 201 | N8: 208 | O8: 233 | P8: 화개1리 | Q8: 636 | R8: 328 | S8: 308 | T8: 329 | U8: 서상1리 | V8: 79 | W8: 38 | X8: 41 | Y8: 39 | Z8: 쾌빈2리 | AA8: 1878 | AB8: 933 | AC8: 945 | AD8: 762 | AE8: 경산2리 | AF8: 129 | AG8: 68 | AH8: 61 | AI8: 70 | AJ8: 왜관2리 | AK8: 293 | AL8: 157 | AM8: 136 | AN8: 147 | AO8: 노상리 | AP8: 432 | AQ8: 206 | AR8: 226 | AS8: 234 | AT8: 내성2리 | AU8: 403 | AV8: 207 | AW8: 196 | AX8: 224 | AY8: 읍내2리 | AZ8: 1391 | BA8: 712 | BB8: 679 | BC8: 624 | BD8: 도동2리 | BE8: 1515 | BF8: 816 | BG8: 699 | BH8: 895
A9: 후죽3리 | B9: 1199 | C9: 589 | D9: 610 | E9: 587 | F9: 덕리 | G9: 687 | H9: 365 | I9: 322 | J9: 389 | K9: 서부1리 | L9: 918 | M9: 442 | N9: 476 | O9: 491 | P9: 화개2리 | Q9: 400 | R9: 202 | S9: 198 | T9: 179 | U9: 서상2리 | V9: 146 | W9: 73 | X9: 73 | Y9: 85 | Z9: 쾌빈3리 | AA9: 229 | AB9: 129 | AC9: 100 | AD9: 126 | AE9: 경산3리 | AF9: 179 | AG9: 87 | AH9: 92 | AI9: 90 | AJ9: 왜관3리 | AK9: 804 | AL9: 399 | AM9: 405 | AN9: 461 | AO9: 백전1리 | AP9: 574 | AQ9: 272 | AR9: 302 | AS9: 337 | AT9: 내성3리 | AU9: 680 | AV9: 348 | AW9: 332 | AX9: 322 | AY9: 읍내3리 | AZ9: 3518 | BA9: 1771 | BB9: 1747 | BC9: 1645 | BD9: 도동3리 | BE9: 1246 | BF9: 667 | BG9: 579 | BH9: 770
A10: 후죽4리 | B10: 849 | C10: 412 | D10: 437 | E10: 453 | F10: 금곡1리 | G10: 921 | H10: 469 | I10: 452 | J10: 423 | K10: 서부2리 | L10: 1599 | M10: 810 | N10: 789 | O10: 780 | P10: 남석1리 | Q10: 446 | R10: 214 | S10: 232 | T10: 246 | U10: 신봉리 | V10: 169 | W10: 80 | X10: 89 | Y10: 106 | Z10: 쾌빈4리 | AA10: 709 | AB10: 336 | AC10: 373 | AD10: 321 | AE10: 경산4리 | AF10: 863 | AG10: 427 | AH10: 436 | AI10: 371 | AJ10: 왜관4리 | AK10: 376 | AL10: 188 | AM10: 188 | AN10: 203 | AO10: 백전2리 | AP10: 1106 | AQ10: 534 | AR10: 572 | AS10: 557 | AT10: 내성4리 | AU10: 1366 | AV10: 672 | AW10: 694 | AX10: 705 | AY10: 읍내4리 | AZ10: 1019 | BA10: 497 | BB10: 522 | BC10: 471 | BD10: 저동1리 | BE10: 1336 | BF10: 727 | BG10: 609 | BH10: 754
A11: 중리1리 | B11: 558 | C11: 274 | D11: 284 | E11: 322 | F11: 금곡2리 | G11: 114 | H11: 59 | I11: 55 | J11: 64 | K11: 서부3리 | L11: 591 | M11: 293 | N11: 298 | O11: 266 | P11: 남석2리 | Q11: 592 | R11: 267 | S11: 325 | T11: 344 | U11: 교촌리 | V11: 138 | W11: 74 | X11: 64 | Y11: 82 | Z11: 고아1리 | AA11: 797 | AB11: 378 | AC11: 419 | AD11: 435 | AE11: 경산5리 | AF11: 817 | AG11: 370 | AH11: 447 | AI11: 391 | AJ11: 왜관5리 | AK11: 791 | AL11: 380 | AM11: 411 | AN11: 403 | AO11: 동본1리 | AP11: 1474 | AQ11: 694 | AR11: 780 | AS11: 741 | AT11: 내성5리 | AU11: 2046 | AV11: 945 | AW11: 1101 | AX11: 873 | AY11: 읍내5리 | AZ11: 2036 | BA11: 1038 | BB11: 998 | BC11: 866 | BD11: 저동2리 | BE11: 228 | BF11: 120 | BG11: 108 | BH11: 137
A12: 중리2리 | B12: 1947 | C12: 963 | D12: 984 | E12: 844 | F12: 금곡3리 | G12: 126 | H12: 58 | I12: 68 | J12: 72 | K12: 서부4리 | L12: 289 | M12: 140 | N12: 149 | O12: 166 | P12: 남석3리 | Q12: 990 | R12: 464 | S12: 526 | T12: 525 | U12: 동천리 | V12: 403 | W12: 217 | X12: 186 | Y12: 214 | Z12: 고아2리 | AA12: 146 | AB12: 70 | AC12: 76 | AD12: 87 | AE12: 경산6리 | AF12: 284 | AG12: 146 | AH12: 138 | AI12: 149 | AJ12: 왜관6리 | AK12: 454 | AL12: 224 | AM12: 230 | AN12: 239 | AO12: 동본2리 | AP12: 222 | AQ12: 112 | AR12: 110 | AS12: 126 | AT12: 삼계1리 | AU12: 448 | AV12: 218 | AW12: 230 | AX12: 236 | AY12: 읍남1리 | AZ12: 234 | BA12: 120 | BB12: 114 | BC12: 117 | BD12: 저동3리 | BE12: 62 | BF12: 35 | BG12: 27 | BH12: 38
A13: 중리3리 | B13: 146 | C13: 70 | D13: 76 | E13: 78 | F13: 청운리 | G13: 381 | H13: 176 | I13: 205 | J13: 220 | K13: 황용리 | L13: 54 | M13: 23 | N13: 31 | O13: 26 | P13: 덕곡1리 | Q13: 779 | R13: 379 | S13: 400 | T13: 389 | U13: 합천1리 | V13: 144 | W13: 75 | X13: 69 | Y13: 79 | Z13: 헌문리 | AA13: 435 | AB13: 210 | AC13: 225 | AD13: 274 | AE13: 경산7리 | AF13: 426 | AG13: 206 | AH13: 220 | AI13: 231 | AJ13: 왜관7리 | AK13: 863 | AL13: 455 | AM13: 408 | AN13: 501 | AO13: 남본1리 | AP13: 821 | AQ13: 395 | AR13: 426 | AS13: 400 | AT13: 삼계2리 | AU13: 90 | AV13: 42 | AW13: 48 | AX13: 46 | AY13: 읍남2리 | AZ13: 162 | BA13: 94 | BB13: 68 | BC13: 68 | BD13: 사동1리 | BE13: 461 | BF13: 306 | BG13: 155 | BH13: 319
A14: 상리1리 | B14: 2279 | C14: 1087 | D14: 1192 | E14: 1168 | F14: 송생리 | G14: 178 | H14: 87 | I14: 91 | J14: 112 | K14: 현1리 | L14: 129 | M14: 55 | N14: 74 | O14: 70 | P14: 덕곡2리 | Q14: 899 | R14: 446 | S14: 453 | T14: 409 | U14: 합천2리 | V14: 203 | W14: 108 | X14: 95 | Y14: 111 | Z14: 장기리 | AA14: 463 | AB14: 257 | AC14: 206 | AD14: 244 | AE14: 경산8리 | AF14: 537 | AG14: 256 | AH14: 281 | AI14: 293 | AJ14: 왜관8리 | AK14: 839 | AL14: 534 | AM14: 305 | AN14: 623 | AO14: 남본2리 | AP14: 1648 | AQ14: 820 | AR14: 828 | AS14: 763 | AT14: 유곡1리 | AU14: 131 | AV14: 64 | AW14: 67 | AX14: 82 | AY14: 읍남3리 | AZ14: 85 | BA14: 34 | BB14: 51 | BC14: 46 | BD14: 사동2리 | BE14: 135 | BF14: 80 | BG14: 55 | BH14: 92
A15: 상리2리 | B15: 90 | C15: 50 | D15: 40 | E15: 55 | F15: 교리 | G15: 117 | H15: 59 | I15: 58 | J15: 73 | K15: 현2리 | L15: 111 | M15: 57 | N15: 54 | O15: 73 | P15: 천전리 | Q15: 179 | R15: 80 | S15: 99 | T15: 95 | U15: 범곡1리 | V15: 1198 | W15: 569 | X15: 629 | Y15: 617 | Z15: 연조1리 | AA15: 551 | AB15: 268 | AC15: 283 | AD15: 268 | AE15: 대흥1리 | AF15: 126 | AG15: 61 | AH15: 65 | AI15: 63 | AJ15: 왜관9리 | AK15: 744 | AL15: 383 | AM15: 361 | AN15: 390 | AO15: 서본1리 | AP15: 432 | AQ15: 223 | AR15: 209 | AS15: 246 | AT15: 유곡2리 | AU15: 110 | AV15: 62 | AW15: 48 | AX15: 63 | AY15: 읍남4리 | AZ15: 186 | BA15: 97 | BB15: 89 | BC15: 103 | BD15: 사동3리 | BE15: 313 | BF15: 200 | BG15: 113 | BH15: 215
A16: 도동1리 | B16: 584 | C16: 278 | D16: 306 | E16: 350 | F16: 거대리 | G16: 132 | H16: 64 | I16: 68 | J16: 90 | K16: 현3리 | L16: 68 | M16: 40 | N16: 28 | O16: 46 | P16: 남산1리 | Q16: 204 | R16: 107 | S16: 97 | T16: 105 | U16: 범곡2리 | V16: 2315 | W16: 1111 | X16: 1204 | Y16: 957 | Z16: 연조2리 | AA16: 315 | AB16: 156 | AC16: 159 | AD16: 171 | AE16: 대흥2리 | AF16: 149 | AG16: 75 | AH16: 74 | AI16: 74 | AJ16: 왜관10리 | AK16: 760 | AL16: 430 | AM16: 330 | AN16: 416 | AO16: 서본2리 | AP16: 713 | AQ16: 368 | AR16: 345 | AS16: 371 | AT16: 유곡3리 | AU16: 201 | AV16: 101 | AW16: 100 | AX16: 115 | AY16: 연지1리 | AZ16: 368 | BA16: 179 | BB16: 189 | BC16: 173 | BD16: 독도리 | BE16: 36 | BF16: 35 | BG16: 1 | BH16: 36
A17: 도동2리 | B17: 782 | C17: 375 | D17: 407 | E17: 415 | F17: 월외1리 | G17: 88 | H17: 44 | I17: 44 | J17: 55 | K17: 전곡리 | L17: 14 | M17: 8 | N17: 6 | O17: 10 | P17: 남산2리 | Q17: 55 | R17: 28 | S17: 27 | T17: 35 | U17: 송북리 | V17: 308 | W17: 154 | X17: 154 | Y17: 137 | Z17: 연조3리 | AA17: 606 | AB17: 273 | AC17: 333 | AD17: 293 | AE17: 대흥3리 | AF17: 133 | AG17: 66 | AH17: 67 | AI17: 71 | AJ17: 왜관11리 | AK17: 208 | AL17: 106 | AM17: 102 | AN17: 99 | AO17: 대심1리 | AP17: 1566 | AQ17: 791 | AR17: 775 | AS17: 768 | AT17: 거촌1리 | AU17: 43 | AV17: 22 | AW17: 21 | AX17: 27 | AY17: 연지2리 | AZ17: 900 | BA17: 458 | BB17: 442 | BC17: 403 | BD17: 서면 | BE17: 1369 | BF17: 761 | BG17: 608 | BH17: 796
... A33: 원당2리 | B33: 118 | C33: 57 | D33: 61 | E33: 73 | F33: 항리 | G33: 56 | H33: 28 | I33: 28 | J33: 56 | K33: 무창3리 | L33: 45 | M33: 21 | N33: 24 | O33: 35 | P33: 화천3리 | Q33: 53 | R33: 24 | S33: 29 | T33: 33 | U33: 청도읍 | V33: 11492 | W33: 5642 | X33: 5850 | Y33: 6114 | Z33: 덕곡면 | AA33: 1434 | AB33: 733 | AC33: 701 | AD33: 896 | AE33: 금산3리 | AF33: 201 | AG33: 108 | AH33: 93 | AI33: 99 | AJ33: 석전3리 | AK33: 2033 | AL33: 1002 | AM33: 1031 | AN33: 937 | AO33: 생천리 | AP33: 277 | AQ33: 138 | AR33: 139 | AS33: 142 | AT33: 물야면 | AU33: 2935 | AV33: 1509 | AW33: 1426 | AX33: 1716 | AY33: 대흥리 | AZ33: 90 | BA33: 50 | BB33: 40 | BC33: 66 | BD33: 현포2리 | BE33: 126 | BF33: 72 | BG33: 54 | BH33: 82
A34: 원당3리 | B34: 163 | C34: 106 | D34: 57 | E34: 87 | F34: 부남면 | G34: 2387 | H34: 1193 | I34: 1194 | J34: 1432 | K34: 양구리 | L34: 43 | M34: 25 | N34: 18 | O34: 25 | P34: 강구면 | Q34: 5827 | R34: 2750 | S34: 3077 | T34: 3397 | U34: 고수1리 | V34: 1380 | W34: 663 | X34: 717 | Y34: 636 | Z34: 가륜1리 | AA34: 81 | AB34: 42 | AC34: 39 | AD34: 43 | AE34: 예산1리 | AF34: 463 | AG34: 249 | AH34: 214 | AI34: 247 | AJ34: 석전4리 | AK34: 675 | AL34: 338 | AM34: 337 | AN34: 427 | AO34: 용산1리 | AP34: 36 | AQ34: 19 | AR34: 17 | AS34: 27 | AT34: 오록1리 | AU34: 97 | AV34: 53 | AW34: 44 | AX34: 67 | AY34: 평해읍 | AZ34: 2551 | BA34: 1214 | BB34: 1337 | BC34: 1590
A35: 철파리 | B35: 357 | C35: 182 | D35: 175 | E35: 233 | F35: 감연1리 | G35: 143 | H35: 61 | I35: 82 | J35: 86 | K35: 기산리 | L35: 59 | M35: 26 | N35: 33 | O35: 36 | P35: 강구1리 | Q35: 278 | R35: 135 | S35: 143 | T35: 150 | U35: 고수2리 | V35: 461 | W35: 215 | X35: 246 | Y35: 240 | Z35: 가륜2리 | AA35: 124 | AB35: 68 | AC35: 56 | AD35: 64 | AE35: 예산2리 | AF35: 266 | AG35: 143 | AH35: 123 | AI35: 138 | AJ35: 석전5리 | AK35: 545 | AL35: 262 | AM35: 283 | AN35: 263 | AO35: 용산2리 | AP35: 59 | AQ35: 31 | AR35: 28 | AS35: 35 | AT35: 오록2리 | AU35: 280 | AV35: 129 | AW35: 151 | AX35: 172 | AY35: 평해1리 | AZ35: 326 | BA35: 150 | BB35: 176 | BC35: 198
A36: 업1리 | B36: 142 | C36: 71 | D36: 71 | E36: 87 | F36: 감연2리 | G36: 132 | H36: 61 | I36: 71 | J36: 80 | K36: 입암면 | L36: 2012 | M36: 993 | N36: 1019 | O36: 1221 | P36: 강구2리 | Q36: 183 | R36: 86 | S36: 97 | T36: 108 | U36: 고수3리 | V36: 768 | W36: 344 | X36: 424 | Y36: 395 | Z36: 원송리 | AA36: 111 | AB36: 55 | AC36: 56 | AD36: 77 | AE36: 예산3리 | AF36: 451 | AG36: 225 | AH36: 226 | AI36: 257 | AJ36: 석전6리 | AK36: 403 | AL36: 203 | AM36: 200 | AN36: 183 | AO36: 용문면 | AP36: 2198 | AQ36: 1123 | AR36: 1075 | AS36: 1338 | AT36: 오록3리 | AU36: 99 | AV36: 45 | AW36: 54 | AX36: 53 | AY36: 평해2리 | AZ36: 228 | BA36: 129 | BB36: 99 | BC36: 131
A37: 업2리 | B37: 71 | C37: 37 | D37: 34 | E37: 44 | F37: 감연3리 | G37: 79 | H37: 44 | I37: 35 | J37: 47 | K37: 신구1리 | L37: 324 | M37: 149 | N37: 175 | O37: 178 | P37: 강구3리 | Q37: 85 | R37: 42 | S37: 43 | T37: 52 | U37: 고수4리 | V37: 625 | W37: 365 | X37: 260 | Y37: 320 | Z37: 노1리 | AA37: 99 | AB37: 44 | AC37: 55 | AD37: 73 | AE37: 예산4리 | AF37: 837 | AG37: 399 | AH37: 438 | AI37: 376 | AJ37: 석전7리 | AK37: 485 | AL37: 232 | AM37: 253 | AN37: 190 | AO37: 상금곡1리 | AP37: 114 | AQ37: 50 | AR37: 64 | AS37: 66 | AT37: 오록4리 | AU37: 73 | AV37: 39 | AW37: 34 | AX37: 35 | AY37: 평해3리 | AZ37: 272 | BA37: 133 | BB37: 139 | BC37: 160
A38: 단촌면 | B38: 1886 | C38: 941 | D38: 945 | E38: 1168 | F38: 대전1리 | G38: 344 | H38: 164 | I38: 180 | J38: 206 | K38: 신구2리 | L38: 126 | M38: 59 | N38: 67 | O38: 75 | P38: 강구4리 | Q38: 228 | R38: 104 | S38: 124 | T38: 133 | U38: 고수5리 | V38: 608 | W38: 278 | X38: 330 | Y38: 308 | Z38: 노2리 | AA38: 54 | AB38: 34 | AC38: 20 | AD38: 35 | AE38: 백전1리 | AF38: 180 | AG38: 103 | AH38: 77 | AI38: 92 | AJ38: 석전8리 | AK38: 1140 | AL38: 562 | AM38: 578 | AN38: 482 | AO38: 상금곡2리 | AP38: 231 | AQ38: 111 | AR38: 120 | AS38: 131 | AT38: 가평1리 | AU38: 181 | AV38: 91 | AW38: 90 | AX38: 106 | AY38: 학곡1리 | AZ38: 76 | BA38: 35 | BB38: 41 | BC38: 48
A39: 방하리 | B39: 175 | C39: 91 | D39: 84 | E39: 113 | F39: 대전2리 | G39: 190 | H39: 102 | I39: 88 | J39: 111 | K39: 양항리 | L39: 60 | M39: 30 | N39: 30 | O39: 42 | P39: 오포1리 | Q39: 741 | R39: 351 | S39: 390 | T39: 431 | U39: 고수6리 | V39: 1128 | W39: 534 | X39: 594 | Y39: 588 | Z39: 백1리 | AA39: 63 | AB39: 35 | AC39: 28 | AD39: 45 | AE39: 백전2리 | AF39: 2023 | AG39: 1025 | AH39: 998 | AI39: 805 | AJ39: 석전9리 | AK39: 236 | AL39: 118 | AM39: 118 | AN39: 112 | AO39: 상금곡3리 | AP39: 142 | AQ39: 71 | AR39: 71 | AS39: 76 | AT39: 가평2리 | AU39: 79 | AV39: 38 | AW39: 41 | AX39: 45 | AY39: 학곡2리 | AZ39: 118 | BA39: 60 | BB39: 58 | BC39: 73
A40: 장림리 | B40: 147 | C40: 75 | D40: 72 | E40: 100 | F40: 대전3리 | G40: 78 | H40: 38 | I40: 40 | J40: 47 | K40: 연당1리 | L40: 48 | M40: 25 | N40: 23 | O40: 37 | P40: 오포2리 | Q40: 1136 | R40: 515 | S40: 621 | T40: 621 | U40: 고수7리 | V40: 690 | W40: 316 | X40: 374 | Y40: 354 | Z40: 백2리 | AA40: 55 | AB40: 31 | AC40: 24 | AD40: 36 | AE40: 용산1리 | AF40: 244 | AG40: 124 | AH40: 120 | AI40: 131 | AJ40: 석전10리 | AK40: 836 | AL40: 411 | AM40: 425 | AN40: 489 | AO40: 상금곡4리 | AP40: 131 | AQ40: 68 | AR40: 63 | AS40: 70 | AT40: 개단1리 | AU40: 151 | AV40: 86 | AW40: 65 | AX40: 77 | AY40: 삼달1리 | AZ40: 112 | BA40: 45 | BB40: 67 | BC40: 69
A41: 세촌1리 | B41: 197 | C41: 102 | D41: 95 | E41: 117 | F41: 홍원1리 | G41: 101 | H41: 54 | I41: 47 | J41: 59 | K41: 연당2리 | L41: 64 | M41: 37 | N41: 27 | O41: 41 | P41: 오포3리 | Q41: 622 | R41: 279 | S41: 343 | T41: 376 | U41: 고수8리 | V41: 934 | W41: 470 | X41: 464 | Y41: 482 | Z41: 옥계리 | AA41: 132 | AB41: 59 | AC41: 73 | AD41: 79 | AE41: 용산2리 | AF41: 136 | AG41: 64 | AH41: 72 | AI41: 67 | AJ41: 석전11리 | AK41: 696 | AL41: 337 | AM41: 359 | AN41: 271 | AO41: 하금곡1리 | AP41: 76 | AQ41: 42 | AR41: 34 | AS41: 45 | AT41: 개단2리 | AU41: 113 | AV41: 55 | AW41: 58 | AX41: 70 | AY41: 삼달2리 | AZ41: 69 | BA41: 33 | BB41: 36 | BC41: 44
A42: 세촌2리 | B42: 110 | C42: 45 | D42: 65 | E42: 71 | F42: 홍원2리 | G42: 81 | H42: 39 | I42: 42 | J42: 60 | K42: 금학리 | L42: 66 | M42: 34 | N42: 32 | O42: 43 | P42: 삼사리 | Q42: 610 | R42: 300 | S42: 310 | T42: 375 | U42: 송읍리 | V42: 202 | W42: 102 | X42: 100 | Y42: 124 | Z42: 용흥리 | AA42: 101 | AB42: 58 | AC42: 43 | AD42: 67 | AE42: 선남면 | AF42: 6091 | AG42: 3344 | AH42: 2747 | AI42: 3581 | AJ42: 매원1리 | AK42: 167 | AL42: 89 | AM42: 78 | AN42: 85 | AO42: 하금곡2리 | AP42: 74 | AQ42: 38 | AR42: 36 | AS42: 40 | AT42: 개단3리 | AU42: 158 | AV42: 85 | AW42: 73 | AX42: 88 | AY42: 오곡1리 | AZ42: 84 | BA42: 40 | BB42: 44 | BC42: 51
A43: 하화1리 | B43: 124 | C43: 63 | D43: 61 | E43: 78 | F43: 하속1리 | G43: 92 | H43: 50 | I43: 42 | J43: 62 | K43: 대천리 | L43: 123 | M43: 64 | N43: 59 | O43: 74 | P43: 화전1리 | Q43: 340 | R43: 172 | S43: 168 | T43: 179 | U43: 무등리 | V43: 228 | W43: 112 | X43: 116 | Y43: 132 | Z43: 본리1리 | AA43: 109 | AB43: 53 | AC43: 56 | AD43: 65 | AE43: 용신1리 | AF43: 257 | AG43: 136 | AH43: 121 | AI43: 131 | AJ43: 매원2리 | AK43: 247 | AL43: 138 | AM43: 109 | AN43: 116 | AO43: 성현리 | AP43: 115 | AQ43: 56 | AR43: 59 | AS43: 71 | AT43: 개단4리 | AU43: 152 | AV43: 81 | AW43: 71 | AX43: 84 | AY43: 오곡2리 | AZ43: 98 | BA43: 49 | BB43: 49 | BC43: 61
A44: 하화2리 | B44: 255 | C44: 123 | D44: 132 | E44: 156 | F44: 하속2리 | G44: 65 | H44: 36 | I44: 29 | J44: 39 | K44: 신사1리 | L44: 81 | M44: 41 | N44: 40 | O44: 46 | P44: 화전2리 | Q44: 47 | R44: 21 | S44: 26 | T44: 36 | U44: 덕암1리 | V44: 159 | W44: 77 | X44: 82 | Y44: 90 | Z44: 본리2리 | AA44: 66 | AB44: 35 | AC44: 31 | AD44: 41 | AE44: 용신2리 | AF44: 219 | AG44: 121 | AH44: 98 | AI44: 135 | AJ44: 매원3리 | AK44: 49 | AL44: 25 | AM44: 24 | AN44: 27 | AO44: 덕신리 | AP44: 96 | AQ44: 51 | AR44: 45 | AS44: 58 | AT44: 개단5리 | AU44: 58 | AV44: 36 | AW44: 22 | AX44: 35 | AY44: 월송1리 | AZ44: 244 | BA44: 116 | BB44: 128 | BC44: 159
A45: 상화1리 | B45: 58 | C45: 28 | D45: 30 | E45: 36 | F45: 구천리 | G45: 247 | H45: 123 | I45: 124 | J45: 139 | K45: 신사2리 | L45: 112 | M45: 56 | N45: 56 | O45: 66 | P45: 상직1리 | Q45: 27 | R45: 16 | S45: 11 | T45: 16 | U45: 덕암2리 | V45: 100 | W45: 44 | X45: 56 | Y45: 64 | Z45: 예리 | AA45: 169 | AB45: 88 | AC45: 81 | AD45: 99 | AE45: 용신3리 | AF45: 75 | AG45: 42 | AH45: 33 | AI45: 49 | AJ45: 봉계리 | AK45: 136 | AL45: 73 | AM45: 63 | AN45: 83 | AO45: 방송리 | AP45: 64 | AQ45: 34 | AR45: 30 | AS45: 46 | AT45: 오전1리 | AU45: 171 | AV45: 93 | AW45: 78 | AX45: 92 | AY45: 월송2리 | AZ45: 72 | BA45: 31 | BB45: 41 | BC45: 47
A46: 상화2리 | B46: 59 | C46: 29 | D46: 30 | E46: 36 | F46: 화장리 | G46: 165 | H46: 85 | I46: 80 | J46: 103 | K46: 산해1리 | L46: 109 | M46: 46 | N46: 63 | O46: 68 | P46: 상직2리 | Q46: 35 | R46: 18 | S46: 17 | T46: 24 | U46: 내리 | V46: 138 | W46: 66 | X46: 72 | Y46: 80 | Z46: 반성1리 | AA46: 93 | AB46: 50 | AC46: 43 | AD46: 56 | AE46: 도흥1리 | AF46: 276 | AG46: 157 | AH46: 119 | AI46: 158 | AJ46: 삼청1리 | AK46: 185 | AL46: 90 | AM46: 95 | AN46: 93 | AO46: 노사1리 | AP46: 49 | AQ46: 23 | AR46: 26 | AS46: 32 | AT46: 오전2리 | AU46: 161 | AV46: 76 | AW46: 85 | AX46: 105 | AY46: 월송3리 | AZ46: 227 | BA46: 106 | BB46: 121 | BC46: 140
A47: 관덕1리 | B47: 71 | C47: 39 | D47: 32 | E47: 38 | F47: 이현리 | G47: 145 | H47: 68 | I47: 77 | J47: 84 | K47: 산해2리 | L47: 112 | M47: 49 | N47: 63 | O47: 60 | P47: 상직3리 | Q47: 38 | R47: 20 | S47: 18 | T47: 29 | U47: 안인리 | V47: 198 | W47: 99 | X47: 99 | Y47: 108 | Z47: 반성2리 | AA47: 80 | AB47: 39 | AC47: 41 | AD47: 49 | AE47: 도흥2리 | AF47: 155 | AG47: 84 | AH47: 71 | AI47: 86 | AJ47: 삼청2리 | AK47: 512 | AL47: 278 | AM47: 234 | AN47: 289 | AO47: 노사2리 | AP47: 16 | AQ47: 4 | AR47: 12 | AS47: 12 | AT47: 압동1리 | AU47: 78 | AV47: 37 | AW47: 41 | AX47: 55 | AY47: 직산1리 | AZ47: 98 | BA47: 40 | BB47: 58 | BC47: 66
A48: 관덕2리 | B48: 96 | C48: 42 | D48: 54 | E48: 56 | F48: 중기1리 | G48: 133 | H48: 71 | I48: 62 | J48: 72 | K48: 산해3리 | L48: 121 | M48: 67 | N48: 54 | O48: 76 | P48: 원직1리 | Q48: 92 | R48: 46 | S48: 46 | T48: 60 | U48: 운산1리 | V48: 84 | W48: 37 | X48: 47 | Y48: 44 | Z48: 후암1리 | AA48: 59 | AB48: 28 | AC48: 31 | AD48: 36 | AE48: 도흥3리 | AF48: 331 | AG48: 165 | AH48: 166 | AI48: 174 | AJ48: 삼청3리 | AK48: 68 | AL48: 31 | AM48: 37 | AN48: 46 | AO48: 구계리 | AP48: 63 | AQ48: 35 | AR48: 28 | AS48: 45 | AT48: 압동2리 | AU48: 61 | AV48: 35 | AW48: 26 | AX48: 38 | AY48: 직산2리 | AZ48: 224 | BA48: 110 | BB48: 114 | BC48: 138
... A55: 황용1리 | B55: 63 | C55: 31 | D55: 32 | E55: 43 | F55: 거성리 | G55: 270 | H55: 141 | I55: 129 | J55: 162 | K55: 흥구리 | L55: 118 | M55: 62 | N55: 56 | O55: 73 | P55: 금진1리 | Q55: 199 | R55: 88 | S55: 111 | T55: 121 | U55: 구미리 | V55: 118 | W55: 50 | X55: 68 | Y55: 61 | Z55: 신간1리 | AA55: 99 | AB55: 53 | AC55: 46 | AD55: 66 | AE55: 동암2리 | AF55: 136 | AG55: 76 | AH55: 60 | AI55: 87 | AJ55: 아곡리 | AK55: 338 | AL55: 179 | AM55: 159 | AN55: 196 | AO55: 내지2리 | AP55: 40 | AQ55: 21 | AR55: 19 | AS55: 29 | AT55: 북지2리 | AU55: 159 | AV55: 84 | AW55: 75 | AX55: 97 | AY55: 나곡1리 | AZ55: 364 | BA55: 186 | BB55: 178 | BC55: 183
A56: 황용2리 | B56: 53 | C56: 26 | D56: 27 | E56: 31 | F56: 눌인1리 | G56: 51 | H56: 29 | I56: 22 | J56: 25 | K56: 청기면 | L56: 1618 | M56: 832 | N56: 786 | O56: 990 | P56: 금진2리 | Q56: 107 | R56: 46 | S56: 61 | T56: 71 | U56: 월곡1리 | V56: 314 | W56: 208 | X56: 106 | Y56: 131 | Z56: 신간2리 | AA56: 67 | AB56: 37 | AC56: 30 | AD56: 48 | AE56: 유서1리 | AF56: 121 | AG56: 68 | AH56: 53 | AI56: 70 | AJ56: 북삼읍 | AK56: 23924 | AL56: 12517 | AM56: 11407 | AN56: 10897 | AO56: 원류리 | AP56: 121 | AQ56: 65 | AR56: 56 | AS56: 80 | AT56: 북지3리 | AU56: 105 | AV56: 51 | AW56: 54 | AX56: 57 | AY56: 나곡2리 | AZ56: 103 | BA56: 57 | BB56: 46 | BC56: 59
A57: 구암1리 | B57: 30 | C57: 14 | D57: 16 | E57: 23 | F57: 눌인2리 | G57: 100 | H57: 49 | I57: 51 | J57: 60 | K57: 저리 | L57: 88 | M57: 40 | N57: 48 | O57: 55 | P57: 남정면 | Q57: 2261 | R57: 1101 | S57: 1160 | T57: 1444 | U57: 월곡2리 | V57: 76 | W57: 37 | X57: 39 | Y57: 46 | Z57: 법리 | AA57: 93 | AB57: 51 | AC57: 42 | AD57: 54 | AE57: 유서2리 | AF57: 107 | AG57: 62 | AH57: 45 | AI57: 62 | AJ57: 율1리 | AK57: 145 | AL57: 68 | AM57: 77 | AN57: 84 | AO57: 선1리 | AP57: 36 | AQ57: 16 | AR57: 20 | AS57: 23 | AT57: 북지4리 | AU57: 137 | AV57: 69 | AW57: 68 | AX57: 73 | AY57: 나곡3리 | AZ57: 141 | BA57: 81 | BB57: 60 | BC57: 89
A58: 구암2리 | B58: 97 | C58: 49 | D58: 48 | E58: 63 | F58: 눌인3리 | G58: 86 | H58: 50 | I58: 36 | J58: 56 | K58: 상청1리 | L58: 98 | M58: 48 | N58: 50 | O58: 65 | P58: 장사리 | Q58: 438 | R58: 209 | S58: 229 | T58: 278 | U58: 원리 | V58: 185 | W58: 91 | X58: 94 | Y58: 111 | Z58: 유리 | AA58: 142 | AB58: 72 | AC58: 70 | AD58: 93 | AE58: 취곡1리 | AF58: 103 | AG58: 66 | AH58: 37 | AI58: 65 | AJ58: 율2리 | AK58: 420 | AL58: 230 | AM58: 190 | AN58: 212 | AO58: 선2리 | AP58: 50 | AQ58: 29 | AR58: 21 | AS58: 35 | AT58: 봉성면 | AU58: 1990 | AV58: 965 | AW58: 1025 | AX58: 1130 | AY58: 나곡4리 | AZ58: 94 | BA58: 42 | BB58: 52 | BC58: 58
A59: 명고1리 | B59: 54 | C59: 27 | D59: 27 | E59: 40 | F59: 월매리 | G59: 166 | H59: 77 | I59: 89 | J59: 102 | K59: 상청2리 | L59: 22 | M59: 13 | N59: 9 | O59: 16 | P59: 부경1리 | Q59: 76 | R59: 33 | S59: 43 | T59: 54 | U59: 거연리 | V59: 217 | W59: 113 | X59: 104 | Y59: 139 | Z59: 팔산리 | AA59: 106 | AB59: 62 | AC59: 44 | AD59: 73 | AE59: 취곡2리 | AF59: 94 | AG59: 47 | AH59: 47 | AI59: 54 | AJ59: 율3리 | AK59: 614 | AL59: 337 | AM59: 277 | AN59: 272 | AO59: 능천리 | AP59: 71 | AQ59: 40 | AR59: 31 | AS59: 46 | AT59: 봉성1리 | AU59: 167 | AV59: 77 | AW59: 90 | AX59: 97 | AY59: 나곡5리 | AZ59: 2905 | BA59: 1591 | BB59: 1314 | BC59: 1132
A60: 명고2리 | B60: 78 | C60: 42 | D60: 36 | E60: 54 | F60: 개일리 | G60: 246 | H60: 123 | I60: 123 | J60: 135 | K60: 구매1리 | L60: 51 | M60: 25 | N60: 26 | O60: 38 | P60: 부경2리 | Q60: 96 | R60: 48 | S60: 48 | T60: 63 | U60: 신도1리 | V60: 110 | W60: 54 | X60: 56 | Y60: 56 | Z60: 운산1리 | AA60: 137 | AB60: 65 | AC60: 72 | AD60: 80 | AE60: 신부1리 | AF60: 103 | AG60: 56 | AH60: 47 | AI60: 57 | AJ60: 어로1리 | AK60: 226 | AL60: 125 | AM60: 101 | AN60: 115 | AO60: 계곡리 | AP60: 104 | AQ60: 53 | AR60: 51 | AS60: 57 | AT60: 봉성2리 | AU60: 143 | AV60: 69 | AW60: 74 | AX60: 84 | AY60: 나곡6리 | AZ60: 34 | BA60: 21 | BB60: 13 | BC60: 23
A61: 윤암1리 | B61: 63 | C61: 33 | D61: 30 | E61: 37 | F61: 창양리 | G61: 277 | H61: 141 | I61: 136 | J61: 138 | K61: 구매2리 | L61: 48 | M61: 23 | N61: 25 | O61: 29 | P61: 회1리 | Q61: 55 | R61: 30 | S61: 25 | T61: 34 | U61: 신도2리 | V61: 160 | W61: 81 | X61: 79 | Y61: 83 | Z61: 운산2리 | AA61: 79 | AB61: 36 | AC61: 43 | AD61: 47 | AE61: 신부2리 | AF61: 184 | AG61: 107 | AH61: 77 | AI61: 111 | AJ61: 어로2리 | AK61: 146 | AL61: 77 | AM61: 69 | AN61: 84 | AO61: 대제리 | AP61: 92 | AQ61: 50 | AR61: 42 | AS61: 54 | AT61: 봉양1리 | AU61: 202 | AV61: 101 | AW61: 101 | AX61: 119 | AY61: 검성리 | AZ61: 77 | BA61: 40 | BB61: 37 | BC61: 48
A62: 윤암2리 | B62: 49 | C62: 23 | D62: 26 | E62: 33 | F62: 인지리 | G62: 196 | H62: 103 | I62: 93 | J62: 126 | K62: 청기1리 | L62: 202 | M62: 99 | N62: 103 | O62: 121 | P62: 회2리 | Q62: 43 | R62: 18 | S62: 25 | T62: 25 | U62: 상리 | V62: 143 | W62: 73 | X62: 70 | Y62: 79 | Z62: 월산1리 | AA62: 75 | AB62: 42 | AC62: 33 | AD62: 40 | AE62: 성원1리 | AF62: 144 | AG62: 81 | AH62: 63 | AI62: 85 | AJ62: 어로3리 | AK62: 614 | AL62: 330 | AM62: 284 | AN62: 323 | AO62: 하학리 | AP62: 129 | AQ62: 71 | AR62: 58 | AS62: 76 | AT62: 봉양2리 | AU62: 172 | AV62: 78 | AW62: 94 | AX62: 103 | AY62: 주인1리 | AZ62: 177 | BA62: 94 | BB62: 83 | BC62: 98
...

Sheet 2-1.시군 연령별 총괄(5세)
