Workbook
Name D_불명: OFFSET(#REF!,0,0,COUNTA(#REF!),6)
Name D_불명: OFFSET(#REF!,0,0,COUNTA(#REF!),6)
Name D_불명: OFFSET(#REF!,0,0,COUNTA(#REF!),6)
Name D_불명: OFFSET(#REF!,0,0,COUNTA(#REF!),6)
Name D_불명: OFFSET(#REF!,0,0,COUNTA(#REF!),6)
Name D_불명: OFFSET(#REF!,0,0,COUNTA(#REF!),6)
Name D_세대수: OFFSET(#REF!,0,0,COUNTA(#REF!),6)
Name D_세대수: OFFSET(#REF!,0,0,COUNTA(#REF!),6)
Name D_세대수: OFFSET(#REF!,0,0,COUNTA(#REF!),6)
Name D_세대수: OFFSET(#REF!,0,0,COUNTA(#REF!),6)
Name D_세대수: OFFSET(#REF!,0,0,COUNTA(#REF!),6)
Name D_세대수: OFFSET(#REF!,0,0,COUNTA(#REF!),6)
Name D_연령: OFFSET(#REF!,0,0,COUNTA(#REF!),9)
Name D_연령: OFFSET(#REF!,0,0,COUNTA(#REF!),9)
Name D_연령: OFFSET(#REF!,0,0,COUNTA(#REF!),9)
Name D_연령: OFFSET(#REF!,0,0,COUNTA(#REF!),9)
Name D_연령: OFFSET(#REF!,0,0,COUNTA(#REF!),9)
Name D_연령: OFFSET(#REF!,0,0,COUNTA(#REF!),9)
Name D_외국인: OFFSET(#REF!,0,0,COUNTA(#REF!),6)
Name D_외국인: OFFSET(#REF!,0,0,COUNTA(#REF!),6)
Name D_외국인: OFFSET(#REF!,0,0,COUNTA(#REF!),6)
Name D_외국인: OFFSET(#REF!,0,0,COUNTA(#REF!),6)
Name D_외국인: OFFSET(#REF!,0,0,COUNTA(#REF!),6)
Name D_외국인: OFFSET(#REF!,0,0,COUNTA(#REF!),6)
Name D_외국인_상세: OFFSET(#REF!,0,0,COUNTA(#REF!),8)
Name D_외국인_상세: OFFSET(#REF!,0,0,COUNTA(#REF!),8)
Name D_외국인_상세: OFFSET(#REF!,0,0,COUNTA(#REF!),8)
Name D_외국인_상세: OFFSET(#REF!,0,0,COUNTA(#REF!),8)
Name D_외국인_상세: OFFSET(#REF!,0,0,COUNTA(#REF!),8)
Name D_외국인_상세: OFFSET(#REF!,0,0,COUNTA(#REF!),8)
Name DATA_국적별외국인: #REF!
Name DATA_국적별외국인: #REF!
Name DATA_국적별외국인: #REF!
Name DATA_국적별외국인: #REF!
Name DATA_국적별외국인: '3-1. 국적별 외국인 현황'!$A$6:$BR$62
Name DATA_국적별외국인: #REF!
Name DATA_세대인구총괄: '1-2. 읍면동별 인구 및 세대현황'!$A$6:$L$191
Name DATA_세대인구총괄: '1-2. 읍면동별 인구 및 세대현황'!$A$6:$L$191
Name DATA_세대인구총괄: '1-2. 읍면동별 인구 및 세대현황'!$A$6:$L$191
Name DATA_세대인구총괄: '1-2. 읍면동별 인구 및 세대현황'!$A$6:$L$191
Name DATA_세대인구총괄: #REF!
Name DATA_체류자격: #REF!
Name DATA_체류자격: #REF!
Name DATA_체류자격: #REF!
Name DATA_체류자격: #REF!
Name DATA_체류자격: #REF!
Name DATA_체류자격: #REF!
Name DATA1: OFFSET([1]D1!$A$1,0,0,COUNTA([1]D1!$A:$A),9)
Name DATA1: OFFSET([1]D1!$A$1,0,0,COUNTA([1]D1!$A:$A),9)
Name DATA1: OFFSET([1]D1!$A$1,0,0,COUNTA([1]D1!$A:$A),9)
Name DATA1: OFFSET([1]D1!$A$1,0,0,COUNTA([1]D1!$A:$A),9)
Name DATA1: OFFSET([1]D1!$A$1,0,0,COUNTA([1]D1!$A:$A),9)
Name DATA1: OFFSET([1]D1!$A$1,0,0,COUNTA([1]D1!$A:$A),9)
Name DATA2: OFFSET([1]D2!$A$1,0,0,COUNTA([1]D2!$A:$A),13)
Name DATA2: OFFSET([1]D2!$A$1,0,0,COUNTA([1]D2!$A:$A),13)
Name DATA2: OFFSET([1]D2!$A$1,0,0,COUNTA([1]D2!$A:$A),13)
Name DATA2: OFFSET([1]D2!$A$1,0,0,COUNTA([1]D2!$A:$A),13)
Name DATA2: OFFSET([1]D2!$A$1,0,0,COUNTA([1]D2!$A:$A),13)
Name DATA2: OFFSET([1]D2!$A$1,0,0,COUNTA([1]D2!$A:$A),13)
Name DATA3: OFFSET([1]D3!$A$1,0,0,COUNTA([1]D3!$A:$A),9)

Sheet 1-1. 시군별 인구 및 세대현황
A2: 1-1. 시군별 인구 및 세대현황
I3: (단위 : 세대, 명)
A4: 연도(분기) | B4: 세대수 | C4: 총계 | F4: 내국인 | I4: 외국인
C5: 총계 | D5: 남 | E5: 여 | F5: 소계 | G5: 남 | H5: 여 | I5: 소계 | J5: 남 | K5: 여
A6: 2013년 | B6: 1139387 | C6: 2742939 | D6: 1382922 | E6: 1360017 | F6: 2699440 | G6: 1355951 | H6: 1343489 | I6: 43499 | J6: 26971 | K6: 16528
A7: 2014년 | B7: 1153559 | C7: 2748599 | D7: 1386564 | E7: 1362035 | F7: 2700794 | G7: 1356182 | H7: 1344612 | I7: 47805 | J7: 30382 | K7: 17423
A8: 2015년 | B8: 1169648 | C8: 2752591 | D8: 1388885 | E8: 1363706 | F8: 2702826 | G8: 1357306 | H8: 1345520 | I8: 49765 | J8: 31579 | K8: 18186
A9: 2016년 | B9: 1180643 | C9: 2751749 | D9: 1389260 | E9: 1362489 | F9: 2700398 | G9: 1356868 | H9: 1343530 | I9: 51351 | J9: 32392 | K9: 18959
A10: 2017년 | B10: 1193261 | C10: 2745070 | D10: 1386747 | E10: 1358323 | F10: 2691706 | G10: 1353164 | H10: 1338542 | I10: 53364 | J10: 33583 | K10: 19781
A11: 2018년 | B11: 1207351 | C11: 2733800 | D11: 1382582 | E11: 1351218 | F11: 2676831 | G11: 1346689 | H11: 1330142 | I11: 56969 | J11: 35893 | K11: 21076
A12: 2019년 | B12: 1227548 | C12: 2723955 | D12: 1378492 | E12: 1345463 | F12: 2665836 | G12: 1342037 | H12: 1323799 | I12: 58119 | J12: 36455 | K12: 21664
A13: 2020년 | B13: 1254662 | C13: 2691891 | D13: 1361907 | E13: 1329984 | F13: 2639422 | G13: 1329211 | H13: 1310211 | I13: 52469 | J13: 32696 | K13: 19773
A14: 2021년 | B14: 1276846 | C14: 2677709 | D14: 1355128 | E14: 1322581 | F14: 2626609 | G14: 1323661 | H14: 1302948 | I14: 51100 | J14: 31467 | K14: 19633
A15: 2022년 | B15: 1286873 | C15: 2657547 | D15: 1347878 | E15: 1309669 | F15: 2600492 | G15: 1311881 | H15: 1288611 | I15: 57055 | J15: 35997 | K15: 21058
A16: 2023년 1분기 | B16: 1291726 | C16: 2651548 | D16: 1346085 | E16: 1305463 | F16: 2593210 | G16: 1309056 | H16: 1284154 | I16: 58338 | J16: 37029 | K16: 21309
A17: 2023년 2분기 | B17: 1295243 | C17: 2651637 | D17: 1347526 | E17: 1304111 | F17: 2588860 | G17: 1307284 | H17: 1281576 | I17: 62777 | J17: 40242 | K17: 22535
... A19: 2023년 4분기 | B19: 1282500 | C19: 2621349 | D19: 1333750 | E19: 1287599 | F19: 2554324 | G19: 1290298 | H19: 1264026 | I19: 67025 | J19: 43452 | K19: 23573
A22: 2024년 1분기 경상북도 | B22: =SUM(B23:B44) -> 1286272 | C22: =IF(SUM(C23:C44)=D22+E22,D22+E22,"ERR") -> 2615214 | D22: =SUM(D23:D44) -> 1331870 | E22: =SUM(E23:E44) -> 1283344 | F22: =IF(SUM(F23:F44)=G22+H22,G22+H22,"ERR") -> 2546960 | G22: =SUM(G23:G44) -> 1287412 | H22: =SUM(H23:H44) -> 1259548 | I22: =IF(SUM(I23:I44)=J22+K22,J22+K22,"ERR") -> 68254 | J22: =SUM(J23:J44) -> 44458 | K22: =SUM(K23:K44) -> 23796
A23: 포항시 | B23: 234730 | C23: =D23+E23 -> 499576 | D23: =G23+J23 -> 254816 | E23: =H23+K23 -> 244760 | F23: =G23+H23 -> 492342 | G23: 250023 | H23: 242319 | I23: =J23+K23 -> 7234 | J23: 4793 | K23: 2441
A24: 경주시 | B24: 124683 | C24: =D24+E24 -> 257743 | D24: =G24+J24 -> 131000 | E24: =H24+K24 -> 126743 | F24: =G24+H24 -> 246371 | G24: 123389 | H24: 122982 | I24: =J24+K24 -> 11372 | J24: 7611 | K24: 3761
A25: 김천시 | B25: 69107 | C25: =D25+E25 -> 139936 | D25: =G25+J25 -> 70848 | E25: =H25+K25 -> 69088 | F25: =G25+H25 -> 136769 | G25: 68760 | H25: 68009 | I25: =J25+K25 -> 3167 | J25: 2088 | K25: 1079
A26: 안동시 | B26: 78692 | C26: =D26+E26 -> 154449 | D26: =G26+J26 -> 76343 | E26: =H26+K26 -> 78106 | F26: =G26+H26 -> 152733 | G26: 75495 | H26: 77238 | I26: =J26+K26 -> 1716 | J26: 848 | K26: 868
A27: 구미시 | B27: 188303 | C27: =D27+E27 -> 411204 | D27: =G27+J27 -> 212708 | E27: =H27+K27 -> 198496 | F27: =G27+H27 -> 405189 | G27: 209104 | H27: 196085 | I27: =J27+K27 -> 6015 | J27: 3604 | K27: 2411
A28: 영주시 | B28: 51815 | C28: =D28+E28 -> 101272 | D28: =G28+J28 -> 50400 | E28: =H28+K28 -> 50872 | F28: =G28+H28 -> 100072 | G28: 49729 | H28: 50343 | I28: =J28+K28 -> 1200 | J28: 671 | K28: 529
A29: 영천시 | B29: 55375 | C29: =D29+E29 -> 103703 | D29: =G29+J29 -> 53788 | E29: =H29+K29 -> 49915 | F29: =G29+H29 -> 100195 | G29: 51208 | H29: 48987 | I29: =J29+K29 -> 3508 | J29: 2580 | K29: 928
A30: 상주시 | B30: 49503 | C30: =D30+E30 -> 94971 | D30: =G30+J30 -> 46782 | E30: =H30+K30 -> 48189 | F30: =G30+H30 -> 93418 | G30: 45969 | H30: 47449 | I30: =J30+K30 -> 1553 | J30: 813 | K30: 740
A31: 문경시 | B31: 36771 | C31: =D31+E31 -> 69105 | D31: =G31+J31 -> 34002 | E31: =H31+K31 -> 35103 | F31: =G31+H31 -> 68232 | G31: 33519 | H31: 34713 | I31: =J31+K31 -> 873 | J31: 483 | K31: 390
A32: 경산시 | B32: 129930 | C32: =D32+E32 -> 282072 | D32: =G32+J32 -> 143556 | E32: =H32+K32 -> 138516 | F32: =G32+H32 -> 266075 | G32: 133748 | H32: 132327 | I32: =J32+K32 -> 15997 | J32: 9808 | K32: 6189
A33: 의성군 | B33: 29455 | C33: =D33+E33 -> 50485 | D33: =G33+J33 -> 25198 | E33: =H33+K33 -> 25287 | F33: =G33+H33 -> 49696 | G33: 24690 | H33: 25006 | I33: =J33+K33 -> 789 | J33: 508 | K33: 281
A34: 청송군 | B34: 14047 | C34: =D34+E34 -> 24194 | D34: =G34+J34 -> 12107 | E34: =H34+K34 -> 12087 | F34: =G34+H34 -> 23950 | G34: 12006 | H34: 11944 | I34: =J34+K34 -> 244 | J34: 101 | K34: 143
... A44: 울릉군 | B44: 5649 | C44: =D44+E44 -> 9215 | D44: =G44+J44 -> 5176 | E44: =H44+K44 -> 4039 | F44: =G44+H44 -> 9070 | G44: 5061 | H44: 4009 | I44: =J44+K44 -> 145 | J44: 115 | K44: 30

Sheet 1-2. 읍면동별 인구 및 세대현황
A2: 1-2. 읍면동별 인구 및 세대현황 (2024년 1분기)
A3: * 행정동 기준 | K3: (단위 : 세대, 명)
A4: 구분 | B4: 세대수 | C4: 총계 | F4: 한국인 | I4: 외국인
C5: 총 계 | D5: 남 | E5: 여 | F5: 소 계 | G5: 남 | H5: 여 | I5: 소계 | J5: 남 | K5: 여
A6: 경상북도 | B6: =SUM(B7,B39,B63,B86,B111,B137,B157,B174,B199,B214,B230,B249,B258,B265,B275,B285,B294,B305,B314,B327,B338,B349) -> 1286272 | C6: =SUM(C7,C39,C63,C86,C111,C137,C157,C174,C199,C214,C230,C249,C258,C265,C275,C285,C294,C305,C314,C327,C338,C349) -> 2615214 | D6: =SUM(D7,D39,D63,D86,D111,D137,D157,D174,D199,D214,D230,D249,D258,D265,D275,D285,D294,D305,D314,D327,D338,D349) -> 1331870 | E6: =SUM(E7,E39,E63,E86,E111,E137,E157,E174,E199,E214,E230,E249,E258,E265,E275,E285,E294,E305,E314,E327,E338,E349) -> 1283344 | F6: =SUM(F7,F39,F63,F86,F111,F137,F157,F174,F199,F214,F230,F249,F258,F265,F275,F285,F294,F305,F314,F327,F338,F349) -> 2546960 | G6: =SUM(G7,G39,G63,G86,G111,G137,G157,G174,G199,G214,G230,G249,G258,G265,G275,G285,G294,G305,G314,G327,G338,G349) -> 1287412 | H6: =SUM(H7,H39,H63,H86,H111,H137,H157,H174,H199,H214,H230,H249,H258,H265,H275,H285,H294,H305,H314,H327,H338,H349) -> 1259548 | I6: =SUM(I7,I39,I63,I86,I111,I137,I157,I174,I199,I214,I230,I249,I258,I265,I275,I285,I294,I305,I314,I327,I338,I349) -> 68254 | ... K6: =SUM(K7,K39,K63,K86,K111,K137,K157,K174,K199,K214,K230,K249,K258,K265,K275,K285,K294,K305,K314,K327,K338,K349) -> 23796
A7: 포항시 | B7: =B8+B23 -> 234730 | C7: =SUM(D7:E7) -> 499576 | D7: =SUM(D23,D8) -> 254816 | E7: =SUM(E23,E8) -> 244760 | F7: =SUM(G7:H7) -> 492342 | G7: =SUM(G8,G23) -> 250023 | H7: =SUM(H8,H23) -> 242319 | I7: =SUM(J7:K7) -> 7234 | J7: =SUM(J23,J8) -> 4793 | K7: =SUM(K8,K23) -> 2441
A8: 남구 | B8: =SUM(B9:B22) -> 110809 | C8: =SUM(D8:E8) -> 229612 | D8: =SUM(D9:D22) -> 120098 | E8: =SUM(E9:E22) -> 109514 | F8: =SUM(G8:H8) -> 225520 | G8: =SUM(G9:G22) -> 117182 | H8: =SUM(H9:H22) -> 108338 | I8: =SUM(J8:K8) -> 4092 | J8: =SUM(J9:J22) -> 2916 | K8: =SUM(K9:K22) -> 1176
A9: 구룡포읍 | B9: 4353 | C9: =D9+E9 -> 7774 | D9: =SUM(G9,J9) -> 4318 | E9: =SUM(H9,K9) -> 3456 | F9: =G9+H9 -> 6781 | G9: 3418 | H9: 3363 | I9: =J9+K9 -> 993 | J9: 900 | K9: 93
A10: 연일읍 | B10: 12339 | C10: =D10+E10 -> 29190 | D10: =SUM(G10,J10) -> 14869 | E10: =SUM(H10,K10) -> 14321 | F10: =G10+H10 -> 28915 | G10: 14707 | H10: 14208 | I10: =J10+K10 -> 275 | J10: 162 | K10: 113
A11: 오천읍 | B11: 27863 | C11: =D11+E11 -> 58409 | D11: =SUM(G11,J11) -> 31455 | E11: =SUM(H11,K11) -> 26954 | F11: =G11+H11 -> 57623 | G11: 31001 | H11: 26622 | I11: =J11+K11 -> 786 | J11: 454 | K11: 332
A12: 대송면 | B12: 1877 | C12: =D12+E12 -> 3407 | D12: =SUM(G12,J12) -> 1855 | E12: =SUM(H12,K12) -> 1552 | F12: =G12+H12 -> 3190 | G12: 1657 | H12: 1533 | I12: =J12+K12 -> 217 | J12: 198 | K12: 19
A13: 동해면 | B13: 4820 | C13: =D13+E13 -> 9562 | D13: =SUM(G13,J13) -> 4843 | E13: =SUM(H13,K13) -> 4719 | F13: =G13+H13 -> 9446 | G13: 4772 | H13: 4674 | I13: =J13+K13 -> 116 | J13: 71 | K13: 45
A14: 장기면 | B14: 2394 | C14: =D14+E14 -> 4134 | D14: =SUM(G14,J14) -> 2170 | E14: =SUM(H14,K14) -> 1964 | F14: =G14+H14 -> 3832 | G14: 1883 | H14: 1949 | I14: =J14+K14 -> 302 | J14: 287 | K14: 15
A15: 호미곶면 | B15: 1097 | C15: =D15+E15 -> 1881 | D15: =SUM(G15,J15) -> 979 | E15: =SUM(H15,K15) -> 902 | F15: =G15+H15 -> 1708 | G15: 831 | H15: 877 | I15: =J15+K15 -> 173 | J15: 148 | K15: 25
A16: 상대동 | B16: 13753 | C16: =D16+E16 -> 24021 | D16: =SUM(G16,J16) -> 12567 | E16: =SUM(H16,K16) -> 11454 | F16: =G16+H16 -> 23825 | G16: 12490 | H16: 11335 | I16: =J16+K16 -> 196 | J16: 77 | K16: 119
A17: 해도동 | B17: 9952 | C17: =D17+E17 -> 16676 | D17: =SUM(G17,J17) -> 8570 | E17: =SUM(H17,K17) -> 8106 | F17: =G17+H17 -> 16535 | G17: 8513 | H17: 8022 | I17: =J17+K17 -> 141 | J17: 57 | K17: 84
A18: 송도동 | B18: 6407 | C18: =D18+E18 -> 11775 | D18: =SUM(G18,J18) -> 5920 | E18: =SUM(H18,K18) -> 5855 | F18: =G18+H18 -> 11597 | G18: 5789 | H18: 5808 | I18: =J18+K18 -> 178 | J18: 131 | K18: 47
A19: 청림동 | B19: 2869 | C19: =D19+E19 -> 4840 | D19: =SUM(G19,J19) -> 2684 | E19: =SUM(H19,K19) -> 2156 | F19: =G19+H19 -> 4786 | G19: 2660 | H19: 2126 | I19: =J19+K19 -> 54 | J19: 24 | K19: 30
A20: 제철동 | B20: 1370 | C20: =D20+E20 -> 2615 | D20: =SUM(G20,J20) -> 1515 | E20: =SUM(H20,K20) -> 1100 | F20: =G20+H20 -> 2560 | G20: 1465 | H20: 1095 | I20: =J20+K20 -> 55 | J20: 50 | K20: 5
... A22: 대이동 | B22: 10447 | C22: =D22+E22 -> 24960 | D22: =SUM(G22,J22) -> 12762 | E22: =SUM(H22,K22) -> 12198 | F22: =G22+H22 -> 24775 | G22: 12660 | H22: 12115 | I22: =J22+K22 -> 185 | J22: 102 | K22: 83
A23: 북구 | B23: =SUM(B24:B38) -> 123921 | C23: =SUM(D23:E23) -> 269964 | D23: =SUM(D24:D38) -> 134718 | E23: =SUM(E24:E38) -> 135246 | F23: =SUM(G23:H23) -> 266822 | G23: =SUM(G24:G38) -> 132841 | H23: =SUM(H24:H38) -> 133981 | I23: =SUM(J23:K23) -> 3142 | J23: =SUM(J24:J38) -> 1877 | K23: =SUM(K24:K38) -> 1265
A24: 흥해읍 | B24: 19216 | C24: =D24+E24 -> 43253 | D24: =SUM(G24,J24) -> 21667 | E24: =SUM(H24,K24) -> 21586 | F24: =G24+H24 -> 42368 | G24: 21167 | H24: 21201 | I24: =J24+K24 -> 885 | J24: 500 | K24: 385
A25: 신광면 | B25: 1666 | C25: =D25+E25 -> 2845 | D25: =SUM(G25,J25) -> 1424 | E25: =SUM(H25,K25) -> 1421 | F25: =G25+H25 -> 2829 | G25: 1420 | H25: 1409 | I25: =J25+K25 -> 16 | J25: 4 | K25: 12
A26: 청하면 | B26: 2693 | C26: =D26+E26 -> 4768 | D26: =SUM(G26,J26) -> 2432 | E26: =SUM(H26,K26) -> 2336 | F26: =G26+H26 -> 4563 | G26: 2245 | H26: 2318 | I26: =J26+K26 -> 205 | J26: 187 | K26: 18
A27: 송라면 | B27: 1561 | C27: =D27+E27 -> 2535 | D27: =SUM(G27,J27) -> 1286 | E27: =SUM(H27,K27) -> 1249 | F27: =G27+H27 -> 2406 | G27: 1158 | H27: 1248 | I27: =J27+K27 -> 129 | J27: 128 | K27: 1
A28: 기계면 | B28: 2748 | C28: =D28+E28 -> 4906 | D28: =SUM(G28,J28) -> 2405 | E28: =SUM(H28,K28) -> 2501 | F28: =G28+H28 -> 4847 | G28: 2377 | H28: 2470 | I28: =J28+K28 -> 59 | J28: 28 | K28: 31
A29: 죽장면 | B29: 1738 | C29: =D29+E29 -> 2727 | D29: =SUM(G29,J29) -> 1394 | E29: =SUM(H29,K29) -> 1333 | F29: =G29+H29 -> 2683 | G29: 1373 | H29: 1310 | I29: =J29+K29 -> 44 | J29: 21 | K29: 23
A30: 기북면 | B30: 773 | C30: =D30+E30 -> 1312 | D30: =SUM(G30,J30) -> 649 | E30: =SUM(H30,K30) -> 663 | F30: =G30+H30 -> 1304 | G30: 648 | H30: 656 | I30: =J30+K30 -> 8 | J30: 1 | K30: 7
A31: 중앙동 | B31: 8488 | C31: =D31+E31 -> 14713 | D31: =SUM(G31,J31) -> 7359 | E31: =SUM(H31,K31) -> 7354 | F31: =G31+H31 -> 14492 | G31: 7211 | H31: 7281 | I31: =J31+K31 -> 221 | J31: 148 | K31: 73
A32: 양학동 | B32: 7387 | C32: =D32+E32 -> 17089 | D32: =SUM(G32,J32) -> 8428 | E32: =SUM(H32,K32) -> 8661 | F32: =G32+H32 -> 17024 | G32: 8396 | H32: 8628 | I32: =J32+K32 -> 65 | J32: 32 | K32: 33
A33: 죽도동 | B33: 11642 | C33: =D33+E33 -> 19619 | D33: =SUM(G33,J33) -> 9722 | E33: =SUM(H33,K33) -> 9897 | F33: =G33+H33 -> 19418 | G33: 9646 | H33: 9772 | I33: =J33+K33 -> 201 | J33: 76 | K33: 125
A34: 용흥동 | B34: 9377 | C34: =D34+E34 -> 20961 | D34: =SUM(G34,J34) -> 10235 | E34: =SUM(H34,K34) -> 10726 | F34: =G34+H34 -> 20844 | G34: 10176 | H34: 10668 | I34: =J34+K34 -> 117 | J34: 59 | K34: 58
A35: 우창동 | B35: 14219 | C35: =D35+E35 -> 32763 | D35: =SUM(G35,J35) -> 15973 | E35: =SUM(H35,K35) -> 16790 | F35: =G35+H35 -> 32620 | G35: 15921 | H35: 16699 | I35: =J35+K35 -> 143 | J35: 52 | K35: 91
... A38: 환여동 | B38: 3885 | C38: =D38+E38 -> 9102 | D38: =SUM(G38,J38) -> 4477 | E38: =SUM(H38,K38) -> 4625 | F38: =G38+H38 -> 9028 | G38: 4442 | H38: 4586 | I38: =J38+K38 -> 74 | J38: 35 | K38: 39
A39: 경주시 | B39: =SUM(B40:B62) -> 124683 | C39: =D39+E39 -> 257743 | D39: =SUM(D40:D62) -> 131000 | E39: =SUM(E40:E62) -> 126743 | F39: =SUM(G39:H39) -> 246371 | G39: =SUM(G40:G62) -> 123389 | H39: =SUM(H40:H62) -> 122982 | I39: =SUM(J39:K39) -> 11372 | J39: =SUM(J40:J62) -> 7611 | K39: =SUM(K40:K62) -> 3761
A40: 감포읍 | B40: 3153 | C40: =D40+E40 -> 5787 | D40: =SUM(G40,J40) -> 3160 | E40: =SUM(H40,K40) -> 2627 | F40: =G40+H40 -> 5221 | G40: 2611 | H40: 2610 | I40: =J40+K40 -> 566 | J40: 549 | K40: 17
A41: 안강읍 | B41: 12213 | C41: =D41+E41 -> 23437 | D41: =SUM(G41,J41) -> 11692 | E41: =SUM(H41,K41) -> 11745 | F41: =G41+H41 -> 23066 | G41: 11456 | H41: 11610 | I41: =J41+K41 -> 371 | J41: 236 | K41: 135
A42: 건천읍 | B42: 5088 | C42: =D42+E42 -> 9180 | D42: =SUM(G42,J42) -> 4712 | E42: =SUM(H42,K42) -> 4468 | F42: =G42+H42 -> 8898 | G42: 4506 | H42: 4392 | I42: =J42+K42 -> 282 | J42: 206 | K42: 76
A43: 외동읍 | B43: 11822 | C43: =D43+E43 -> 25487 | D43: =SUM(G43,J43) -> 14494 | E43: =SUM(H43,K43) -> 10993 | F43: =G43+H43 -> 21756 | G43: 11490 | H43: 10266 | I43: =J43+K43 -> 3731 | J43: 3004 | K43: 727
A44: 문무대왕면 | B44: 2339 | C44: =D44+E44 -> 4155 | D44: =SUM(G44,J44) -> 2172 | E44: =SUM(H44,K44) -> 1983 | F44: =G44+H44 -> 4126 | G44: 2156 | H44: 1970 | I44: =J44+K44 -> 29 | J44: 16 | K44: 13
...

Sheet 1-3. 리별 인구 및 세대현황(시)
A2: 1-3. 리별 인구 및 세대현황(시)_외국인 제외 (2024년 1분기)
A3: (단위 : 세대, 명) | AW3: (단위:명,세대)
A4: 포항시 | F4: 경주시 | K4: 김천시 | P4: 안동시 | U4: 구미시 | Z4: 영주시 | AE4: 영천시 | AJ4: 상주시 | AO4: 문경시 | AT4: 경산시
A5: 행정구역 | B5: 계 | C5: 남 | D5: 여 | E5: 세대수 | F5: 행정구역 | G5: 계 | H5: 남 | I5: 여 | J5: 세대수 | K5: 행정구역 | L5: 계 | M5: 남 | N5: 여 | O5: 세대수 | P5: 행정구역 | Q5: 계 | R5: 남 | S5: 여 | T5: 세대수 | U5: 행정구역 | V5: 계 | W5: 남 | X5: 여 | Y5: 세대수 | Z5: 행정구역 | AA5: 계 | AB5: 남 | AC5: 여 | AD5: 세대수 | AE5: 행정구역 | AF5: 계 | AG5: 남 | AH5: 여 | AI5: 세대수 | AJ5: 행정구역 | AK5: 계 | AL5: 남 | AM5: 여 | AN5: 세대수 | AO5: 행정구역 | AP5: 계 | AQ5: 남 | AR5: 여 | AS5: 세대수 | AT5: 행정구역 | AU5: 계 | AV5: 남 | AW5: 여 | AX5: 세대수
A6: 구룡포읍 | B6: 6781 | C6: 3418 | D6: 3363 | E6: 4353 | F6: 감포읍 | G6: 5226 | H6: 2614 | I6: 2612 | J6: 3157 | K6: 아포읍 | L6: 7674 | M6: 3860 | N6: 3814 | O6: 4078 | P6: 풍산읍 | Q6: 6064 | R6: 3068 | S6: 2996 | T6: 3498 | U6: 선산읍 | V6: =SUM(W6:X6) -> 13871 | W6: =SUM(W7:W35) -> 6846 | X6: =SUM(X7:X35) -> 7025 | Y6: =SUM(Y7:Y35) -> 6734 | Z6: 풍기읍 | AA6: 10580 | AB6: 5417 | AC6: 5163 | AD6: 5978 | AE6: 금호읍 | AF6: 10418 | AG6: 5508 | AH6: 4910 | AI6: 6271 | AJ6: 함창읍 | AK6: 6231 | AL6: 3017 | AM6: 3214 | AN6: 3435 | AO6: 문경읍 | AP6: 6777 | AQ6: 3264 | AR6: 3513 | AS6: 3809 | AT6: 하양읍 | AU6: 31461 | AV6: 15916 | AW6: 15545 | AX6: 15648
A7: 구룡포1리 | B7: 757 | C7: 381 | D7: 376 | E7: 465 | F7: 감포1리 | G7: 359 | H7: 182 | I7: 177 | J7: 218 | K7: 인1리 | L7: 208 | M7: 103 | N7: 105 | O7: 112 | P7: 안교1리 | Q7: 762 | R7: 379 | S7: 383 | T7: 439 | U7: 완전리 | V7: =SUM(W7:X7) -> 1280 | W7: 627 | X7: 653 | Y7: 657 | Z7: 성내1리 | AA7: 324 | AB7: 132 | AC7: 192 | AD7: 179 | AE7: 교대1리 | AF7: 858 | AG7: 430 | AH7: 428 | AI7: 482 | AJ7: 구향1리 | AK7: 198 | AL7: 99 | AM7: 99 | AN7: 102 | AO7: 상1리 | AP7: 200 | AQ7: 97 | AR7: 103 | AS7: 116 | AT7: 금락1리 | AU7: 1651 | AV7: 874 | AW7: 777 | AX7: 1147
A8: 구룡포2리 | B8: 1061 | C8: 529 | D8: 532 | E8: 609 | F8: 감포2리 | G8: 868 | H8: 434 | I8: 434 | J8: 519 | K8: 인2리 | L8: 168 | M8: 92 | N8: 76 | O8: 95 | P8: 안교2리 | Q8: 346 | R8: 148 | S8: 198 | T8: 212 | U8: 동부리 | V8: =SUM(W8:X8) -> 1049 | W8: 531 | X8: 518 | Y8: 525 | Z8: 성내2리 | AA8: 215 | AB8: 91 | AC8: 124 | AD8: 117 | AE8: 교대2리 | AF8: 548 | AG8: 274 | AH8: 274 | AI8: 301 | AJ8: 구향2리 | AK8: 744 | AL8: 349 | AM8: 395 | AN8: 392 | AO8: 상2리 | AP8: 455 | AQ8: 210 | AR8: 245 | AS8: 252 | AT8: 금락2리 | AU8: 1413 | AV8: 742 | AW8: 671 | AX8: 913
A9: 구룡포3리 | B9: 256 | C9: 123 | D9: 133 | E9: 190 | F9: 감포3리 | G9: 444 | H9: 235 | I9: 209 | J9: 279 | K9: 인3리 | L9: 76 | M9: 37 | N9: 39 | O9: 48 | P9: 안교3리 | Q9: 126 | R9: 68 | S9: 58 | T9: 78 | U9: 노상리 | V9: =SUM(W9:X9) -> 1993 | W9: 889 | X9: 1104 | Y9: 989 | Z9: 성내3리 | AA9: 452 | AB9: 211 | AC9: 241 | AD9: 247 | AE9: 교대3리 | AF9: 357 | AG9: 197 | AH9: 160 | AI9: 194 | AJ9: 구향3리 | AK9: 610 | AL9: 290 | AM9: 320 | AN9: 343 | AO9: 하1리 | AP9: 573 | AQ9: 276 | AR9: 297 | AS9: 316 | AT9: 금락3리 | AU9: 67 | AV9: 27 | AW9: 40 | AX9: 41
A10: 구룡포4리 | B10: 397 | C10: 197 | D10: 200 | E10: 279 | F10: 감포4리 | G10: 495 | H10: 246 | I10: 249 | J10: 289 | K10: 인4리 | L10: 128 | M10: 61 | N10: 67 | O10: 65 | P10: 상리1리 | Q10: 209 | R10: 107 | S10: 102 | T10: 110 | U10: 이문리 | V10: =SUM(W10:X10) -> 1770 | W10: 884 | X10: 886 | Y10: 862 | Z10: 성내4리 | AA10: 937 | AB10: 457 | AC10: 480 | AD10: 487 | AE10: 교대4리 | AF10: 980 | AG10: 460 | AH10: 520 | AI10: 443 | AJ10: 구향4리 | AK10: 196 | AL10: 95 | AM10: 101 | AN10: 114 | AO10: 하2리 | AP10: 622 | AQ10: 303 | AR10: 319 | AS10: 346 | AT10: 금락4리 | AU10: 1459 | AV10: 733 | AW10: 726 | AX10: 1004
A11: 구룡포5리 | B11: 393 | C11: 190 | D11: 203 | E11: 263 | F11: 감포5리 | G11: 281 | H11: 133 | I11: 148 | J11: 162 | K11: 의1리 | L11: 335 | M11: 174 | N11: 161 | O11: 189 | P11: 상리2리 | Q11: 102 | R11: 55 | S11: 47 | T11: 51 | U11: 죽장1리 | V11: =SUM(W11:X11) -> 208 | W11: 114 | X11: 94 | Y11: 107 | Z11: 동부1리 | AA11: 1104 | AB11: 544 | AC11: 560 | AD11: 507 | AE11: 덕성리 | AF11: 789 | AG11: 387 | AH11: 402 | AI11: 459 | AJ11: 구향5리 | AK11: 406 | AL11: 200 | AM11: 206 | AN11: 294 | AO11: 교촌리 | AP11: 741 | AQ11: 327 | AR11: 414 | AS11: 456 | AT11: 금락5리 | AU11: 1434 | AV11: 657 | AW11: 777 | AX11: 626
A12: 구룡포6리 | B12: 523 | C12: 253 | D12: 270 | E12: 361 | F12: 오류1리 | G12: 170 | H12: 87 | I12: 83 | J12: 103 | K12: 의2리 | L12: 104 | M12: 49 | N12: 55 | O12: 64 | P12: 상리3리 | Q12: 151 | R12: 86 | S12: 65 | T12: 92 | U12: 죽장2리 | V12: =SUM(W12:X12) -> 199 | W12: 97 | X12: 102 | Y12: 102 | Z12: 동부2리 | AA12: 616 | AB12: 307 | AC12: 309 | AD12: 301 | AE12: 성천리 | AF12: 128 | AG12: 67 | AH12: 61 | AI12: 75 | AJ12: 구향6리 | AK12: 423 | AL12: 200 | AM12: 223 | AN12: 175 | AO12: 요성리 | AP12: 329 | AQ12: 150 | AR12: 179 | AS12: 176 | AT12: 금락6리 | AU12: 2796 | AV12: 1333 | AW12: 1463 | AX12: 1111
A13: 구룡포7리 | B13: 117 | C13: 62 | D13: 55 | E13: 66 | F13: 오류2리 | G13: 331 | H13: 162 | I13: 169 | J13: 211 | K13: 예1리 | L13: 125 | M13: 64 | N13: 61 | O13: 67 | P13: 하리1리 | Q13: 222 | R13: 107 | S13: 115 | T13: 118 | U13: 봉곡1리 | V13: =SUM(W13:X13) -> 149 | W13: 70 | X13: 79 | Y13: 94 | Z13: 동부3리 | AA13: 710 | AB13: 346 | AC13: 364 | AD13: 438 | AE13: 대미1리 | AF13: 166 | AG13: 95 | AH13: 71 | AI13: 97 | AJ13: 오동1리 | AK13: 568 | AL13: 242 | AM13: 326 | AN13: 213 | AO13: 지곡1리 | AP13: 75 | AQ13: 37 | AR13: 38 | AS13: 47 | AT13: 금락7리 | AU13: 1493 | AV13: 716 | AW13: 777 | AX13: 685
A14: 삼정1리 | B14: 108 | C14: 50 | D14: 58 | E14: 68 | F14: 오류3리 | G14: 122 | H14: 68 | I14: 54 | J14: 76 | K14: 예2리 | L14: 151 | M14: 73 | N14: 78 | O14: 75 | P14: 하리2리 | Q14: 363 | R14: 191 | S14: 172 | T14: 203 | U14: 봉곡2리 | V14: =SUM(W14:X14) -> 67 | W14: 34 | X14: 33 | Y14: 38 | Z14: 동부4리 | AA14: 975 | AB14: 490 | AC14: 485 | AD14: 449 | AE14: 대미2리 | AF14: 135 | AG14: 70 | AH14: 65 | AI14: 77 | AJ14: 오동2리 | AK14: 227 | AL14: 117 | AM14: 110 | AN14: 138 | AO14: 지곡2리 | AP14: 86 | AQ14: 39 | AR14: 47 | AS14: 56 | AT14: 금락8리 | AU14: 1256 | AV14: 640 | AW14: 616 | AX14: 548
A15: 삼정2리 | B15: 165 | C15: 77 | D15: 88 | E15: 106 | F15: 오류4리 | G15: 240 | H15: 117 | I15: 123 | J15: 154 | K15: 지1리 | L15: 190 | M15: 88 | N15: 102 | O15: 98 | P15: 마애리 | Q15: 161 | R15: 73 | S15: 88 | T15: 97 | U15: 포상1리 | V15: =SUM(W15:X15) -> 88 | W15: 50 | X15: 38 | Y15: 45 | Z15: 동부5리 | AA15: 202 | AB15: 105 | AC15: 97 | AD15: 115 | AE15: 석섬리 | AF15: 155 | AG15: 90 | AH15: 65 | AI15: 104 | AJ15: 오사1리 | AK15: 265 | AL15: 134 | AM15: 131 | AN15: 148 | AO15: 마원1리 | AP15: 193 | AQ15: 92 | AR15: 101 | AS15: 117 | AT15: 동서1리 | AU15: 945 | AV15: 499 | AW15: 446 | AX15: 507
A16: 삼정3리 | B16: 147 | C16: 70 | D16: 77 | E16: 96 | F16: 전동리 | G16: 250 | H16: 132 | I16: 118 | J16: 150 | K16: 지2리 | L16: 101 | M16: 50 | N16: 51 | O16: 60 | P16: 수1리 | Q16: 178 | R16: 86 | S16: 92 | T16: 92 | U16: 포상2리 | V16: =SUM(W16:X16) -> 90 | W16: 45 | X16: 45 | Y16: 53 | Z16: 동부6리 | AA16: 227 | AB16: 104 | AC16: 123 | AD16: 135 | AE16: 원제1리 | AF16: 314 | AG16: 173 | AH16: 141 | AI16: 191 | AJ16: 오사2리 | AK16: 27 | AL16: 19 | AM16: 8 | AN16: 17 | AO16: 마원2리 | AP16: 129 | AQ16: 62 | AR16: 67 | AS16: 73 | AT16: 동서2리 | AU16: 488 | AV16: 263 | AW16: 225 | AX16: 269
A17: 석병1리 | B17: 191 | C17: 98 | D17: 93 | E17: 124 | F17: 전촌1리 | G17: 190 | H17: 92 | I17: 98 | J17: 114 | K17: 대신1리 | L17: 218 | M17: 109 | N17: 109 | O17: 118 | P17: 수2리 | Q17: 120 | R17: 67 | S17: 53 | T17: 62 | U17: 소재리 | V17: =SUM(W17:X17) -> 134 | W17: 74 | X17: 60 | Y17: 76 | Z17: 산법리 | AA17: 646 | AB17: 376 | AC17: 270 | AD17: 541 | AE17: 원제2리 | AF17: 1070 | AG17: 694 | AH17: 376 | AI17: 943 | AJ17: 증촌1리 | AK17: 311 | AL17: 144 | AM17: 167 | AN17: 150 | AO17: 마원3리 | AP17: 110 | AQ17: 53 | AR17: 57 | AS17: 59 | AT17: 동서3리 | AU17: 139 | AV17: 65 | AW17: 74 | AX17: 73
A18: 석병2리 | B18: 290 | C18: 151 | D18: 139 | E18: 196 | F18: 전촌2리 | G18: 200 | H18: 99 | I18: 101 | J18: 120 | K18: 대신2리 | L18: 142 | M18: 69 | N18: 73 | O18: 74 | P18: 회곡리 | Q18: 146 | R18: 72 | S18: 74 | T18: 85 | U18: 내고1리 | V18: =SUM(W18:X18) -> 177 | W18: 86 | X18: 91 | Y18: 91 | Z18: 미곡리 | AA18: 112 | AB18: 65 | AC18: 47 | AD18: 63 | AE18: 냉천1리 | AF18: 663 | AG18: 339 | AH18: 324 | AI18: 353 | AJ18: 증촌2리 | AK18: 129 | AL18: 67 | AM18: 62 | AN18: 68 | AO18: 진안리 | AP18: 116 | AQ18: 62 | AR18: 54 | AS18: 70 | AT18: 동서4리 | AU18: 1166 | AV18: 539 | AW18: 627 | AX18: 505
... A35: 생지2리 | B35: 730 | C35: 354 | D35: 376 | E35: 356 | F35: 양월3리 | G35: 282 | H35: 134 | I35: 148 | J35: 153 | K35: 송천4리 | L35: 280 | M35: 149 | N35: 131 | O35: 163 | P35: 오미2리 | Q35: 142 | R35: 71 | S35: 71 | T35: 84 | U35: 신기리 | V35: =SUM(W35:X35) -> 173 | W35: 98 | X35: 75 | Y35: 89 | Z35: 전구1리 | AA35: 162 | AB35: 83 | AC35: 79 | AD35: 91 | AE35: 원기리 | AF35: 219 | AG35: 109 | AH35: 110 | AI35: 131 | AJ35: 신덕1리 | AK35: 67 | AL35: 29 | AM35: 38 | AN35: 46 | AO35: 갈평2리 | AP35: 116 | AQ35: 60 | AR35: 56 | AS35: 64 | AT35: 청천리 | AU35: 267 | AV35: 145 | AW35: 122 | AX35: 157
A36: 생지3리 | B36: 1830 | C36: 906 | D36: 924 | E36: 720 | F36: 양월4리 | G36: 495 | H36: 242 | I36: 253 | J36: 290 | K36: 송천5리 | L36: 387 | M36: 184 | N36: 203 | O36: 199 | P36: 괴정리 | Q36: 297 | R36: 151 | S36: 146 | T36: 163 | U36: 고아읍 | V36: =SUM(W36:X36) -> 37598 | W36: =SUM(W37:W90) -> 18869 | X36: =SUM(X37:X90) -> 18729 | Y36: =SUM(Y37:Y90) -> 15293 | Z36: 전구2리 | AA36: 86 | AB36: 47 | AC36: 39 | AD36: 47 | AE36: 신대리 | AF36: 490 | AG36: 256 | AH36: 234 | AI36: 270 | AJ36: 신덕2리 | AK36: 77 | AL36: 36 | AM36: 41 | AN36: 43 | AO36: 중평리 | AP36: 129 | AQ36: 67 | AR36: 62 | AS36: 77 | AT36: 환상1리 | AU36: 159 | AV36: 79 | AW36: 80 | AX36: 90
A37: 생지4리 | B37: 2109 | C37: 1077 | D37: 1032 | E37: 873 | F37: 양월5리 | G37: 691 | H37: 331 | I37: 360 | J37: 388 | K37: 송천6리 | L37: 596 | M37: 302 | N37: 294 | O37: 240 | P37: 매곡1리 | Q37: 173 | R37: 89 | S37: 84 | T37: 98 | U37: 관심1리 | V37: =SUM(W37:X37) -> 261 | W37: 133 | X37: 128 | Y37: 134 | Z37: 이산면 | AA37: 2195 | AB37: 1132 | AC37: 1063 | AD37: 1190 | AE37: 남성리 | AF37: 127 | AG37: 62 | AH37: 65 | AI37: 73 | AJ37: 금곡리 | AK37: 123 | AL37: 58 | AM37: 65 | AN37: 65 | AO37: 관음1리 | AP37: 166 | AQ37: 98 | AR37: 68 | AS37: 101 | AT37: 환상2리 | AU37: 129 | AV37: 67 | AW37: 62 | AX37: 63
A38: 생지5리 | B38: 2019 | C38: 986 | D38: 1033 | E38: 822 | F38: 양월6리 | G38: 491 | H38: 235 | I38: 256 | J38: 287 | K38: 대성1리 | L38: 74 | M38: 40 | N38: 34 | O38: 49 | P38: 매곡2리 | Q38: 310 | R38: 179 | S38: 131 | T38: 213 | U38: 관심2리 | V38: =SUM(W38:X38) -> 588 | W38: 286 | X38: 302 | Y38: 310 | Z38: 원리 | AA38: 427 | AB38: 219 | AC38: 208 | AD38: 218 | AE38: 삼호1리 | AF38: 160 | AG38: 79 | AH38: 81 | AI38: 97 | AJ38: 하갈1리 | AK38: 82 | AL38: 39 | AM38: 43 | AN38: 53 | AO38: 관음2리 | AP38: 67 | AQ38: 34 | AR38: 33 | AS38: 38 | AT38: 환상3리 | AU38: 177 | AV38: 87 | AW38: 90 | AX38: 108
A39: 괴정1리 | B39: 1655 | C39: 858 | D39: 797 | E39: 823 | F39: 육통1리 | G39: 240 | H39: 119 | I39: 121 | J39: 141 | K39: 대성2리 | L39: 151 | M39: 67 | N39: 84 | O39: 85 | P39: 소산1리 | Q39: 219 | R39: 111 | S39: 108 | T39: 130 | U39: 이례1리 | V39: =SUM(W39:X39) -> 292 | W39: 140 | X39: 152 | Y39: 152 | Z39: 신암1리 | AA39: 48 | AB39: 25 | AC39: 23 | AD39: 25 | AE39: 삼호2리 | AF39: 312 | AG39: 166 | AH39: 146 | AI39: 179 | AJ39: 하갈2리 | AK39: 46 | AL39: 24 | AM39: 22 | AN39: 27 | AO39: 가은읍 | AP39: 3889 | AQ39: 1913 | AR39: 1976 | AS39: 2333 | AT39: 대조1리 | AU39: 170 | AV39: 87 | AW39: 83 | AX39: 93
A40: 괴정2리 | B40: 620 | C40: 300 | D40: 320 | E40: 328 | F40: 육통2리 | G40: 262 | H40: 140 | I40: 122 | J40: 158 | K40: 농소면 | L40: 3099 | M40: 1618 | N40: 1481 | O40: 1625 | P40: 소산2리 | Q40: 158 | R40: 82 | S40: 76 | T40: 79 | U40: 이례2리 | V40: =SUM(W40:X40) -> 551 | W40: 280 | X40: 271 | Y40: 252 | Z40: 신암2리 | AA40: 73 | AB40: 39 | AC40: 34 | AD40: 43 | AE40: 청통면 | AF40: 3979 | AG40: 2112 | AH40: 1867 | AI40: 2438 | AJ40: 사벌국면 | AK40: 3686 | AL40: 1824 | AM40: 1862 | AN40: 2088 | AO40: 왕릉1리 | AP40: 634 | AQ40: 303 | AR40: 331 | AS40: 381 | AT40: 대조2리 | AU40: 207 | AV40: 108 | AW40: 99 | AX40: 115
A41: 동문1리 | B41: 1353 | C41: 673 | D41: 680 | E41: 710 | F41: 육통3리 | G41: 113 | H41: 55 | I41: 58 | J41: 67 | K41: 입석리 | L41: 359 | M41: 200 | N41: 159 | O41: 190 | P41: 와룡면 | Q41: 3,868 | R41: 1989 | S41: 1879 | T41: 2134 | U41: 오로1리 | V41: =SUM(W41:X41) -> 454 | W41: 241 | X41: 213 | Y41: 228 | Z41: 신암3리 | AA41: 158 | AB41: 87 | AC41: 71 | AD41: 97 | AE41: 호당1리 | AF41: 112 | AG41: 50 | AH41: 62 | AI41: 71 | AJ41: 덕담1리 | AK41: 177 | AL41: 89 | AM41: 88 | AN41: 99 | AO41: 왕릉2리 | AP41: 217 | AQ41: 102 | AR41: 115 | AS41: 148 | AT41: 동서6리 | AU41: 880 | AV41: 434 | AW41: 446 | AX41: 429
A42: 동문2리 | B42: 1687 | C42: 855 | D42: 832 | E42: 808 | F42: 노당1리 | G42: 198 | H42: 105 | I42: 93 | J42: 116 | K42: 신촌리 | L42: 418 | M42: 208 | N42: 210 | O42: 205 | P42: 중가구1 | Q42: 143 | R42: 79 | S42: 64 | T42: 88 | U42: 오로2리 | V42: =SUM(W42:X42) -> 901 | W42: 442 | X42: 459 | Y42: 406 | Z42: 지동1리 | AA42: 61 | AB42: 32 | AC42: 29 | AD42: 34 | AE42: 호당2리 | AF42: 199 | AG42: 105 | AH42: 94 | AI42: 121 | AJ42: 덕담2리 | AK42: 161 | AL42: 79 | AM42: 82 | AN42: 97 | AO42: 왕릉3리 | AP42: 284 | AQ42: 125 | AR42: 159 | AS42: 182 | AT42: 동서7리 | AU42: 2506 | AV42: 1269 | AW42: 1237 | AX42: 886
A43: 동문3리 | B43: 908 | C43: 473 | D43: 435 | E43: 341 | F43: 노당2리 | G43: 190 | H43: 92 | I43: 98 | J43: 116 | K43: 월곡1리 | L43: 326 | M43: 161 | N43: 165 | O43: 184 | P43: 중가구2 | Q43: 121 | R43: 55 | S43: 66 | T43: 64 | U43: 오로3리 | V43: =SUM(W43:X43) -> 1005 | W43: 514 | X43: 491 | Y43: 462 | Z43: 지동2리 | AA43: 99 | AB43: 42 | AC43: 57 | AD43: 54 | AE43: 우천1리 | AF43: 201 | AG43: 109 | AH43: 92 | AI43: 134 | AJ43: 덕담3리 | AK43: 242 | AL43: 124 | AM43: 118 | AN43: 168 | AO43: 갈전1리 | AP43: 190 | AQ43: 87 | AR43: 103 | AS43: 99 | AT43: 서사2리 | AU43: 2205 | AV43: 1148 | AW43: 1057 | AX43: 708
A44: 오천1리 | B44: 1574 | C44: 843 | D44: 731 | E44: 718 | F44: 산대1리 | G44: 504 | H44: 246 | I44: 258 | J44: 256 | K44: 월곡2리 | L44: 136 | M44: 69 | N44: 67 | O44: 64 | P44: 가구1리 | Q44: 380 | R44: 185 | S44: 195 | T44: 175 | U44: 대망1리 | V44: =SUM(W44:X44) -> 174 | W44: 91 | X44: 83 | Y44: 89 | Z44: 지동3리 | AA44: 46 | AB44: 27 | AC44: 19 | AD44: 27 | AE44: 우천2리 | AF44: 120 | AG44: 63 | AH44: 57 | AI44: 68 | AJ44: 원흥1리 | AK44: 95 | AL44: 42 | AM44: 53 | AN44: 56 | AO44: 갈전2리 | AP44: 101 | AQ44: 51 | AR44: 50 | AS44: 55 | AT44: 서사3리 | AU44: 1800 | AV44: 932 | AW44: 868 | AX44: 645
A45: 오천2리 | B45: 1488 | C45: 775 | D45: 713 | E45: 463 | F45: 산대2리 | G45: 304 | H45: 137 | I45: 167 | J45: 164 | K45: 월곡3리 | L45: 256 | M45: 160 | N45: 96 | O45: 183 | P45: 가구2리 | Q45: 170 | R45: 81 | S45: 89 | T45: 97 | U45: 대망2리 | V45: =SUM(W45:X45) -> 135 | W45: 80 | X45: 55 | Y45: 77 | Z45: 석포1리 | AA45: 94 | AB45: 49 | AC45: 45 | AD45: 56 | AE45: 보성리 | AF45: 236 | AG45: 126 | AH45: 110 | AI45: 161 | AJ45: 원흥2리 | AK45: 193 | AL45: 91 | AM45: 102 | AN45: 106 | AO45: 갈전3리 | AP45: 39 | AQ45: 23 | AR45: 16 | AS45: 30 | AT45: 서사4리 | AU45: 1778 | AV45: 904 | AW45: 874 | AX45: 764
A46: 유강1리 | B46: 157 | C46: 82 | D46: 75 | E46: 92 | F46: 산대3리 | G46: 1123 | H46: 624 | I46: 499 | J46: 587 | K46: 월곡4리 | L46: 115 | M46: 59 | N46: 56 | O46: 58 | P46: 산야1리 | Q46: 66 | R46: 38 | S46: 28 | T46: 43 | U46: 파산리 | V46: =SUM(W46:X46) -> 84 | W46: 48 | X46: 36 | Y46: 56 | Z46: 석포2리 | AA46: 122 | AB46: 66 | AC46: 56 | AD46: 69 | AE46: 신덕1리 | AF46: 102 | AG46: 53 | AH46: 49 | AI46: 64 | AJ46: 원흥3리 | AK46: 106 | AL46: 53 | AM46: 53 | AN46: 62 | AO46: 저음리 | AP46: 77 | AQ46: 41 | AR46: 36 | AS46: 49 | AT46: 서사5리 | AU46: 1029 | AV46: 536 | AW46: 493 | AX46: 533
A47: 유강2리 | B47: 1257 | C47: 638 | D47: 619 | E47: 442 | F47: 산대4리 | G47: 228 | H47: 117 | I47: 111 | J47: 125 | K47: 용암1리 | L47: 248 | M47: 124 | N47: 124 | O47: 124 | P47: 산야2리 | Q47: 85 | R47: 43 | S47: 42 | T47: 47 | U47: 신촌리 | V47: =SUM(W47:X47) -> 261 | W47: 137 | X47: 124 | Y47: 133 | Z47: 용상1리 | AA47: 124 | AB47: 65 | AC47: 59 | AD47: 64 | AE47: 신덕2리 | AF47: 116 | AG47: 56 | AH47: 60 | AI47: 66 | AJ47: 두릉리 | AK47: 196 | AL47: 85 | AM47: 111 | AN47: 110 | AO47: 작천1리 | AP47: 202 | AQ47: 95 | AR47: 107 | AS47: 121 | AT47: 양지2리 | AU47: 800 | AV47: 401 | AW47: 399 | AX47: 651
A48: 유강3리 | B48: 996 | C48: 482 | D48: 514 | E48: 386 | F48: 산대5리 | G48: 2698 | H48: 1280 | I48: 1418 | J48: 1449 | K48: 용암2리 | L48: 71 | M48: 37 | N48: 34 | O48: 47 | P48: 산야3리 | Q48: 65 | R48: 32 | S48: 33 | T48: 38 | U48: 황산리 | V48: =SUM(W48:X48) -> 206 | W48: 98 | X48: 108 | Y48: 124 | Z48: 용상2리 | AA48: 142 | AB48: 73 | AC48: 69 | AD48: 72 | AE48: 대평리 | AF48: 222 | AG48: 117 | AH48: 105 | AI48: 140 | AJ48: 목가리 | AK48: 195 | AL48: 106 | AM48: 89 | AN48: 104 | AO48: 작천2리 | AP48: 127 | AQ48: 64 | AR48: 63 | AS48: 68 | AT48: 양지3리 | AU48: 662 | AV48: 349 | AW48: 313 | AX48: 626
A49: 유강4리 | B49: 1419 | C49: 720 | D49: 699 | E49: 495 | F49: 산대6리 | G49: 1021 | H49: 503 | I49: 518 | J49: 545 | K49: 도공촌리 | L49: 324 | M49: 171 | N49: 153 | O49: 125 | P49: 주계리 | Q49: 194 | R49: 99 | S49: 95 | T49: 106 | U49: 횡산리 | V49: =SUM(W49:X49) -> 134 | W49: 66 | X49: 68 | Y49: 86 | Z49: 신천1리 | AA49: 63 | AB49: 30 | AC49: 33 | AD49: 30 | AE49: 죽정리 | AF49: 156 | AG49: 82 | AH49: 74 | AI49: 93 | AJ49: 덕가리 | AK49: 179 | AL49: 91 | AM49: 88 | AN49: 96 | AO49: 성저1리 | AP49: 165 | AQ49: 78 | AR49: 87 | AS49: 98 | AT49: 진량읍 | AU49: 33917 | AV49: 17715 | AW49: 16202 | AX49: 17232
A50: 유강5리 | B50: 2135 | C50: 1125 | D50: 1010 | E50: 906 | F50: 산대7리 | G50: 2013 | H50: 1009 | I50: 1004 | J50: 803 | K50: 봉곡1리 | L50: 311 | M50: 161 | N50: 150 | O50: 168 | P50: 가야리 | Q50: 171 | R50: 90 | S50: 81 | T50: 101 | U50: 외예리 | V50: =SUM(W50:X50) -> 197 | W50: 101 | X50: 96 | Y50: 106 | Z50: 신천2리 | AA50: 92 | AB50: 41 | AC50: 51 | AD50: 53 | AE50: 송천리 | AF50: 309 | AG50: 163 | AH50: 146 | AI50: 180 | AJ50: 용담1리 | AK50: 122 | AL50: 59 | AM50: 63 | AN50: 64 | AO50: 성저2리 | AP50: 71 | AQ50: 41 | AR50: 30 | AS50: 36 | AT50: 신상1리 | AU50: 562 | AV50: 302 | AW50: 260 | AX50: 280
A51: 유강6리 | B51: 1672 | C51: 866 | D51: 806 | E51: 660 | F51: 산대8리 | G51: 1165 | H51: 573 | I51: 592 | J51: 759 | K51: 봉곡2리 | L51: 123 | M51: 62 | N51: 61 | O51: 62 | P51: 지내1리 | Q51: 146 | R51: 73 | S51: 73 | T51: 91 | U51: 내예리 | V51: =SUM(W51:X51) -> 89 | W51: 40 | X51: 49 | Y51: 56 | Z51: 운문1리 | AA51: 158 | AB51: 75 | AC51: 83 | AD51: 90 | AE51: 원촌1리 | AF51: 266 | AG51: 146 | AH51: 120 | AI51: 155 | AJ51: 용담2리 | AK51: 116 | AL51: 59 | AM51: 57 | AN51: 58 | AO51: 수예리 | AP51: 64 | AQ51: 33 | AR51: 31 | AS51: 36 | AT51: 신상2리 | AU51: 563 | AV51: 347 | AW51: 216 | AX51: 336
A52: 유강7리 | B52: 2231 | C52: 1110 | D52: 1121 | E52: 756 | F52: 산대9리 | G52: 1585 | H52: 789 | I52: 796 | J52: 822 | K52: 연명리 | L52: 246 | M52: 121 | N52: 125 | O52: 126 | P52: 지내2리 | Q52: 157 | R52: 84 | S52: 73 | T52: 77 | U52: 원호1리 | V52: =SUM(W52:X52) -> 45 | W52: 20 | X52: 25 | Y52: 24 | Z52: 운문2리 | AA52: 178 | AB52: 97 | AC52: 81 | AD52: 96 | AE52: 원촌2리 | AF52: 114 | AG52: 53 | AH52: 61 | AI52: 81 | AJ52: 용담3리 | AK52: 73 | AL52: 37 | AM52: 36 | AN52: 42 | AO52: 민지1리 | AP52: 67 | AQ52: 37 | AR52: 30 | AS52: 45 | AT52: 신상3리 | AU52: 757 | AV52: 502 | AW52: 255 | AX52: 532
... A61: 택전1리 | B61: 611 | C61: 322 | D61: 289 | E61: 341 | F61: 강교2리 | G61: 63 | H61: 36 | I61: 27 | J61: 43 | K61: 월명1리 | L61: 245 | M61: 98 | N61: 147 | O61: 163 | P61: 감애1리 | Q61: 250 | R61: 126 | S61: 124 | T61: 135 | U61: 원호10리 | V61: =SUM(W61:X61) -> 1593 | W61: 804 | X61: 789 | Y61: 562 | Z61: 강동2리 | AA61: 36 | AB61: 19 | AC61: 17 | AD61: 23 | AE61: 용천리 | AF61: 107 | AG61: 64 | AH61: 43 | AI61: 65 | AJ61: 금흔1리 | AK61: 137 | AL61: 62 | AM61: 75 | AN61: 73 | AO61: 완장1리 | AP61: 148 | AQ61: 71 | AR61: 77 | AS61: 98 | AT61: 선화5리 | AU61: 2150 | AV61: 1109 | AW61: 1041 | AX61: 1161
A62: 택전2리 | B62: 124 | C62: 68 | D62: 56 | E62: 76 | F62: 두류1리 | G62: 159 | H62: 78 | I62: 81 | J62: 99 | K62: 월명2리 | L62: 116 | M62: 58 | N62: 58 | O62: 71 | P62: 감애2리 | Q62: 81 | R62: 38 | S62: 43 | T62: 47 | U62: 원호11리 | V62: =SUM(W62:X62) -> 0 | W62: - | X62: - | Y62: - | Z62: 지곡1리 | AA62: 92 | AB62: 50 | AC62: 42 | AD62: 50 | AE62: 신원리 | AF62: 220 | AG62: 119 | AH62: 101 | AI62: 139 | AJ62: 금흔2리 | AK62: 46 | AL62: 23 | AM62: 23 | AN62: 27 | AO62: 완장2리 | AP62: 138 | AQ62: 69 | AR62: 69 | AS62: 84 | AT62: 선화6리 | AU62: 1592 | AV62: 797 | AW62: 795 | AX62: 666
A63: 인주리 | B63: 154 | C63: 76 | D63: 78 | E63: 79 | F63: 두류2리 | G63: 106 | H63: 51 | I63: 55 | J63: 67 | K63: 부상1리 | L63: 260 | M63: 142 | N63: 118 | O63: 153 | P63: 서현리 | Q63: 109 | R63: 60 | S63: 49 | T63: 64 | U63: 문성1리 | V63: =SUM(W63:X63) -> 884 | W63: 445 | X63: 439 | Y63: 387 | Z63: 지곡2리 | AA63: 92 | AB63: 48 | AC63: 44 | AD63: 59 | AE63: 신녕면 | AF63: 3699 | AG63: 1838 | AH63: 1861 | AI63: 2356 | AJ63: 화달1리 | AK63: 150 | AL63: 75 | AM63: 75 | AN63: 85 | AO63: 원북1리 | AP63: 105 | AQ63: 44 | AR63: 61 | AS63: 67 | AT63: 선화7리 | AU63: 1341 | AV63: 697 | AW63: 644 | AX63: 511
A64: 우복1리 | B64: 62 | C64: 30 | D64: 32 | E64: 42 | F64: 근계1리 | G64: 102 | H64: 56 | I64: 46 | J64: 55 | K64: 부상2리 | L64: 74 | M64: 33 | N64: 41 | O64: 47 | P64: 도곡리 | Q64: 60 | R64: 33 | S64: 27 | T64: 37 | U64: 문성2리 | V64: =SUM(W64:X64) -> 478 | W64: 242 | X64: 236 | Y64: 223 | Z64: 오운1리 | AA64: 166 | AB64: 89 | AC64: 77 | AD64: 100 | AE64: 치산1리 | AF64: 50 | AG64: 25 | AH64: 25 | AI64: 39 | AJ64: 화달2리 | AK64: 80 | AL64: 44 | AM64: 36 | AN64: 38 | AO64: 원북2리 | AP64: 105 | AQ64: 83 | AR64: 22 | AS64: 35 | AT64: 선화8리 | AU64: 1387 | AV64: 695 | AW64: 692 | AX64: 532
A65: 우복2리 | B65: 49 | C65: 21 | D65: 28 | E65: 25 | F65: 근계2리 | G65: 357 | H65: 181 | I65: 176 | J65: 203 | K65: 오봉1리 | L65: 163 | M65: 93 | N65: 70 | O65: 93 | P65: 가류1리 | Q65: 40 | R65: 23 | S65: 17 | T65: 25 | U65: 문성3리 | V65: =SUM(W65:X65) -> 476 | W65: 238 | X65: 238 | Y65: 233 | Z65: 오운2리 | AA65: 175 | AB65: 85 | AC65: 90 | AD65: 106 | AE65: 치산2리 | AF65: 200 | AG65: 103 | AH65: 97 | AI65: 119 | AJ65: 삼덕리 | AK65: 166 | AL65: 79 | AM65: 87 | AN65: 99 | AO65: 상괴1리 | AP65: 111 | AQ65: 52 | AR65: 59 | AS65: 77 | AT65: 보인1리 | AU65: 180 | AV65: 101 | AW65: 79 | AX65: 103
...

Sheet 1-3. 리별 인구 및 세대현황(군)
A2: 1-3. 리별 인구 및 세대현황(군)_외국인 제외 (2024년 1분기)
A3: (단위 : 세대, 명) | BF3: (단위:명,세대)
A4: 의성군 | F4: 청송군 | K4: 영양군 | P4: 영덕군 | U4: 청도군 | Z4: 고령군 | AE4: 성주군 | AJ4: 칠곡군 | AO4: 예천군 | AT4: 봉화군 | AY4: 울진군 | BD4: 울릉군
A5: 행정구역 | B5: 계 | C5: 남 | D5: 여 | E5: 세대수 | F5: 행정구역 | G5: 계 | H5: 남 | I5: 여 | J5: 세대수 | K5: 행정구역 | L5: 계 | M5: 남 | N5: 여 | O5: 세대수 | P5: 행정구역 | Q5: 계 | R5: 남 | S5: 여 | T5: 세대수 | U5: 행정구역 | V5: 계 | W5: 남 | X5: 여 | Y5: 세대수 | Z5: 행정구역 | AA5: 계 | AB5: 남 | AC5: 여 | AD5: 세대수 | AE5: 행정구역 | AF5: 계 | AG5: 남 | AH5: 여 | AI5: 세대수 | AJ5: 행정구역 | AK5: 계 | AL5: 남 | AM5: 여 | AN5: 세대수 | AO5: 행정구역 | AP5: 계 | AQ5: 남 | AR5: 여 | AS5: 세대수 | AT5: 행정구역 | AU5: 계 | AV5: 남 | AW5: 여 | AX5: 세대수 | AY5: 행정구역 | AZ5: 계 | BA5: 남 | BB5: 여 | BC5: 세대수 | BD5: 행정구역 | BE5: 계 | BF5: 남 | BG5: 여 | BH5: 세대수
A6: 의성읍 | B6: 12565 | C6: 6222 | D6: 6343 | E6: 6746 | F6: 청송읍 | G6: 4948 | H6: 2453 | I6: 2495 | J6: 2661 | K6: 영양읍 | L6: 6777 | M6: 3337 | N6: 3440 | O6: 3707 | P6: 영덕읍 | Q6: 10336 | R6: 5005 | S6: 5331 | T6: 5440 | U6: 화양읍 | V6: 8174 | W6: 4022 | X6: 4152 | Y6: 4171 | Z6: 대가야읍 | AA6: 9578 | AB6: 4849 | AC6: 4729 | AD6: 5147 | AE6: 성주읍 | AF6: 13306 | AG6: 6745 | AH6: 6561 | AI6: 6824 | AJ6: 왜관읍 | AK6: 31165 | AL6: 15670 | AM6: 15495 | AN6: 14892 | AO6: 예천읍 | AP6: 14004 | AQ6: 6889 | AR6: 7115 | AS6: 7325 | AT6: 봉화읍 | AU6: 9275 | AV6: 4584 | AW6: 4691 | AX6: 4797 | AY6: 울진읍 | AZ6: 13575 | BA6: 6867 | BB6: 6708 | BC6: 6277 | BD6: 울릉읍 | BE6: 6397 | BF6: 3575 | BG6: 2822 | BH6: 3967
A7: 후죽1리 | B7: 508 | C7: 239 | D7: 269 | E7: 283 | F7: 월막1리 | G7: 743 | H7: 362 | I7: 381 | J7: 387 | K7: 동부1리 | L7: 1218 | M7: 560 | N7: 658 | O7: 679 | P7: 구미리 | Q7: 111 | R7: 52 | S7: 59 | T7: 66 | U7: 동상리 | V7: 145 | W7: 72 | X7: 73 | Y7: 84 | Z7: 쾌빈1리 | AA7: 275 | AB7: 144 | AC7: 131 | AD7: 163 | AE7: 경산1리 | AF7: 563 | AG7: 279 | AH7: 284 | AI7: 301 | AJ7: 왜관1리 | AK7: 1001 | AL7: 498 | AM7: 503 | AN7: 602 | AO7: 노하리 | AP7: 320 | AQ7: 155 | AR7: 165 | AS7: 179 | AT7: 내성1리 | AU7: 888 | AV7: 419 | AW7: 469 | AX7: 450 | AY7: 읍내1리 | AZ7: 822 | BA7: 402 | BB7: 420 | BC7: 390 | BD7: 도동1리 | BE7: 1097 | BF7: 583 | BG7: 514 | BH7: 670
A8: 후죽2리 | B8: 437 | C8: 210 | D8: 227 | E8: 248 | F8: 월막2리 | G8: 1023 | H8: 490 | I8: 533 | J8: 531 | K8: 동부2리 | L8: 413 | M8: 202 | N8: 211 | O8: 233 | P8: 화개1리 | Q8: 632 | R8: 333 | S8: 299 | T8: 335 | U8: 서상1리 | V8: 349 | W8: 160 | X8: 189 | Y8: 195 | Z8: 쾌빈2리 | AA8: 1858 | AB8: 921 | AC8: 937 | AD8: 776 | AE8: 경산2리 | AF8: 128 | AG8: 65 | AH8: 63 | AI8: 70 | AJ8: 왜관2리 | AK8: 292 | AL8: 158 | AM8: 134 | AN8: 145 | AO8: 노상리 | AP8: 431 | AQ8: 204 | AR8: 227 | AS8: 237 | AT8: 내성2리 | AU8: 379 | AV8: 194 | AW8: 185 | AX8: 217 | AY8: 읍내2리 | AZ8: 1418 | BA8: 718 | BB8: 700 | BC8: 626 | BD8: 도동2리 | BE8: 1508 | BF8: 826 | BG8: 682 | BH8: 892
A9: 후죽3리 | B9: 1168 | C9: 581 | D9: 587 | E9: 577 | F9: 덕리 | G9: 673 | H9: 358 | I9: 315 | J9: 393 | K9: 서부1리 | L9: 869 | M9: 422 | N9: 447 | O9: 473 | P9: 화개2리 | Q9: 391 | R9: 195 | S9: 196 | T9: 177 | U9: 서상2리 | V9: 78 | W9: 38 | X9: 40 | Y9: 39 | Z9: 쾌빈3리 | AA9: 230 | AB9: 130 | AC9: 100 | AD9: 126 | AE9: 경산3리 | AF9: 179 | AG9: 85 | AH9: 94 | AI9: 92 | AJ9: 왜관3리 | AK9: 792 | AL9: 393 | AM9: 399 | AN9: 452 | AO9: 백전1리 | AP9: 562 | AQ9: 256 | AR9: 306 | AS9: 329 | AT9: 내성3리 | AU9: 668 | AV9: 350 | AW9: 318 | AX9: 324 | AY9: 읍내3리 | AZ9: 3579 | BA9: 1798 | BB9: 1781 | BC9: 1647 | BD9: 도동3리 | BE9: 1214 | BF9: 644 | BG9: 570 | BH9: 765
A10: 후죽4리 | B10: 863 | C10: 408 | D10: 455 | E10: 466 | F10: 금곡1리 | G10: 914 | H10: 467 | I10: 447 | J10: 420 | K10: 서부2리 | L10: 1580 | M10: 808 | N10: 772 | O10: 789 | P10: 남석1리 | Q10: 426 | R10: 202 | S10: 224 | T10: 242 | U10: 신봉리 | V10: 169 | W10: 80 | X10: 89 | Y10: 108 | Z10: 쾌빈4리 | AA10: 689 | AB10: 326 | AC10: 363 | AD10: 317 | AE10: 경산4리 | AF10: 816 | AG10: 402 | AH10: 414 | AI10: 360 | AJ10: 왜관4리 | AK10: 363 | AL10: 183 | AM10: 180 | AN10: 191 | AO10: 백전2리 | AP10: 1110 | AQ10: 530 | AR10: 580 | AS10: 560 | AT10: 내성4리 | AU10: 1359 | AV10: 669 | AW10: 690 | AX10: 691 | AY10: 읍내4리 | AZ10: 978 | BA10: 485 | BB10: 493 | BC10: 446 | BD10: 저동1리 | BE10: 1335 | BF10: 736 | BG10: 599 | BH10: 779
A11: 중리1리 | B11: 534 | C11: 266 | D11: 268 | E11: 315 | F11: 금곡2리 | G11: 119 | H11: 62 | I11: 57 | J11: 69 | K11: 서부3리 | L11: 572 | M11: 287 | N11: 285 | O11: 258 | P11: 남석2리 | Q11: 598 | R11: 269 | S11: 329 | T11: 347 | U11: 교촌리 | V11: 145 | W11: 80 | X11: 65 | Y11: 85 | Z11: 고아1리 | AA11: 794 | AB11: 374 | AC11: 420 | AD11: 430 | AE11: 경산5리 | AF11: 802 | AG11: 365 | AH11: 437 | AI11: 396 | AJ11: 왜관5리 | AK11: 766 | AL11: 368 | AM11: 398 | AN11: 393 | AO11: 동본1리 | AP11: 1443 | AQ11: 683 | AR11: 760 | AS11: 739 | AT11: 내성5리 | AU11: 1987 | AV11: 925 | AW11: 1062 | AX11: 842 | AY11: 읍내5리 | AZ11: 2058 | BA11: 1047 | BB11: 1011 | BC11: 868 | BD11: 저동2리 | BE11: 224 | BF11: 114 | BG11: 110 | BH11: 136
A12: 중리2리 | B12: 1936 | C12: 956 | D12: 980 | E12: 848 | F12: 금곡3리 | G12: 120 | H12: 54 | I12: 66 | J12: 69 | K12: 서부4리 | L12: 343 | M12: 166 | N12: 177 | O12: 190 | P12: 남석3리 | Q12: 964 | R12: 452 | S12: 512 | T12: 523 | U12: 동천리 | V12: 403 | W12: 217 | X12: 186 | Y12: 211 | Z12: 고아2리 | AA12: 141 | AB12: 69 | AC12: 72 | AD12: 84 | AE12: 경산6리 | AF12: 271 | AG12: 139 | AH12: 132 | AI12: 146 | AJ12: 왜관6리 | AK12: 447 | AL12: 221 | AM12: 226 | AN12: 240 | AO12: 동본2리 | AP12: 224 | AQ12: 114 | AR12: 110 | AS12: 124 | AT12: 삼계1리 | AU12: 437 | AV12: 211 | AW12: 226 | AX12: 233 | AY12: 읍남1리 | AZ12: 237 | BA12: 122 | BB12: 115 | BC12: 118 | BD12: 저동3리 | BE12: 60 | BF12: 34 | BG12: 26 | BH12: 39
A13: 중리3리 | B13: 149 | C13: 72 | D13: 77 | E13: 81 | F13: 청운리 | G13: 385 | H13: 181 | I13: 204 | J13: 221 | K13: 황용리 | L13: 50 | M13: 22 | N13: 28 | O13: 25 | P13: 덕곡1리 | Q13: 770 | R13: 376 | S13: 394 | T13: 392 | U13: 합천1리 | V13: 144 | W13: 72 | X13: 72 | Y13: 82 | Z13: 헌문리 | AA13: 427 | AB13: 210 | AC13: 217 | AD13: 271 | AE13: 경산7리 | AF13: 410 | AG13: 202 | AH13: 208 | AI13: 229 | AJ13: 왜관7리 | AK13: 851 | AL13: 461 | AM13: 390 | AN13: 492 | AO13: 남본1리 | AP13: 797 | AQ13: 380 | AR13: 417 | AS13: 403 | AT13: 삼계2리 | AU13: 86 | AV13: 41 | AW13: 45 | AX13: 45 | AY13: 읍남2리 | AZ13: 155 | BA13: 91 | BB13: 64 | BC13: 68 | BD13: 사동1리 | BE13: 481 | BF13: 323 | BG13: 158 | BH13: 343
A14: 상리1리 | B14: 2250 | C14: 1076 | D14: 1174 | E14: 1168 | F14: 송생리 | G14: 176 | H14: 86 | I14: 90 | J14: 111 | K14: 현1리 | L14: 127 | M14: 56 | N14: 71 | O14: 71 | P14: 덕곡2리 | Q14: 876 | R14: 434 | S14: 442 | T14: 409 | U14: 합천2리 | V14: 192 | W14: 101 | X14: 91 | Y14: 109 | Z14: 장기리 | AA14: 466 | AB14: 261 | AC14: 205 | AD14: 249 | AE14: 경산8리 | AF14: 500 | AG14: 237 | AH14: 263 | AI14: 279 | AJ14: 왜관8리 | AK14: 810 | AL14: 527 | AM14: 283 | AN14: 617 | AO14: 남본2리 | AP14: 1641 | AQ14: 808 | AR14: 833 | AS14: 760 | AT14: 유곡1리 | AU14: 125 | AV14: 60 | AW14: 65 | AX14: 81 | AY14: 읍남3리 | AZ14: 85 | BA14: 35 | BB14: 50 | BC14: 46 | BD14: 사동2리 | BE14: 137 | BF14: 81 | BG14: 56 | BH14: 91
A15: 상리2리 | B15: 87 | C15: 47 | D15: 40 | E15: 55 | F15: 교리 | G15: 114 | H15: 56 | I15: 58 | J15: 72 | K15: 현2리 | L15: 109 | M15: 54 | N15: 55 | O15: 73 | P15: 천전리 | Q15: 180 | R15: 82 | S15: 98 | T15: 96 | U15: 범곡1리 | V15: 1183 | W15: 562 | X15: 621 | Y15: 613 | Z15: 연조1리 | AA15: 555 | AB15: 273 | AC15: 282 | AD15: 272 | AE15: 대흥1리 | AF15: 121 | AG15: 60 | AH15: 61 | AI15: 64 | AJ15: 왜관9리 | AK15: 719 | AL15: 363 | AM15: 356 | AN15: 390 | AO15: 서본1리 | AP15: 421 | AQ15: 218 | AR15: 203 | AS15: 242 | AT15: 유곡2리 | AU15: 109 | AV15: 62 | AW15: 47 | AX15: 62 | AY15: 읍남4리 | AZ15: 194 | BA15: 104 | BB15: 90 | BC15: 106 | BD15: 사동3리 | BE15: 302 | BF15: 196 | BG15: 106 | BH15: 213
A16: 도동1리 | B16: 587 | C16: 290 | D16: 297 | E16: 356 | F16: 거대리 | G16: 127 | H16: 62 | I16: 65 | J16: 88 | K16: 현3리 | L16: 71 | M16: 43 | N16: 28 | O16: 47 | P16: 남산1리 | Q16: 194 | R16: 103 | S16: 91 | T16: 99 | U16: 범곡2리 | V16: 2251 | W16: 1078 | X16: 1173 | Y16: 934 | Z16: 연조2리 | AA16: 319 | AB16: 160 | AC16: 159 | AD16: 175 | AE16: 대흥2리 | AF16: 145 | AG16: 73 | AH16: 72 | AI16: 74 | AJ16: 왜관10리 | AK16: 758 | AL16: 428 | AM16: 330 | AN16: 426 | AO16: 서본2리 | AP16: 699 | AQ16: 358 | AR16: 341 | AS16: 368 | AT16: 유곡3리 | AU16: 199 | AV16: 100 | AW16: 99 | AX16: 116 | AY16: 연지1리 | AZ16: 361 | BA16: 176 | BB16: 185 | BC16: 173 | BD16: 독도리 | BE16: 39 | BF16: 38 | BG16: 1 | BH16: 39
A17: 도동2리 | B17: 771 | C17: 374 | D17: 397 | E17: 416 | F17: 월외1리 | G17: 83 | H17: 41 | I17: 42 | J17: 50 | K17: 전곡리 | L17: 14 | M17: 8 | N17: 6 | O17: 10 | P17: 남산2리 | Q17: 53 | R17: 27 | S17: 26 | T17: 34 | U17: 송북리 | V17: 297 | W17: 146 | X17: 151 | Y17: 135 | Z17: 연조3리 | AA17: 595 | AB17: 265 | AC17: 330 | AD17: 290 | AE17: 대흥3리 | AF17: 133 | AG17: 66 | AH17: 67 | AI17: 71 | AJ17: 왜관11리 | AK17: 222 | AL17: 116 | AM17: 106 | AN17: 113 | AO17: 대심1리 | AP17: 1561 | AQ17: 785 | AR17: 776 | AS17: 781 | AT17: 거촌1리 | AU17: 42 | AV17: 22 | AW17: 20 | AX17: 27 | AY17: 연지2리 | AZ17: 871 | BA17: 445 | BB17: 426 | BC17: 392 | BD17: 서면 | BE17: 1362 | BF17: 762 | BG17: 600 | BH17: 805
... A33: 원당2리 | B33: 113 | C33: 55 | D33: 58 | E33: 71 | F33: 항리 | G33: 55 | H33: 28 | I33: 27 | J33: 43 | K33: 무창3리 | L33: 43 | M33: 21 | N33: 22 | O33: 34 | P33: 화천3리 | Q33: 54 | R33: 25 | S33: 29 | T33: 33 | U33: 청도읍 | V33: 11369 | W33: 5598 | X33: 5771 | Y33: 6055 | Z33: 덕곡면 | AA33: 1458 | AB33: 746 | AC33: 712 | AD33: 920 | AE33: 금산3리 | AF33: 186 | AG33: 100 | AH33: 86 | AI33: 94 | AJ33: 석전3리 | AK33: 2001 | AL33: 984 | AM33: 1017 | AN33: 943 | AO33: 생천리 | AP33: 281 | AQ33: 138 | AR33: 143 | AS33: 141 | AT33: 물야면 | AU33: 2863 | AV33: 1481 | AW33: 1382 | AX33: 1683 | AY33: 대흥리 | AZ33: 89 | BA33: 51 | BB33: 38 | BC33: 66 | BD33: 현포2리 | BE33: 122 | BF33: 66 | BG33: 56 | BH33: 77
A34: 원당3리 | B34: 167 | C34: 114 | D34: 53 | E34: 88 | F34: 부남면 | G34: 2364 | H34: 1173 | I34: 1191 | J34: 1412 | K34: 양구리 | L34: 42 | M34: 25 | N34: 17 | O34: 25 | P34: 강구면 | Q34: 5729 | R34: 2705 | S34: 3024 | T34: 3363 | U34: 고수1리 | V34: 1388 | W34: 670 | X34: 718 | Y34: 635 | Z34: 가륜1리 | AA34: 87 | AB34: 47 | AC34: 40 | AD34: 46 | AE34: 예산1리 | AF34: 411 | AG34: 220 | AH34: 191 | AI34: 233 | AJ34: 석전4리 | AK34: 676 | AL34: 341 | AM34: 335 | AN34: 423 | AO34: 용산1리 | AP34: 38 | AQ34: 21 | AR34: 17 | AS34: 27 | AT34: 오록1리 | AU34: 94 | AV34: 52 | AW34: 42 | AX34: 67 | AY34: 평해읍 | AZ34: 2510 | BA34: 1204 | BB34: 1306 | BC34: 1569
A35: 철파리 | B35: 360 | C35: 186 | D35: 174 | E35: 241 | F35: 감연1리 | G35: 143 | H35: 62 | I35: 81 | J35: 87 | K35: 기산리 | L35: 53 | M35: 25 | N35: 28 | O35: 33 | P35: 강구1리 | Q35: 270 | R35: 130 | S35: 140 | T35: 145 | U35: 고수2리 | V35: 450 | W35: 217 | X35: 233 | Y35: 235 | Z35: 가륜2리 | AA35: 126 | AB35: 69 | AC35: 57 | AD35: 71 | AE35: 예산2리 | AF35: 255 | AG35: 138 | AH35: 117 | AI35: 136 | AJ35: 석전5리 | AK35: 535 | AL35: 252 | AM35: 283 | AN35: 264 | AO35: 용산2리 | AP35: 59 | AQ35: 29 | AR35: 30 | AS35: 34 | AT35: 오록2리 | AU35: 263 | AV35: 123 | AW35: 140 | AX35: 160 | AY35: 평해1리 | AZ35: 315 | BA35: 142 | BB35: 173 | BC35: 189
A36: 업1리 | B36: 147 | C36: 76 | D36: 71 | E36: 87 | F36: 감연2리 | G36: 130 | H36: 58 | I36: 72 | J36: 77 | K36: 입암면 | L36: 2018 | M36: 997 | N36: 1021 | O36: 1225 | P36: 강구2리 | Q36: 184 | R36: 89 | S36: 95 | T36: 114 | U36: 고수3리 | V36: 755 | W36: 337 | X36: 418 | Y36: 390 | Z36: 원송리 | AA36: 114 | AB36: 53 | AC36: 61 | AD36: 81 | AE36: 예산3리 | AF36: 440 | AG36: 225 | AH36: 215 | AI36: 254 | AJ36: 석전6리 | AK36: 398 | AL36: 201 | AM36: 197 | AN36: 186 | AO36: 용문면 | AP36: 2129 | AQ36: 1084 | AR36: 1045 | AS36: 1315 | AT36: 오록3리 | AU36: 98 | AV36: 45 | AW36: 53 | AX36: 52 | AY36: 평해2리 | AZ36: 231 | BA36: 129 | BB36: 102 | BC36: 137
A37: 업2리 | B37: 69 | C37: 35 | D37: 34 | E37: 43 | F37: 감연3리 | G37: 77 | H37: 42 | I37: 35 | J37: 47 | K37: 신구1리 | L37: 324 | M37: 146 | N37: 178 | O37: 176 | P37: 강구3리 | Q37: 72 | R37: 36 | S37: 36 | T37: 47 | U37: 고수4리 | V37: 614 | W37: 352 | X37: 262 | Y37: 310 | Z37: 노1리 | AA37: 89 | AB37: 40 | AC37: 49 | AD37: 65 | AE37: 예산4리 | AF37: 824 | AG37: 401 | AH37: 423 | AI37: 371 | AJ37: 석전7리 | AK37: 483 | AL37: 234 | AM37: 249 | AN37: 193 | AO37: 상금곡1리 | AP37: 110 | AQ37: 48 | AR37: 62 | AS37: 65 | AT37: 오록4리 | AU37: 71 | AV37: 37 | AW37: 34 | AX37: 35 | AY37: 평해3리 | AZ37: 270 | BA37: 132 | BB37: 138 | BC37: 161
A38: 단촌면 | B38: 1889 | C38: 939 | D38: 950 | E38: 1167 | F38: 대전1리 | G38: 346 | H38: 162 | I38: 184 | J38: 208 | K38: 신구2리 | L38: 136 | M38: 61 | N38: 75 | O38: 81 | P38: 강구4리 | Q38: 226 | R38: 102 | S38: 124 | T38: 134 | U38: 고수5리 | V38: 570 | W38: 257 | X38: 313 | Y38: 296 | Z38: 노2리 | AA38: 58 | AB38: 36 | AC38: 22 | AD38: 39 | AE38: 백전1리 | AF38: 175 | AG38: 101 | AH38: 74 | AI38: 91 | AJ38: 석전8리 | AK38: 1124 | AL38: 549 | AM38: 575 | AN38: 485 | AO38: 상금곡2리 | AP38: 229 | AQ38: 110 | AR38: 119 | AS38: 130 | AT38: 가평1리 | AU38: 183 | AV38: 94 | AW38: 89 | AX38: 108 | AY38: 학곡1리 | AZ38: 74 | BA38: 35 | BB38: 39 | BC38: 48
A39: 방하리 | B39: 176 | C39: 90 | D39: 86 | E39: 115 | F39: 대전2리 | G39: 190 | H39: 101 | I39: 89 | J39: 110 | K39: 양항리 | L39: 59 | M39: 31 | N39: 28 | O39: 41 | P39: 오포1리 | Q39: 725 | R39: 339 | S39: 386 | T39: 424 | U39: 고수6리 | V39: 1130 | W39: 537 | X39: 593 | Y39: 591 | Z39: 백1리 | AA39: 62 | AB39: 36 | AC39: 26 | AD39: 46 | AE39: 백전2리 | AF39: 2399 | AG39: 1201 | AH39: 1198 | AI39: 957 | AJ39: 석전9리 | AK39: 235 | AL39: 115 | AM39: 120 | AN39: 112 | AO39: 상금곡3리 | AP39: 140 | AQ39: 70 | AR39: 70 | AS39: 78 | AT39: 가평2리 | AU39: 77 | AV39: 38 | AW39: 39 | AX39: 45 | AY39: 학곡2리 | AZ39: 112 | BA39: 58 | BB39: 54 | BC39: 71
A40: 장림리 | B40: 153 | C40: 76 | D40: 77 | E40: 103 | F40: 대전3리 | G40: 76 | H40: 36 | I40: 40 | J40: 46 | K40: 연당1리 | L40: 49 | M40: 25 | N40: 24 | O40: 38 | P40: 오포2리 | Q40: 1107 | R40: 511 | S40: 596 | T40: 615 | U40: 고수7리 | V40: 678 | W40: 314 | X40: 364 | Y40: 350 | Z40: 백2리 | AA40: 57 | AB40: 31 | AC40: 26 | AD40: 38 | AE40: 용산1리 | AF40: 263 | AG40: 133 | AH40: 130 | AI40: 137 | AJ40: 석전10리 | AK40: 837 | AL40: 416 | AM40: 421 | AN40: 490 | AO40: 상금곡4리 | AP40: 122 | AQ40: 65 | AR40: 57 | AS40: 67 | AT40: 개단1리 | AU40: 147 | AV40: 86 | AW40: 61 | AX40: 73 | AY40: 삼달1리 | AZ40: 109 | BA40: 44 | BB40: 65 | BC40: 69
A41: 세촌1리 | B41: 195 | C41: 99 | D41: 96 | E41: 115 | F41: 홍원1리 | G41: 96 | H41: 51 | I41: 45 | J41: 58 | K41: 연당2리 | L41: 67 | M41: 36 | N41: 31 | O41: 42 | P41: 오포3리 | Q41: 622 | R41: 281 | S41: 341 | T41: 374 | U41: 고수8리 | V41: 913 | W41: 453 | X41: 460 | Y41: 469 | Z41: 옥계리 | AA41: 135 | AB41: 61 | AC41: 74 | AD41: 83 | AE41: 용산2리 | AF41: 134 | AG41: 65 | AH41: 69 | AI41: 66 | AJ41: 석전11리 | AK41: 695 | AL41: 342 | AM41: 353 | AN41: 273 | AO41: 하금곡1리 | AP41: 74 | AQ41: 42 | AR41: 32 | AS41: 44 | AT41: 개단2리 | AU41: 108 | AV41: 52 | AW41: 56 | AX41: 68 | AY41: 삼달2리 | AZ41: 75 | BA41: 36 | BB41: 39 | BC41: 44
A42: 세촌2리 | B42: 113 | C42: 49 | D42: 64 | E42: 71 | F42: 홍원2리 | G42: 82 | H42: 40 | I42: 42 | J42: 49 | K42: 금학리 | L42: 66 | M42: 34 | N42: 32 | O42: 43 | P42: 삼사리 | Q42: 604 | R42: 293 | S42: 311 | T42: 371 | U42: 송읍리 | V42: 208 | W42: 106 | X42: 102 | Y42: 126 | Z42: 용흥리 | AA42: 101 | AB42: 56 | AC42: 45 | AD42: 66 | AE42: 선남면 | AF42: 6000 | AG42: 3292 | AH42: 2708 | AI42: 3581 | AJ42: 매원1리 | AK42: 178 | AL42: 96 | AM42: 82 | AN42: 88 | AO42: 하금곡2리 | AP42: 69 | AQ42: 36 | AR42: 33 | AS42: 37 | AT42: 개단3리 | AU42: 154 | AV42: 83 | AW42: 71 | AX42: 86 | AY42: 오곡1리 | AZ42: 85 | BA42: 42 | BB42: 43 | BC42: 51
A43: 하화1리 | B43: 126 | C43: 64 | D43: 62 | E43: 80 | F43: 하속1리 | G43: 88 | H43: 49 | I43: 39 | J43: 60 | K43: 대천리 | L43: 120 | M43: 66 | N43: 54 | O43: 73 | P43: 화전1리 | Q43: 338 | R43: 170 | S43: 168 | T43: 174 | U43: 무등리 | V43: 223 | W43: 111 | X43: 112 | Y43: 127 | Z43: 본리1리 | AA43: 111 | AB43: 55 | AC43: 56 | AD43: 67 | AE43: 용신1리 | AF43: 263 | AG43: 135 | AH43: 128 | AI43: 132 | AJ43: 매원2리 | AK43: 242 | AL43: 133 | AM43: 109 | AN43: 118 | AO43: 성현리 | AP43: 106 | AQ43: 52 | AR43: 54 | AS43: 71 | AT43: 개단4리 | AU43: 150 | AV43: 80 | AW43: 70 | AX43: 84 | AY43: 오곡2리 | AZ43: 98 | BA43: 49 | BB43: 49 | BC43: 61
A44: 하화2리 | B44: 252 | C44: 123 | D44: 129 | E44: 152 | F44: 하속2리 | G44: 64 | H44: 36 | I44: 28 | J44: 39 | K44: 신사1리 | L44: 78 | M44: 40 | N44: 38 | O44: 46 | P44: 화전2리 | Q44: 44 | R44: 18 | S44: 26 | T44: 33 | U44: 덕암1리 | V44: 161 | W44: 78 | X44: 83 | Y44: 91 | Z44: 본리2리 | AA44: 65 | AB44: 33 | AC44: 32 | AD44: 40 | AE44: 용신2리 | AF44: 214 | AG44: 115 | AH44: 99 | AI44: 132 | AJ44: 매원3리 | AK44: 48 | AL44: 24 | AM44: 24 | AN44: 27 | AO44: 덕신리 | AP44: 91 | AQ44: 48 | AR44: 43 | AS44: 56 | AT44: 개단5리 | AU44: 56 | AV44: 34 | AW44: 22 | AX44: 35 | AY44: 월송1리 | AZ44: 239 | BA44: 115 | BB44: 124 | BC44: 158
A45: 상화1리 | B45: 57 | C45: 27 | D45: 30 | E45: 37 | F45: 구천리 | G45: 248 | H45: 124 | I45: 124 | J45: 141 | K45: 신사2리 | L45: 115 | M45: 57 | N45: 58 | O45: 69 | P45: 상직1리 | Q45: 27 | R45: 16 | S45: 11 | T45: 17 | U45: 덕암2리 | V45: 98 | W45: 43 | X45: 55 | Y45: 63 | Z45: 예리 | AA45: 182 | AB45: 95 | AC45: 87 | AD45: 103 | AE45: 용신3리 | AF45: 70 | AG45: 38 | AH45: 32 | AI45: 45 | AJ45: 봉계리 | AK45: 136 | AL45: 72 | AM45: 64 | AN45: 84 | AO45: 방송리 | AP45: 61 | AQ45: 31 | AR45: 30 | AS45: 45 | AT45: 오전1리 | AU45: 165 | AV45: 91 | AW45: 74 | AX45: 91 | AY45: 월송2리 | AZ45: 69 | BA45: 29 | BB45: 40 | BC45: 46
... A79: 감계2리 | B79: 57 | C79: 30 | D79: 27 | E79: 38 | F79: 화목2리 | G79: 103 | H79: 56 | I79: 47 | J79: 66 | K79: 주곡2리 | L79: 39 | M79: 24 | N79: 15 | O79: 22 | P79: 부흥3리 | Q79: 32 | R79: 15 | S79: 17 | T79: 20 | U79: 예리2리 | V79: 82 | W79: 40 | X79: 42 | Y79: 52 | Z79: 고탄리 | AA79: 181 | AB79: 107 | AC79: 74 | AD79: 112 | AE79: 상언1리 | AF79: 202 | AG79: 102 | AH79: 100 | AI79: 124 | AJ79: 인평8리 | AK79: 899 | AL79: 479 | AM79: 420 | AN79: 327 | AO79: 탑2리 | AP79: 42 | AQ79: 21 | AR79: 21 | AS79: 28 | AT79: 소천2리 | AU79: 129 | AV79: 66 | AW79: 63 | AX79: 87 | AY79: 고목3리 | AZ79: 59 | BA79: 32 | BB79: 27 | BC79: 41
A80: 실업1리 | B80: 138 | C80: 69 | D80: 69 | E80: 87 | F80: 덕계리 | G80: 160 | H80: 80 | I80: 80 | J80: 95 | K80: 가곡리 | L80: 126 | M80: 64 | N80: 62 | O80: 71 | P80: 달산면 | Q80: 1066 | R80: 501 | S80: 565 | T80: 710 | U80: 예리3리 | V80: 136 | W80: 64 | X80: 72 | Y80: 76 | Z80: 기족리 | AA80: 250 | AB80: 137 | AC80: 113 | AD80: 152 | AE80: 상언2리 | AF80: 156 | AG80: 86 | AH80: 70 | AI80: 99 | AJ80: 인평9리 | AK80: 639 | AL80: 318 | AM80: 321 | AN80: 244 | AO80: 동사리 | AP80: 89 | AQ80: 42 | AR80: 47 | AS80: 46 | AT80: 눌산1리 | AU80: 175 | AV80: 97 | AW80: 78 | AX80: 98 | AY80: 덕천리 | AZ80: 0
A81: 실업2리 | B81: 62 | C81: 32 | D81: 30 | E81: 34 | F81: 두현1리 | G81: 156 | H81: 77 | I81: 79 | J81: 93 | K81: 도곡리 | L81: 155 | M81: 74 | N81: 81 | O81: 88 | P81: 대지1리 | Q81: 87 | R81: 43 | S81: 44 | T81: 55 | U81: 신당1리 | V81: 115 | W81: 63 | X81: 52 | Y81: 69 | Z81: 기산리 | AA81: 178 | AB81: 103 | AC81: 75 | AD81: 111 | AE81: 용정1리 | AF81: 180 | AG81: 101 | AH81: 79 | AI81: 114 | AJ81: 인평10리 | AK81: 383 | AL81: 194 | AM81: 189 | AN81: 148 | AO81: 은산1리 | AP81: 89 | AQ81: 50 | AR81: 39 | AS81: 52 | AT81: 눌산2리 | AU81: 108 | AV81: 56 | AW81: 52 | AX81: 71 | AY81: 근남면 | AZ81: 2698 | BA81: 1374 | BB81: 1324 | BC81: 1556
A82: 오류리 | B82: 85 | C82: 44 | D82: 41 | E82: 56 | F82: 두현2리 | G82: 89 | H82: 47 | I82: 42 | J82: 58 | K82: 오리리 | L82: 147 | M82: 83 | N82: 64 | O82: 98 | P82: 대지2리 | Q82: 75 | R82: 31 | S82: 44 | T82: 53 | U82: 신당2리 | V82: 75 | W82: 35 | X82: 40 | Y82: 46 | Z82: 사부1리 | AA82: 88 | AB82: 45 | AC82: 43 | AD82: 55 | AE82: 용정2리 | AF82: 104 | AG82: 66 | AH82: 38 | AI82: 74 | AJ82: 인평11리 | AK82: 275 | AL82: 130 | AM82: 145 | AN82: 153 | AO82: 은산2리 | AP82: 57 | AQ82: 32 | AR82: 25 | AS82: 35 | AT82: 어지1리 | AU82: 80 | AV82: 37 | AW82: 43 | AX82: 53 | AY82: 노음1리 | AZ82: 488 | BA82: 254 | BB82: 234 | BC82: 250
A83: 금봉리 | B83: 45 | C83: 26 | D83: 19 | E83: 25 | F83: 안덕면 | G83: 2486 | H83: 1239 | I83: 1247 | J83: 1545 | K83: 용화1리 | L83: 130 | M83: 73 | N83: 57 | O83: 67 | P83: 용평리 | Q83: 31 | R83: 15 | S83: 16 | T83: 24 | U83: 녹명1리 | V83: 117 | W83: 57 | X83: 60 | Y83: 70 | Z83: 사부2리 | AA83: 114 | AB83: 61 | AC83: 53 | AD83: 75 | AE83: 선송리 | AF83: 119 | AG83: 60 | AH83: 59 | AI83: 79 | AJ83: 인평12리 | AK83: 701 | AL83: 389 | AM83: 312 | AN83: 422 | AO83: 송월리 | AP83: 101 | AQ83: 48 | AR83: 53 | AS83: 59 | AT83: 어지2리 | AU83: 145 | AV83: 76 | AW83: 69 | AX83: 81 | AY83: 노음2리 | AZ83: 180 | BA83: 89 | BB83: 91 | BC83: 97
A84: 금학리 | B84: 70 | C84: 36 | D84: 34 | E84: 41 | F84: 명당1리 | G84: 264 | H84: 119 | I84: 145 | J84: 159 | K84: 용화2리 | L84: 59 | M84: 28 | N84: 31 | O84: 34 | P84: 매일1리 | Q84: 56 | R84: 28 | S84: 28 | T84: 38 | U84: 녹명2리 | V84: 108 | W84: 57 | X84: 51 | Y84: 73 | Z84: 다산면 | AA84: 8060 | AB84: 4166 | AC84: 3894 | AD84: 4239 | AE84: 용계리 | AF84: 90 | AG84: 52 | AH84: 38 | AI84: 53 | AJ84: 인평13리 | AK84: 865 | AL84: 539 | AM84: 326 | AN84: 553 | AO84: 금곡1리 | AP84: 89 | AQ84: 45 | AR84: 44 | AS84: 52 | AT84: 소지리 | AU84: 166 | AV84: 84 | AW84: 82 | AX84: 90 | AY84: 노음3리 | AZ84: 177 | BA84: 94 | BB84: 83 | BC84: 99
A85: 전흥1리 | B85: 119 | C85: 57 | D85: 62 | E85: 77 | F85: 명당2리 | G85: 213 | H85: 108 | I85: 105 | J85: 109 | K85: 문암리 | L85: 98 | M85: 46 | N85: 52 | O85: 68 | P85: 매일2리 | Q85: 47 | R85: 19 | S85: 28 | T85: 31 | U85: 사1리 | V85: 134 | W85: 61 | X85: 73 | Y85: 87 | Z85: 평리리 | AA85: 793 | AB85: 406 | AC85: 387 | AD85: 400 | AE85: 사곡리 | AF85: 162 | AG85: 97 | AH85: 65 | AI85: 105 | AJ85: 인평14리 | AK85: 983 | AL85: 516 | AM85: 467 | AN85: 502 | AO85: 금곡2리 | AP85: 82 | AQ85: 44 | AR85: 38 | AS85: 44 | AT85: 춘양면 | AU85: 4234 | AV85: 2124 | AW85: 2110 | AX85: 2518 | AY85: 수산리 | AZ85: 312 | BA85: 164 | BB85: 148 | BC85: 170
