Workbook
Name D_불명: OFFSET(#REF!,0,0,COUNTA(#REF!),6)
Name D_불명: OFFSET(#REF!,0,0,COUNTA(#REF!),6)
Name D_불명: OFFSET(#REF!,0,0,COUNTA(#REF!),6)
Name D_불명: OFFSET(#REF!,0,0,COUNTA(#REF!),6)
Name D_불명: OFFSET(#REF!,0,0,COUNTA(#REF!),6)
Name D_불명: OFFSET(#REF!,0,0,COUNTA(#REF!),6)
Name D_세대수: OFFSET(#REF!,0,0,COUNTA(#REF!),6)
Name D_세대수: OFFSET(#REF!,0,0,COUNTA(#REF!),6)
Name D_세대수: OFFSET(#REF!,0,0,COUNTA(#REF!),6)
Name D_세대수: OFFSET(#REF!,0,0,COUNTA(#REF!),6)
Name D_세대수: OFFSET(#REF!,0,0,COUNTA(#REF!),6)
Name D_세대수: OFFSET(#REF!,0,0,COUNTA(#REF!),6)
Name D_연령: OFFSET(#REF!,0,0,COUNTA(#REF!),9)
Name D_연령: OFFSET(#REF!,0,0,COUNTA(#REF!),9)
Name D_연령: OFFSET(#REF!,0,0,COUNTA(#REF!),9)
Name D_연령: OFFSET(#REF!,0,0,COUNTA(#REF!),9)
Name D_연령: OFFSET(#REF!,0,0,COUNTA(#REF!),9)
Name D_연령: OFFSET(#REF!,0,0,COUNTA(#REF!),9)
Name D_외국인: OFFSET(#REF!,0,0,COUNTA(#REF!),6)
Name D_외국인: OFFSET(#REF!,0,0,COUNTA(#REF!),6)
Name D_외국인: OFFSET(#REF!,0,0,COUNTA(#REF!),6)
Name D_외국인: OFFSET(#REF!,0,0,COUNTA(#REF!),6)
Name D_외국인: OFFSET(#REF!,0,0,COUNTA(#REF!),6)
Name D_외국인: OFFSET(#REF!,0,0,COUNTA(#REF!),6)
Name D_외국인_상세: OFFSET(#REF!,0,0,COUNTA(#REF!),8)
Name D_외국인_상세: OFFSET(#REF!,0,0,COUNTA(#REF!),8)
Name D_외국인_상세: OFFSET(#REF!,0,0,COUNTA(#REF!),8)
Name D_외국인_상세: OFFSET(#REF!,0,0,COUNTA(#REF!),8)
Name D_외국인_상세: OFFSET(#REF!,0,0,COUNTA(#REF!),8)
Name D_외국인_상세: OFFSET(#REF!,0,0,COUNTA(#REF!),8)
Name DATA_국적별외국인: #REF!
Name DATA_국적별외국인: #REF!
Name DATA_국적별외국인: #REF!
Name DATA_국적별외국인: #REF!
Name DATA_국적별외국인: '3-1. 국적별 외국인 현황'!$A$6:$BR$62
Name DATA_국적별외국인: #REF!
Name DATA_세대인구총괄: '1-2. 읍면동별 인구 및 세대현황'!$A$6:$L$191
Name DATA_세대인구총괄: '1-2. 읍면동별 인구 및 세대현황'!$A$6:$L$191
Name DATA_세대인구총괄: '1-2. 읍면동별 인구 및 세대현황'!$A$6:$L$191
Name DATA_세대인구총괄: '1-2. 읍면동별 인구 및 세대현황'!$A$6:$L$191
Name DATA_세대인구총괄: #REF!
Name DATA_체류자격: #REF!
Name DATA_체류자격: #REF!
Name DATA_체류자격: #REF!
Name DATA_체류자격: #REF!
Name DATA_체류자격: #REF!
Name DATA_체류자격: #REF!
Name DATA1: OFFSET([1]D1!$A$1,0,0,COUNTA([1]D1!$A:$A),9)
Name DATA1: OFFSET([1]D1!$A$1,0,0,COUNTA([1]D1!$A:$A),9)
Name DATA1: OFFSET([1]D1!$A$1,0,0,COUNTA([1]D1!$A:$A),9)
Name DATA1: OFFSET([1]D1!$A$1,0,0,COUNTA([1]D1!$A:$A),9)
Name DATA1: OFFSET([1]D1!$A$1,0,0,COUNTA([1]D1!$A:$A),9)
Name DATA1: OFFSET([1]D1!$A$1,0,0,COUNTA([1]D1!$A:$A),9)
Name DATA2: OFFSET([1]D2!$A$1,0,0,COUNTA([1]D2!$A:$A),13)
Name DATA2: OFFSET([1]D2!$A$1,0,0,COUNTA([1]D2!$A:$A),13)
Name DATA2: OFFSET([1]D2!$A$1,0,0,COUNTA([1]D2!$A:$A),13)
Name DATA2: OFFSET([1]D2!$A$1,0,0,COUNTA([1]D2!$A:$A),13)
Name DATA2: OFFSET([1]D2!$A$1,0,0,COUNTA([1]D2!$A:$A),13)
Name DATA2: OFFSET([1]D2!$A$1,0,0,COUNTA([1]D2!$A:$A),13)
Name DATA3: OFFSET([1]D3!$A$1,0,0,COUNTA([1]D3!$A:$A),9)

Sheet 1-1. 시군별 인구 및 세대현황
A2: 1-1. 시군별 인구 및 세대현황
I3: (단위 : 세대, 명)
A4: 연도(분기) | B4: 세대수 | C4: 총계 | F4: 내국인 | I4: 외국인
C5: 총계 | D5: 남 | E5: 여 | F5: 소계 | G5: 남 | H5: 여 | I5: 소계 | J5: 남 | K5: 여
A6: 2013년 | B6: 1139387 | C6: 2742939 | D6: 1382922 | E6: 1360017 | F6: 2699440 | G6: 1355951 | H6: 1343489 | I6: 43499 | J6: 26971 | K6: 16528
A7: 2014년 | B7: 1153559 | C7: 2748599 | D7: 1386564 | E7: 1362035 | F7: 2700794 | G7: 1356182 | H7: 1344612 | I7: 47805 | J7: 30382 | K7: 17423
A8: 2015년 | B8: 1169648 | C8: 2752591 | D8: 1388885 | E8: 1363706 | F8: 2702826 | G8: 1357306 | H8: 1345520 | I8: 49765 | J8: 31579 | K8: 18186
A9: 2016년 | B9: 1180643 | C9: 2751749 | D9: 1389260 | E9: 1362489 | F9: 2700398 | G9: 1356868 | H9: 1343530 | I9: 51351 | J9: 32392 | K9: 18959
A10: 2017년 | B10: 1193261 | C10: 2745070 | D10: 1386747 | E10: 1358323 | F10: 2691706 | G10: 1353164 | H10: 1338542 | I10: 53364 | J10: 33583 | K10: 19781
A11: 2018년 | B11: 1207351 | C11: 2733800 | D11: 1382582 | E11: 1351218 | F11: 2676831 | G11: 1346689 | H11: 1330142 | I11: 56969 | J11: 35893 | K11: 21076
A12: 2019년 | B12: 1227548 | C12: 2723955 | D12: 1378492 | E12: 1345463 | F12: 2665836 | G12: 1342037 | H12: 1323799 | I12: 58119 | J12: 36455 | K12: 21664
A13: 2020년 | B13: 1254662 | C13: 2691891 | D13: 1361907 | E13: 1329984 | F13: 2639422 | G13: 1329211 | H13: 1310211 | I13: 52469 | J13: 32696 | K13: 19773
A14: 2021년 | B14: 1276846 | C14: 2677709 | D14: 1355128 | E14: 1322581 | F14: 2626609 | G14: 1323661 | H14: 1302948 | I14: 51100 | J14: 31467 | K14: 19633
A15: 2022년 | B15: 1286873 | C15: 2657547 | D15: 1347878 | E15: 1309669 | F15: 2600492 | G15: 1311881 | H15: 1288611 | I15: 57055 | J15: 35997 | K15: 21058
A16: 2023년 1분기 | B16: 1291726 | C16: 2651548 | D16: 1346085 | E16: 1305463 | F16: 2593210 | G16: 1309056 | H16: 1284154 | I16: 58338 | J16: 37029 | K16: 21309
A17: 2023년 2분기 | B17: 1295243 | C17: 2651637 | D17: 1347526 | E17: 1304111 | F17: 2588860 | G17: 1307284 | H17: 1281576 | I17: 62777 | J17: 40242 | K17: 22535
... A19: 2023년 4분기 | B19: 1282500 | C19: 2621349 | D19: 1333750 | E19: 1287599 | F19: 2554324 | G19: 1290298 | H19: 1264026 | I19: 67025 | J19: 43452 | K19: 23573
A22: 2024년 1분기 경상북도 | B22: =SUM(B23:B44) -> 1286272 | C22: =IF(SUM(C23:C44)=D22+E22,D22+E22,"ERR") -> 2615214 | D22: =SUM(D23:D44) -> 1331870 | E22: =SUM(E23:E44) -> 1283344 | F22: =IF(SUM(F23:F44)=G22+H22,G22+H22,"ERR") -> 2546960 | G22: =SUM(G23:G44) -> 1287412 | H22: =SUM(H23:H44) -> 1259548 | I22: =IF(SUM(I23:I44)=J22+K22,J22+K22,"ERR") -> 68254 | J22: =SUM(J23:J44) -> 44458 | K22: =SUM(K23:K44) -> 23796
A23: 포항시 | B23: 234730 | C23: =D23+E23 -> 499576 | D23: =G23+J23 -> 254816 | E23: =H23+K23 -> 244760 | F23: =G23+H23 -> 492342 | G23: 250023 | H23: 242319 | I23: =J23+K23 -> 7234 | J23: 4793 | K23: 2441
A24: 경주시 | B24: 124683 | C24: =D24+E24 -> 257743 | D24: =G24+J24 -> 131000 | E24: =H24+K24 -> 126743 | F24: =G24+H24 -> 246371 | G24: 123389 | H24: 122982 | I24: =J24+K24 -> 11372 | J24: 7611 | K24: 3761
A25: 김천시 | B25: 69107 | C25: =D25+E25 -> 139936 | D25: =G25+J25 -> 70848 | E25: =H25+K25 -> 69088 | F25: =G25+H25 -> 136769 | G25: 68760 | H25: 68009 | I25: =J25+K25 -> 3167 | J25: 2088 | K25: 1079
A26: 안동시 | B26: 78692 | C26: =D26+E26 -> 154449 | D26: =G26+J26 -> 76343 | E26: =H26+K26 -> 78106 | F26: =G26+H26 -> 152733 | G26: 75495 | H26: 77238 | I26: =J26+K26 -> 1716 | J26: 848 | K26: 868
A27: 구미시 | B27: 188303 | C27: =D27+E27 -> 411204 | D27: =G27+J27 -> 212708 | E27: =H27+K27 -> 198496 | F27: =G27+H27 -> 405189 | G27: 209104 | H27: 196085 | I27: =J27+K27 -> 6015 | J27: 3604 | K27: 2411
A28: 영주시 | B28: 51815 | C28: =D28+E28 -> 101272 | D28: =G28+J28 -> 50400 | E28: =H28+K28 -> 50872 | F28: =G28+H28 -> 100072 | G28: 49729 | H28: 50343 | I28: =J28+K28 -> 1200 | J28: 671 | K28: 529
A29: 영천시 | B29: 55375 | C29: =D29+E29 -> 103703 | D29: =G29+J29 -> 53788 | E29: =H29+K29 -> 49915 | F29: =G29+H29 -> 100195 | G29: 51208 | H29: 48987 | I29: =J29+K29 -> 3508 | J29: 2580 | K29: 928
A30: 상주시 | B30: 49503 | C30: =D30+E30 -> 94971 | D30: =G30+J30 -> 46782 | E30: =H30+K30 -> 48189 | F30: =G30+H30 -> 93418 | G30: 45969 | H30: 47449 | I30: =J30+K30 -> 1553 | J30: 813 | K30: 740
A31: 문경시 | B31: 36771 | C31: =D31+E31 -> 69105 | D31: =G31+J31 -> 34002 | E31: =H31+K31 -> 35103 | F31: =G31+H31 -> 68232 | G31: 33519 | H31: 34713 | I31: =J31+K31 -> 873 | J31: 483 | K31: 390
A32: 경산시 | B32: 129930 | C32: =D32+E32 -> 282072 | D32: =G32+J32 -> 143556 | E32: =H32+K32 -> 138516 | F32: =G32+H32 -> 266075 | G32: 133748 | H32: 132327 | I32: =J32+K32 -> 15997 | J32: 9808 | K32: 6189
A33: 의성군 | B33: 29455 | C33: =D33+E33 -> 50485 | D33: =G33+J33 -> 25198 | E33: =H33+K33 -> 25287 | F33: =G33+H33 -> 49696 | G33: 24690 | H33: 25006 | I33: =J33+K33 -> 789 | J33: 508 | K33: 281
A34: 청송군 | B34: 14047 | C34: =D34+E34 -> 24194 | D34: =G34+J34 -> 12107 | E34: =H34+K34 -> 12087 | F34: =G34+H34 -> 23950 | G34: 12006 | H34: 11944 | I34: =J34+K34 -> 244 | J34: 101 | K34: 143
... A44: 울릉군 | B44: 5649 | C44: =D44+E44 -> 9215 | D44: =G44+J44 -> 5176 | E44: =H44+K44 -> 4039 | F44: =G44+H44 -> 9070 | G44: 5061 | H44: 4009 | I44: =J44+K44 -> 145 | J44: 115 | K44: 30

Sheet 1-2. 읍면동별 인구 및 세대현황
A2: 1-2. 읍면동별 인구 및 세대현황 (2024년 1분기)
A3: * 행정동 기준 | K3: (단위 : 세대, 명)
A4: 구분 | B4: 세대수 | C4: 총계 | F4: 한국인 | I4: 외국인
C5: 총 계 | D5: 남 | E5: 여 | F5: 소 계 | G5: 남 | H5: 여 | I5: 소계 | J5: 남 | K5: 여
A6: 경상북도 | B6: =SUM(B7,B39,B63,B86,B111,B137,B157,B174,B199,B214,B230,B249,B258,B265,B275,B285,B294,B305,B314,B327,B338,B349) -> 1286272 | C6: =SUM(C7,C39,C63,C86,C111,C137,C157,C174,C199,C214,C230,C249,C258,C265,C275,C285,C294,C305,C314,C327,C338,C349) -> 2615214 | D6: =SUM(D7,D39,D63,D86,D111,D137,D157,D174,D199,D214,D230,D249,D258,D265,D275,D285,D294,D305,D314,D327,D338,D349) -> 1331870 | E6: =SUM(E7,E39,E63,E86,E111,E137,E157,E174,E199,E214,E230,E249,E258,E265,E275,E285,E294,E305,E314,E327,E338,E349) -> 1283344 | F6: =SUM(F7,F39,F63,F86,F111,F137,F157,F174,F199,F214,F230,F249,F258,F265,F275,F285,F294,F305,F314,F327,F338,F349) -> 2546960 | G6: =SUM(G7,G39,G63,G86,G111,G137,G157,G174,G199,G214,G230,G249,G258,G265,G275,G285,G294,G305,G314,G327,G338,G349) -> 1287412 | H6: =SUM(H7,H39,H63,H86,H111,H137,H157,H174,H199,H214,H230,H249,H258,H265,H275,H285,H294,H305,H314,H327,H338,H349) -> 1259548 | I6: =SUM(I7,I39,I63,I86,I111,I137,I157,I174,I199,I214,I230,I249,I258,I265,I275,I285,I294,I305,I314,I327,I338,I349) -> 68254 | ... K6: =SUM(K7,K39,K63,K86,K111,K137,K157,K174,K199,K214,K230,K249,K258,K265,K275,K285,K294,K305,K314,K327,K338,K349) -> 23796
A7: 포항시 | B7: =B8+B23 -> 234730 | C7: =SUM(D7:E7) -> 499576 | D7: =SUM(D23,D8) -> 254816 | E7: =SUM(E23,E8) -> 244760 | F7: =SUM(G7:H7) -> 492342 | G7: =SUM(G8,G23) -> 250023 | H7: =SUM(H8,H23) -> 242319 | I7: =SUM(J7:K7) -> 7234 | J7: =SUM(J23,J8) -> 4793 | K7: =SUM(K8,K23) -> 2441
A8: 남구 | B8: =SUM(B9:B22) -> 110809 | C8: =SUM(D8:E8) -> 229612 | D8: =SUM(D9:D22) -> 120098 | E8: =SUM(E9:E22) -> 109514 | F8: =SUM(G8:H8) -> 225520 | G8: =SUM(G9:G22) -> 117182 | H8: =SUM(H9:H22) -> 108338 | I8: =SUM(J8:K8) -> 4092 | J8: =SUM(J9:J22) -> 2916 | K8: =SUM(K9:K22) -> 1176
A9: 구룡포읍 | B9: 4353 | C9: =D9+E9 -> 7774 | D9: =SUM(G9,J9) -> 4318 | E9: =SUM(H9,K9) -> 3456 | F9: =G9+H9 -> 6781 | G9: 3418 | H9: 3363 | I9: =J9+K9 -> 993 | J9: 900 | K9: 93
A10: 연일읍 | B10: 12339 | C10: =D10+E10 -> 29190 | D10: =SUM(G10,J10) -> 14869 | E10: =SUM(H10,K10) -> 14321 | F10: =G10+H10 -> 28915 | G10: 14707 | H10: 14208 | I10: =J10+K10 -> 275 | J10: 162 | K10: 113
A11: 오천읍 | B11: 27863 | C11: =D11+E11 -> 58409 | D11: =SUM(G11,J11) -> 31455 | E11: =SUM(H11,K11) -> 26954 | F11: =G11+H11 -> 57623 | G11: 31001 | H11: 26622 | I11: =J11+K11 -> 786 | J11: 454 | K11: 332
A12: 대송면 | B12: 1877 | C12: =D12+E12 -> 3407 | D12: =SUM(G12,J12) -> 1855 | E12: =SUM(H12,K12) -> 1552 | F12: =G12+H12 -> 3190 | G12: 1657 | H12: 1533 | I12: =J12+K12 -> 217 | J12: 198 | K12: 19
A13: 동해면 | B13: 4820 | C13: =D13+E13 -> 9562 | D13: =SUM(G13,J13) -> 4843 | E13: =SUM(H13,K13) -> 4719 | F13: =G13+H13 -> 9446 | G13: 4772 | H13: 4674 | I13: =J13+K13 -> 116 | J13: 71 | K13: 45
A14: 장기면 | B14: 2394 | C14: =D14+E14 -> 4134 | D14: =SUM(G14,J14) -> 2170 | E14: =SUM(H14,K14) -> 1964 | F14: =G14+H14 -> 3832 | G14: 1883 | H14: 1949 | I14: =J14+K14 -> 302 | J14: 287 | K14: 15
A15: 호미곶면 | B15: 1097 | C15: =D15+E15 -> 1881 | D15: =SUM(G15,J15) -> 979 | E15: =SUM(H15,K15) -> 902 | F15: =G15+H15 -> 1708 | G15: 831 | H15: 877 | I15: =J15+K15 -> 173 | J15: 148 | K15: 25
A16: 상대동 | B16: 13753 | C16: =D16+E16 -> 24021 | D16: =SUM(G16,J16) -> 12567 | E16: =SUM(H16,K16) -> 11454 | F16: =G16+H16 -> 23825 | G16: 12490 | H16: 11335 | I16: =J16+K16 -> 196 | J16: 77 | K16: 119
A17: 해도동 | B17: 9952 | C17: =D17+E17 -> 16676 | D17: =SUM(G17,J17) -> 8570 | E17: =SUM(H17,K17) -> 8106 | F17: =G17+H17 -> 16535 | G17: 8513 | H17: 8022 | I17: =J17+K17 -> 141 | J17: 57 | K17: 84
A18: 송도동 | B18: 6407 | C18: =D18+E18 -> 11775 | D18: =SUM(G18,J18) -> 5920 | E18: =SUM(H18,K18) -> 5855 | F18: =G18+H18 -> 11597 | G18: 5789 | H18: 5808 | I18: =J18+K18 -> 178 | J18: 131 | K18: 47
A19: 청림동 | B19: 2869 | C19: =D19+E19 -> 4840 | D19: =SUM(G19,J19) -> 2684 | E19: =SUM(H19,K19) -> 2156 | F19: =G19+H19 -> 4786 | G19: 2660 | H19: 2126 | I19: =J19+K19 -> 54 | J19: 24 | K19: 30
A20: 제철동 | B20: 1370 | C20: =D20+E20 -> 2615 | D20: =SUM(G20,J20) -> 1515 | E20: =SUM(H20,K20) -> 1100 | F20: =G20+H20 -> 2560 | G20: 1465 | H20: 1095 | I20: =J20+K20 -> 55 | J20: 50 | K20: 5
... A22: 대이동 | B22: 10447 | C22: =D22+E22 -> 24960 | D22: =SUM(G22,J22) -> 12762 | E22: =SUM(H22,K22) -> 12198 | F22: =G22+H22 -> 24775 | G22: 12660 | H22: 12115 | I22: =J22+K22 -> 185 | J22: 102 | K22: 83
A23: 북구 | B23: =SUM(B24:B38) -> 123921 | C23: =SUM(D23:E23) -> 269964 | D23: =SUM(D24:D38) -> 134718 | E23: =SUM(E24:E38) -> 135246 | F23: =SUM(G23:H23) -> 266822 | G23: =SUM(G24:G38) -> 132841 | H23: =SUM(H24:H38) -> 133981 | I23: =SUM(J23:K23) -> 3142 | J23: =SUM(J24:J38) -> 1877 | K23: =SUM(K24:K38) -> 1265
A24: 흥해읍 | B24: 19216 | C24: =D24+E24 -> 43253 | D24: =SUM(G24,J24) -> 21667 | E24: =SUM(H24,K24) -> 21586 | F24: =G24+H24 -> 42368 | G24: 21167 | H24: 21201 | I24: =J24+K24 -> 885 | J24: 500 | K24: 385
A25: 신광면 | B25: 1666 | C25: =D25+E25 -> 2845 | D25: =SUM(G25,J25) -> 1424 | E25: =SUM(H25,K25) -> 1421 | F25: =G25+H25 -> 2829 | G25: 1420 | H25: 1409 | I25: =J25+K25 -> 16 | J25: 4 | K25: 12
A26: 청하면 | B26: 2693 | C26: =D26+E26 -> 4768 | D26: =SUM(G26,J26) -> 2432 | E26: =SUM(H26,K26) -> 2336 | F26: =G26+H26 -> 4563 | G26: 2245 | H26: 2318 | I26: =J26+K26 -> 205 | J26: 187 | K26: 18
A27: 송라면 | B27: 1561 | C27: =D27+E27 -> 2535 | D27: =SUM(G27,J27) -> 1286 | E27: =SUM(H27,K27) -> 1249 | F27: =G27+H27 -> 2406 | G27: 1158 | H27: 1248 | I27: =J27+K27 -> 129 | J27: 128 | K27: 1
A28: 기계면 | B28: 2748 | C28: =D28+E28 -> 4906 | D28: =SUM(G28,J28) -> 2405 | E28: =SUM(H28,K28) -> 2501 | F28: =G28+H28 -> 4847 | G28: 2377 | H28: 2470 | I28: =J28+K28 -> 59 | J28: 28 | K28: 31
A29: 죽장면 | B29: 1738 | C29: =D29+E29 -> 2727 | D29: =SUM(G29,J29) -> 1394 | E29: =SUM(H29,K29) -> 1333 | F29: =G29+H29 -> 2683 | G29: 1373 | H29: 1310 | I29: =J29+K29 -> 44 | J29: 21 | K29: 23
A30: 기북면 | B30: 773 | C30: =D30+E30 -> 1312 | D30: =SUM(G30,J30) -> 649 | E30: =SUM(H30,K30) -> 663 | F30: =G30+H30 -> 1304 | G30: 648 | H30: 656 | I30: =J30+K30 -> 8 | J30: 1 | K30: 7
A31: 중앙동 | B31: 8488 | C31: =D31+E31 -> 14713 | D31: =SUM(G31,J31) -> 7359 | E31: =SUM(H31,K31) -> 7354 | F31: =G31+H31 -> 14492 | G31: 7211 | H31: 7281 | I31: =J31+K31 -> 221 | J31: 148 | K31: 73
A32: 양학동 | B32: 7387 | C32: =D32+E32 -> 17089 | D32: =SUM(G32,J32) -> 8428 | E32: =SUM(H32,K32) -> 8661 | F32: =G32+H32 -> 17024 | G32: 8396 | H32: 8628 | I32: =J32+K32 -> 65 | J32: 32 | K32: 33
A33: 죽도동 | B33: 11642 | C33: =D33+E33 -> 19619 | D33: =SUM(G33,J33) -> 9722 | E33: =SUM(H33,K33) -> 9897 | F33: =G33+H33 -> 19418 | G33: 9646 | H33: 9772 | I33: =J33+K33 -> 201 | J33: 76 | K33: 125
A34: 용흥동 | B34: 9377 | C34: =D34+E34 -> 20961 | D34: =SUM(G34,J34) -> 10235 | E34: =SUM(H34,K34) -> 10726 | F34: =G34+H34 -> 20844 | G34: 10176 | H34: 10668 | I34: =J34+K34 -> 117 | J34: 59 | K34: 58
A35: 우창동 | B35: 14219 | C35: =D35+E35 -> 32763 | D35: =SUM(G35,J35) -> 15973 | E35: =SUM(H35,K35) -> 16790 | F35: =G35+H35 -> 32620 | G35: 15921 | H35: 16699 | I35: =J35+K35 -> 143 | J35: 52 | K35: 91
... A38: 환여동 | B38: 3885 | C38: =D38+E38 -> 9102 | D38: =SUM(G38,J38) -> 4477 | E38: =SUM(H38,K38) -> 4625 | F38: =G38+H38 -> 9028 | G38: 4442 | H38: 4586 | I38: =J38+K38 -> 74 | J38: 35 | K38: 39
A39: 경주시 | B39: =SUM(B40:B62) -> 124683 | C39: =D39+E39 -> 257743 | D39: =SUM(D40:D62) -> 131000 | E39: =SUM(E40:E62) -> 126743 | F39: =SUM(G39:H39) -> 246371 | G39: =SUM(G40:G62) -> 123389 | H39: =SUM(H40:H62) -> 122982 | I39: =SUM(J39:K39) -> 11372 | J39: =SUM(J40:J62) -> 7611 | K39: =SUM(K40:K62) -> 3761
A40: 감포읍 | B40: 3153 | C40: =D40+E40 -> 5787 | D40: =SUM(G40,J40) -> 3160 | E40: =SUM(H40,K40) -> 2627 | F40: =G40+H40 -> 5221 | G40: 2611 | H40: 2610 | I40: =J40+K40 -> 566 | J40: 549 | K40: 17
A41: 안강읍 | B41: 12213 | C41: =D41+E41 -> 23437 | D41: =SUM(G41,J41) -> 11692 | E41: =SUM(H41,K41) -> 11745 | F41: =G41+H41 -> 23066 | G41: 11456 | H41: 11610 | I41: =J41+K41 -> 371 | J41: 236 | K41: 135
A42: 건천읍 | B42: 5088 | C42: =D42+E42 -> 9180 | D42: =SUM(G42,J42) -> 4712 | E42: =SUM(H42,K42) -> 4468 | F42: =G42+H42 -> 8898 | G42: 4506 | H42: 4392 | I42: =J42+K42 -> 282 | J42: 206 | K42: 76
A43: 외동읍 | B43: 11822 | C43: =D43+E43 -> 25487 | D43: =SUM(G43,J43) -> 14494 | E43: =SUM(H43,K43) -> 10993 | F43: =G43+H43 -> 21756 | G43: 11490 | H43: 10266 | I43: =J43+K43 -> 3731 | J43: 3004 | K43: 727
A44: 문무대왕면 | B44: 2339 | C44: =D44+E44 -> 4155 | D44: =SUM(G44,J44) -> 2172 | E44: =SUM(H44,K44) -> 1983 | F44: =G44+H44 -> 4126 | G44: 2156 | H44: 1970 | I44: =J44+K44 -> 29 | J44: 16 | K44: 13
A45: 양남면 | B45: 3630 | C45: =D45+E45 -> 6406 | D45: =SUM(G45,J45) -> 3414 | E45: =SUM(H45,K45) -> 2992 | F45: =G45+H45 -> 6333 | G45: 3371 | H45: 2962 | I45: =J45+K45 -> 73 | J45: 43 | K45: 30
A46: 내남면 | B46: 2639 | C46: =D46+E46 -> 4669 | D46: =SUM(G46,J46) -> 2406 | E46: =SUM(H46,K46) -> 2263 | F46: =G46+H46 -> 4512 | G46: 2288 | H46: 2224 | I46: =J46+K46 -> 157 | J46: 118 | K46: 39
A47: 산내면 | B47: 2067 | C47: =D47+E47 -> 3221 | D47: =SUM(G47,J47) -> 1602 | E47: =SUM(H47,K47) -> 1619 | F47: =G47+H47 -> 3200 | G47: 1593 | H47: 1607 | I47: =J47+K47 -> 21 | J47: 9 | K47: 12
A48: 서면 | B48: 1809 | C48: =D48+E48 -> 3214 | D48: =SUM(G48,J48) -> 1692 | E48: =SUM(H48,K48) -> 1522 | F48: =G48+H48 -> 3023 | G48: 1542 | H48: 1481 | I48: =J48+K48 -> 191 | J48: 150 | K48: 41
A49: 현곡면 | B49: 8522 | C49: =D49+E49 -> 21391 | D49: =SUM(G49,J49) -> 10560 | E49: =SUM(H49,K49) -> 10831 | F49: =G49+H49 -> 21204 | G49: 10433 | H49: 10771 | I49: =J49+K49 -> 187 | J49: 127 | K49: 60
A50: 강동면 | B50: 3511 | C50: =D50+E50 -> 6238 | D50: =SUM(G50,J50) -> 3255 | E50: =SUM(H50,K50) -> 2983 | F50: =G50+H50 -> 6042 | G50: 3098 | H50: 2944 | I50: =J50+K50 -> 196 | J50: 157 | K50: 39
A51: 천북면 | B51: 3077 | C51: =D51+E51 -> 5973 | D51: =SUM(G51,J51) -> 3228 | E51: =SUM(H51,K51) -> 2745 | F51: =G51+H51 -> 5674 | G51: 2980 | H51: 2694 | I51: =J51+K51 -> 299 | J51: 248 | K51: 51
... A62: 보덕동 | B62: 1000 | C62: =D62+E62 -> 1678 | D62: =SUM(G62,J62) -> 829 | E62: =SUM(H62,K62) -> 849 | F62: =G62+H62 -> 1668 | G62: 824 | H62: 844 | I62: =J62+K62 -> 10 | J62: 5 | K62: 5
A63: 김천시 | B63: =SUM(B64:B85) -> 69107 | C63: =SUM(D63:E63) -> 139936 | D63: =SUM(D64:D85) -> 70848 | E63: =SUM(E64:E85) -> 69088 | F63: =SUM(G63:H63) -> 136769 | G63: =SUM(G64:G85) -> 68760 | H63: =SUM(H64:H85) -> 68009 | I63: =SUM(J63:K63) -> 3167 | J63: =SUM(J64:J85) -> 2088 | K63: =SUM(K64:K85) -> 1079
A64: 아포읍 | B64: 4078 | C64: =D64+E64 -> 7911 | D64: =SUM(G64,J64) -> 4030 | E64: =SUM(H64,K64) -> 3881 | F64: =G64+H64 -> 7674 | G64: 3860 | H64: 3814 | I64: =J64+K64 -> 237 | J64: 170 | K64: 67
A65: 농소면 | B65: 1625 | C65: =D65+E65 -> 3137 | D65: =SUM(G65,J65) -> 1647 | E65: =SUM(H65,K65) -> 1490 | F65: =G65+H65 -> 3099 | G65: 1618 | H65: 1481 | I65: =J65+K65 -> 38 | J65: 29 | K65: 9
A66: 남면 | B66: 1711 | C66: =D66+E66 -> 3064 | D66: =SUM(G66,J66) -> 1621 | E66: =SUM(H66,K66) -> 1443 | F66: =G66+H66 -> 2954 | G66: 1526 | H66: 1428 | I66: =J66+K66 -> 110 | J66: 95 | K66: 15
A67: 개령면 | B67: 1222 | C67: =D67+E67 -> 2332 | D67: =SUM(G67,J67) -> 1203 | E67: =SUM(H67,K67) -> 1129 | F67: =G67+H67 -> 2277 | G67: 1164 | H67: 1113 | I67: =J67+K67 -> 55 | J67: 39 | K67: 16
A68: 감문면 | B68: 1845 | C68: =D68+E68 -> 3270 | D68: =SUM(G68,J68) -> 1665 | E68: =SUM(H68,K68) -> 1605 | F68: =G68+H68 -> 3164 | G68: 1594 | H68: 1570 | I68: =J68+K68 -> 106 | J68: 71 | K68: 35
A69: 어모면 | B69: 2164 | C69: =D69+E69 -> 4292 | D69: =SUM(G69,J69) -> 2286 | E69: =SUM(H69,K69) -> 2006 | F69: =G69+H69 -> 4032 | G69: 2067 | H69: 1965 | I69: =J69+K69 -> 260 | J69: 219 | K69: 41
A70: 봉산면 | B70: 1549 | C70: =D70+E70 -> 2969 | D70: =SUM(G70,J70) -> 1562 | E70: =SUM(H70,K70) -> 1407 | F70: =G70+H70 -> 2880 | G70: 1494 | H70: 1386 | I70: =J70+K70 -> 89 | J70: 68 | K70: 21
A71: 대항면 | B71: 1762 | C71: =D71+E71 -> 3353 | D71: =SUM(G71,J71) -> 1720 | E71: =SUM(H71,K71) -> 1633 | F71: =G71+H71 -> 3291 | G71: 1686 | H71: 1605 | I71: =J71+K71 -> 62 | J71: 34 | K71: 28
A72: 감천면 | B72: 947 | C72: =D72+E72 -> 1839 | D72: =SUM(G72,J72) -> 954 | E72: =SUM(H72,K72) -> 885 | F72: =G72+H72 -> 1822 | G72: 945 | H72: 877 | I72: =J72+K72 -> 17 | J72: 9 | K72: 8
A73: 조마면 | B73: 1171 | C73: =D73+E73 -> 2215 | D73: =SUM(G73,J73) -> 1146 | E73: =SUM(H73,K73) -> 1069 | F73: =G73+H73 -> 2133 | G73: 1078 | H73: 1055 | I73: =J73+K73 -> 82 | J73: 68 | K73: 14
A74: 구성면 | B74: 1618 | C74: =D74+E74 -> 2680 | D74: =SUM(G74,J74) -> 1326 | E74: =SUM(H74,K74) -> 1354 | F74: =G74+H74 -> 2660 | G74: 1315 | H74: 1345 | I74: =J74+K74 -> 20 | J74: 11 | K74: 9
A75: 지례면 | B75: 867 | C75: =D75+E75 -> 1510 | D75: =SUM(G75,J75) -> 804 | E75: =SUM(H75,K75) -> 706 | F75: =G75+H75 -> 1410 | G75: 722 | H75: 688 | I75: =J75+K75 -> 100 | J75: 82 | K75: 18
... A85: 율곡동 | B85: 9582 | C85: =D85+E85 -> 23677 | D85: =SUM(G85,J85) -> 11902 | E85: =SUM(H85,K85) -> 11775 | F85: =G85+H85 -> 23546 | G85: 11839 | H85: 11707 | I85: =J85+K85 -> 131 | J85: 63 | K85: 68
A86: 안동시 | B86: =SUM(B87:B110) -> 78692 | C86: =SUM(D86:E86) -> 154449 | D86: =SUM(D87:D110) -> 76343 | E86: =SUM(E87:E110) -> 78106 | F86: =SUM(G86:H86) -> 152733 | G86: =SUM(G87:G110) -> 75495 | H86: =SUM(H87:H110) -> 77238 | I86: =SUM(J86:K86) -> 1716 | J86: =SUM(J87:J110) -> 848 | K86: =SUM(K87:K110) -> 868
A87: 풍산읍 | B87: 3498 | C87: =D87+E87 -> 6178 | D87: =SUM(G87,J87) -> 3149 | E87: =SUM(H87,K87) -> 3029 | F87: =G87+H87 -> 6064 | G87: 3068 | H87: 2996 | I87: =J87+K87 -> 114 | J87: 81 | K87: 33
A88: 와룡면 | B88: 2134 | C88: =D88+E88 -> 3924 | D88: =SUM(G88,J88) -> 2026 | E88: =SUM(H88,K88) -> 1898 | F88: =G88+H88 -> 3868 | G88: 1989 | H88: 1879 | I88: =J88+K88 -> 56 | J88: 37 | K88: 19
A89: 북후면 | B89: 1731 | C89: =D89+E89 -> 2824 | D89: =SUM(G89,J89) -> 1477 | E89: =SUM(H89,K89) -> 1347 | F89: =G89+H89 -> 2786 | G89: 1454 | H89: 1332 | I89: =J89+K89 -> 38 | J89: 23 | K89: 15
A90: 서후면 | B90: 2003 | C90: =D90+E90 -> 3518 | D90: =SUM(G90,J90) -> 1863 | E90: =SUM(H90,K90) -> 1655 | F90: =G90+H90 -> 3461 | G90: 1830 | H90: 1631 | I90: =J90+K90 -> 57 | J90: 33 | K90: 24
A91: 풍천면 | B91: 4207 | C91: =D91+E91 -> 7227 | D91: =SUM(G91,J91) -> 3685 | E91: =SUM(H91,K91) -> 3542 | F91: =G91+H91 -> 7155 | G91: 3653 | H91: 3502 | I91: =J91+K91 -> 72 | J91: 32 | K91: 40
A92: 일직면 | B92: 1447 | C92: =D92+E92 -> 2534 | D92: =SUM(G92,J92) -> 1239 | E92: =SUM(H92,K92) -> 1295 | F92: =G92+H92 -> 2472 | G92: 1198 | H92: 1274 | I92: =J92+K92 -> 62 | J92: 41 | K92: 21
A93: 남후면 | B93: 970 | C93: =D93+E93 -> 1663 | D93: =SUM(G93,J93) -> 855 | E93: =SUM(H93,K93) -> 808 | F93: =G93+H93 -> 1623 | G93: 817 | H93: 806 | I93: =J93+K93 -> 40 | J93: 38 | K93: 2
A94: 남선면 | B94: 1139 | C94: =D94+E94 -> 2021 | D94: =SUM(G94,J94) -> 1041 | E94: =SUM(H94,K94) -> 980 | F94: =G94+H94 -> 1997 | G94: 1024 | H94: 973 | I94: =J94+K94 -> 24 | J94: 17 | K94: 7
A95: 임하면 | B95: 1683 | C95: =D95+E95 -> 2640 | D95: =SUM(G95,J95) -> 1397 | E95: =SUM(H95,K95) -> 1243 | F95: =G95+H95 -> 2611 | G95: 1382 | H95: 1229 | I95: =J95+K95 -> 29 | J95: 15 | K95: 14
A96: 길안면 | B96: 1591 | C96: =D96+E96 -> 2607 | D96: =SUM(G96,J96) -> 1330 | E96: =SUM(H96,K96) -> 1277 | F96: =G96+H96 -> 2579 | G96: 1314 | H96: 1265 | I96: =J96+K96 -> 28 | J96: 16 | K96: 12
A97: 임동면 | B97: 1017 | C97: =D97+E97 -> 1660 | D97: =SUM(G97,J97) -> 861 | E97: =SUM(H97,K97) -> 799 | F97: =G97+H97 -> 1637 | G97: 853 | H97: 784 | I97: =J97+K97 -> 23 | J97: 8 | K97: 15
A98: 예안면 | B98: 1028 | C98: =D98+E98 -> 1699 | D98: =SUM(G98,J98) -> 873 | E98: =SUM(H98,K98) -> 826 | F98: =G98+H98 -> 1693 | G98: 872 | H98: 821 | I98: =J98+K98 -> 6 | J98: 1 | K98: 5
... A110: 강남동 | B110: 4358 | C110: =D110+E110 -> 10469 | D110: =SUM(G110,J110) -> 5182 | E110: =SUM(H110,K110) -> 5287 | F110: =G110+H110 -> 10382 | G110: 5131 | H110: 5251 | I110: =J110+K110 -> 87 | J110: 51 | K110: 36
A111: 구미시 | B111: =SUM(B112:B136) -> 188303 | C111: =SUM(D111:E111) -> 411204 | D111: =SUM(D112:D136) -> 212708 | E111: =SUM(E112:E136) -> 198496 | F111: =SUM(G111:H111) -> 405189 | G111: =SUM(G112:G136) -> 209104 | H111: =SUM(H112:H136) -> 196085 | I111: =SUM(J111:K111) -> 6015 | J111: =SUM(J112:J136) -> 3604 | K111: =SUM(K112:K136) -> 2411
A112: 선산읍 | B112: 6734 | C112: =D112+E112 -> 14075 | D112: =SUM(G112,J112) -> 6944 | E112: =SUM(H112,K112) -> 7131 | F112: =G112+H112 -> 13871 | G112: 6846 | H112: 7025 | I112: =J112+K112 -> 204 | J112: 98 | K112: 106
A113: 고아읍 | B113: 15293 | C113: =D113+E113 -> 37843 | D113: =SUM(G113,J113) -> 19039 | E113: =SUM(H113,K113) -> 18804 | F113: =G113+H113 -> 37598 | G113: 18869 | H113: 18729 | I113: =J113+K113 -> 245 | J113: 170 | K113: 75
A114: 산동읍 | B114: 11433 | C114: =D114+E114 -> 30382 | D114: =SUM(G114,J114) -> 15893 | E114: =SUM(H114,K114) -> 14489 | F114: =G114+H114 -> 29780 | G114: 15464 | H114: 14316 | I114: =J114+K114 -> 602 | J114: 429 | K114: 173
A115: 무을면 | B115: 1053 | C115: =D115+E115 -> 1807 | D115: =SUM(G115,J115) -> 911 | E115: =SUM(H115,K115) -> 896 | F115: =G115+H115 -> 1794 | G115: 904 | H115: 890 | I115: =J115+K115 -> 13 | J115: 7 | K115: 6
A116: 옥성면 | B116: 920 | C116: =D116+E116 -> 1664 | D116: =SUM(G116,J116) -> 869 | E116: =SUM(H116,K116) -> 795 | F116: =G116+H116 -> 1642 | G116: 847 | H116: 795 | I116: =J116+K116 -> 22 | J116: 22 | K116: 0
A117: 도개면 | B117: 1152 | C117: =D117+E117 -> 2120 | D117: =SUM(G117,J117) -> 1098 | E117: =SUM(H117,K117) -> 1022 | F117: =G117+H117 -> 2070 | G117: 1066 | H117: 1004 | I117: =J117+K117 -> 50 | J117: 32 | K117: 18
A118: 해평면 | B118: 2087 | C118: =D118+E118 -> 3780 | D118: =SUM(G118,J118) -> 2029 | E118: =SUM(H118,K118) -> 1751 | F118: =G118+H118 -> 3718 | G118: 1978 | H118: 1740 | I118: =J118+K118 -> 62 | J118: 51 | K118: 11
A119: 장천면 | B119: 1534 | C119: =D119+E119 -> 2938 | D119: =SUM(G119,J119) -> 1556 | E119: =SUM(H119,K119) -> 1382 | F119: =G119+H119 -> 2839 | G119: 1470 | H119: 1369 | I119: =J119+K119 -> 99 | J119: 86 | K119: 13
A120: 송정동 | B120: 10814 | C120: =D120+E120 -> 22972 | D120: =SUM(G120,J120) -> 11225 | E120: =SUM(H120,K120) -> 11747 | F120: =G120+H120 -> 22849 | G120: 11181 | H120: 11668 | I120: =J120+K120 -> 123 | J120: 44 | K120: 79
A121: 원평동 | B121: 5523 | C121: =D121+E121 -> 9461 | D121: =SUM(G121,J121) -> 5020 | E121: =SUM(H121,K121) -> 4441 | F121: =G121+H121 -> 9307 | G121: 4955 | H121: 4352 | I121: =J121+K121 -> 154 | J121: 65 | K121: 89
A122: 도량동 | B122: 11861 | C122: =D122+E122 -> 27584 | D122: =SUM(G122,J122) -> 13344 | E122: =SUM(H122,K122) -> 14240 | F122: =G122+H122 -> 27479 | G122: 13311 | H122: 14168 | I122: =J122+K122 -> 105 | J122: 33 | K122: 72
A123: 지산동 | B123: 1002 | C123: =D123+E123 -> 1936 | D123: =SUM(G123,J123) -> 999 | E123: =SUM(H123,K123) -> 937 | F123: =G123+H123 -> 1904 | G123: 986 | H123: 918 | I123: =J123+K123 -> 32 | J123: 13 | K123: 19
... A136: 공단동 | B136: 2102 | C136: =D136+E136 -> 4690 | D136: =SUM(G136,J136) -> 2757 | E136: =SUM(H136,K136) -> 1933 | F136: =G136+H136 -> 4176 | G136: 2324 | H136: 1852 | I136: =J136+K136 -> 514 | J136: 433 | K136: 81
A137: 영주시 | B137: =SUM(B138:B156) -> 51815 | C137: =SUM(D137:E137) -> 101272 | D137: =SUM(D138:D156) -> 50400 | E137: =SUM(E138:E156) -> 50872 | F137: =SUM(G137:H137) -> 100072 | G137: =SUM(G138:G156) -> 49729 | H137: =SUM(H138:H156) -> 50343 | I137: =SUM(J137:K137) -> 1200 | J137: =SUM(J138:J156) -> 671 | K137: =SUM(K138:K156) -> 529
A138: 풍기읍 | B138: 5978 | C138: =D138+E138 -> 10837 | D138: =SUM(G138,J138) -> 5568 | E138: =SUM(H138,K138) -> 5269 | F138: =G138+H138 -> 10580 | G138: 5417 | H138: 5163 | I138: =J138+K138 -> 257 | J138: 151 | K138: 106
A139: 이산면 | B139: 1190 | C139: =D139+E139 -> 2206 | D139: =SUM(G139,J139) -> 1140 | E139: =SUM(H139,K139) -> 1066 | F139: =G139+H139 -> 2195 | G139: 1132 | H139: 1063 | I139: =J139+K139 -> 11 | J139: 8 | K139: 3
A140: 평은면 | B140: 807 | C140: =D140+E140 -> 1416 | D140: =SUM(G140,J140) -> 730 | E140: =SUM(H140,K140) -> 686 | F140: =G140+H140 -> 1401 | G140: 720 | H140: 681 | I140: =J140+K140 -> 15 | J140: 10 | K140: 5
A141: 문수면 | B141: 1118 | C141: =D141+E141 -> 1952 | D141: =SUM(G141,J141) -> 1013 | E141: =SUM(H141,K141) -> 939 | F141: =G141+H141 -> 1909 | G141: 988 | H141: 921 | I141: =J141+K141 -> 43 | J141: 25 | K141: 18
A142: 장수면 | B142: 1173 | C142: =D142+E142 -> 2146 | D142: =SUM(G142,J142) -> 1132 | E142: =SUM(H142,K142) -> 1014 | F142: =G142+H142 -> 2056 | G142: 1045 | H142: 1011 | I142: =J142+K142 -> 90 | J142: 87 | K142: 3
A143: 안정면 | B143: 1595 | C143: =D143+E143 -> 2909 | D143: =SUM(G143,J143) -> 1482 | E143: =SUM(H143,K143) -> 1427 | F143: =G143+H143 -> 2837 | G143: 1432 | H143: 1405 | I143: =J143+K143 -> 72 | J143: 50 | K143: 22
A144: 봉현면 | B144: 1403 | C144: =D144+E144 -> 2569 | D144: =SUM(G144,J144) -> 1298 | E144: =SUM(H144,K144) -> 1271 | F144: =G144+H144 -> 2551 | G144: 1292 | H144: 1259 | I144: =J144+K144 -> 18 | J144: 6 | K144: 12
A145: 순흥면 | B145: 1119 | C145: =D145+E145 -> 1922 | D145: =SUM(G145,J145) -> 974 | E145: =SUM(H145,K145) -> 948 | F145: =G145+H145 -> 1899 | G145: 965 | H145: 934 | I145: =J145+K145 -> 23 | J145: 9 | K145: 14
A146: 단산면 | B146: 1071 | C146: =D146+E146 -> 1765 | D146: =SUM(G146,J146) -> 872 | E146: =SUM(H146,K146) -> 893 | F146: =G146+H146 -> 1754 | G146: 863 | H146: 891 | I146: =J146+K146 -> 11 | J146: 9 | K146: 2
...

Sheet 1-3. 리별 인구 및 세대현황(시)
A2: 1-3. 리별 인구 및 세대현황(시)_외국인 제외 (2024년 1분기)
A3: (단위 : 세대, 명) | AW3: (단위:명,세대)
A4: 포항시 | F4: 경주시 | K4: 김천시 | P4: 안동시 | U4: 구미시 | Z4: 영주시 | AE4: 영천시 | AJ4: 상주시 | AO4: 문경시 | AT4: 경산시
A5: 행정구역 | B5: 계 | C5: 남 | D5: 여 | E5: 세대수 | F5: 행정구역 | G5: 계 | H5: 남 | I5: 여 | J5: 세대수 | K5: 행정구역 | L5: 계 | M5: 남 | N5: 여 | O5: 세대수 | P5: 행정구역 | Q5: 계 | R5: 남 | S5: 여 | T5: 세대수 | U5: 행정구역 | V5: 계 | W5: 남 | X5: 여 | Y5: 세대수 | Z5: 행정구역 | AA5: 계 | AB5: 남 | AC5: 여 | AD5: 세대수 | AE5: 행정구역 | AF5: 계 | AG5: 남 | AH5: 여 | AI5: 세대수 | AJ5: 행정구역 | AK5: 계 | AL5: 남 | AM5: 여 | AN5: 세대수 | AO5: 행정구역 | AP5: 계 | AQ5: 남 | AR5: 여 | AS5: 세대수 | AT5: 행정구역 | AU5: 계 | AV5: 남 | AW5: 여 | AX5: 세대수
A6: 구룡포읍 | B6: 6781 | C6: 3418 | D6: 3363 | E6: 4353 | F6: 감포읍 | G6: 5226 | H6: 2614 | I6: 2612 | J6: 3157 | K6: 아포읍 | L6: 7674 | M6: 3860 | N6: 3814 | O6: 4078 | P6: 풍산읍 | Q6: 6064 | R6: 3068 | S6: 2996 | T6: 3498 | U6: 선산읍 | V6: =SUM(W6:X6) -> 13871 | W6: =SUM(W7:W35) -> 6846 | X6: =SUM(X7:X35) -> 7025 | Y6: =SUM(Y7:Y35) -> 6734 | Z6: 풍기읍 | AA6: 10580 | AB6: 5417 | AC6: 5163 | AD6: 5978 | AE6: 금호읍 | AF6: 10418 | AG6: 5508 | AH6: 4910 | AI6: 6271 | AJ6: 함창읍 | AK6: 6231 | AL6: 3017 | AM6: 3214 | AN6: 3435 | AO6: 문경읍 | AP6: 6777 | AQ6: 3264 | AR6: 3513 | AS6: 3809 | AT6: 하양읍 | AU6: 31461 | AV6: 15916 | AW6: 15545 | AX6: 15648
A7: 구룡포1리 | B7: 757 | C7: 381 | D7: 376 | E7: 465 | F7: 감포1리 | G7: 359 | H7: 182 | I7: 177 | J7: 218 | K7: 인1리 | L7: 208 | M7: 103 | N7: 105 | O7: 112 | P7: 안교1리 | Q7: 762 | R7: 379 | S7: 383 | T7: 439 | U7: 완전리 | V7: =SUM(W7:X7) -> 1280 | W7: 627 | X7: 653 | Y7: 657 | Z7: 성내1리 | AA7: 324 | AB7: 132 | AC7: 192 | AD7: 179 | AE7: 교대1리 | AF7: 858 | AG7: 430 | AH7: 428 | AI7: 482 | AJ7: 구향1리 | AK7: 198 | AL7: 99 | AM7: 99 | AN7: 102 | AO7: 상1리 | AP7: 200 | AQ7: 97 | AR7: 103 | AS7: 116 | AT7: 금락1리 | AU7: 1651 | AV7: 874 | AW7: 777 | AX7: 1147
A8: 구룡포2리 | B8: 1061 | C8: 529 | D8: 532 | E8: 609 | F8: 감포2리 | G8: 868 | H8: 434 | I8: 434 | J8: 519 | K8: 인2리 | L8: 168 | M8: 92 | N8: 76 | O8: 95 | P8: 안교2리 | Q8: 346 | R8: 148 | S8: 198 | T8: 212 | U8: 동부리 | V8: =SUM(W8:X8) -> 1049 | W8: 531 | X8: 518 | Y8: 525 | Z8: 성내2리 | AA8: 215 | AB8: 91 | AC8: 124 | AD8: 117 | AE8: 교대2리 | AF8: 548 | AG8: 274 | AH8: 274 | AI8: 301 | AJ8: 구향2리 | AK8: 744 | AL8: 349 | AM8: 395 | AN8: 392 | AO8: 상2리 | AP8: 455 | AQ8: 210 | AR8: 245 | AS8: 252 | AT8: 금락2리 | AU8: 1413 | AV8: 742 | AW8: 671 | AX8: 913
A9: 구룡포3리 | B9: 256 | C9: 123 | D9: 133 | E9: 190 | F9: 감포3리 | G9: 444 | H9: 235 | I9: 209 | J9: 279 | K9: 인3리 | L9: 76 | M9: 37 | N9: 39 | O9: 48 | P9: 안교3리 | Q9: 126 | R9: 68 | S9: 58 | T9: 78 | U9: 노상리 | V9: =SUM(W9:X9) -> 1993 | W9: 889 | X9: 1104 | Y9: 989 | Z9: 성내3리 | AA9: 452 | AB9: 211 | AC9: 241 | AD9: 247 | AE9: 교대3리 | AF9: 357 | AG9: 197 | AH9: 160 | AI9: 194 | AJ9: 구향3리 | AK9: 610 | AL9: 290 | AM9: 320 | AN9: 343 | AO9: 하1리 | AP9: 573 | AQ9: 276 | AR9: 297 | AS9: 316 | AT9: 금락3리 | AU9: 67 | AV9: 27 | AW9: 40 | AX9: 41
A10: 구룡포4리 | B10: 397 | C10: 197 | D10: 200 | E10: 279 | F10: 감포4리 | G10: 495 | H10: 246 | I10: 249 | J10: 289 | K10: 인4리 | L10: 128 | M10: 61 | N10: 67 | O10: 65 | P10: 상리1리 | Q10: 209 | R10: 107 | S10: 102 | T10: 110 | U10: 이문리 | V10: =SUM(W10:X10) -> 1770 | W10: 884 | X10: 886 | Y10: 862 | Z10: 성내4리 | AA10: 937 | AB10: 457 | AC10: 480 | AD10: 487 | AE10: 교대4리 | AF10: 980 | AG10: 460 | AH10: 520 | AI10: 443 | AJ10: 구향4리 | AK10: 196 | AL10: 95 | AM10: 101 | AN10: 114 | AO10: 하2리 | AP10: 622 | AQ10: 303 | AR10: 319 | AS10: 346 | AT10: 금락4리 | AU10: 1459 | AV10: 733 | AW10: 726 | AX10: 1004
A11: 구룡포5리 | B11: 393 | C11: 190 | D11: 203 | E11: 263 | F11: 감포5리 | G11: 281 | H11: 133 | I11: 148 | J11: 162 | K11: 의1리 | L11: 335 | M11: 174 | N11: 161 | O11: 189 | P11: 상리2리 | Q11: 102 | R11: 55 | S11: 47 | T11: 51 | U11: 죽장1리 | V11: =SUM(W11:X11) -> 208 | W11: 114 | X11: 94 | Y11: 107 | Z11: 동부1리 | AA11: 1104 | AB11: 544 | AC11: 560 | AD11: 507 | AE11: 덕성리 | AF11: 789 | AG11: 387 | AH11: 402 | AI11: 459 | AJ11: 구향5리 | AK11: 406 | AL11: 200 | AM11: 206 | AN11: 294 | AO11: 교촌리 | AP11: 741 | AQ11: 327 | AR11: 414 | AS11: 456 | AT11: 금락5리 | AU11: 1434 | AV11: 657 | AW11: 777 | AX11: 626
A12: 구룡포6리 | B12: 523 | C12: 253 | D12: 270 | E12: 361 | F12: 오류1리 | G12: 170 | H12: 87 | I12: 83 | J12: 103 | K12: 의2리 | L12: 104 | M12: 49 | N12: 55 | O12: 64 | P12: 상리3리 | Q12: 151 | R12: 86 | S12: 65 | T12: 92 | U12: 죽장2리 | V12: =SUM(W12:X12) -> 199 | W12: 97 | X12: 102 | Y12: 102 | Z12: 동부2리 | AA12: 616 | AB12: 307 | AC12: 309 | AD12: 301 | AE12: 성천리 | AF12: 128 | AG12: 67 | AH12: 61 | AI12: 75 | AJ12: 구향6리 | AK12: 423 | AL12: 200 | AM12: 223 | AN12: 175 | AO12: 요성리 | AP12: 329 | AQ12: 150 | AR12: 179 | AS12: 176 | AT12: 금락6리 | AU12: 2796 | AV12: 1333 | AW12: 1463 | AX12: 1111
A13: 구룡포7리 | B13: 117 | C13: 62 | D13: 55 | E13: 66 | F13: 오류2리 | G13: 331 | H13: 162 | I13: 169 | J13: 211 | K13: 예1리 | L13: 125 | M13: 64 | N13: 61 | O13: 67 | P13: 하리1리 | Q13: 222 | R13: 107 | S13: 115 | T13: 118 | U13: 봉곡1리 | V13: =SUM(W13:X13) -> 149 | W13: 70 | X13: 79 | Y13: 94 | Z13: 동부3리 | AA13: 710 | AB13: 346 | AC13: 364 | AD13: 438 | AE13: 대미1리 | AF13: 166 | AG13: 95 | AH13: 71 | AI13: 97 | AJ13: 오동1리 | AK13: 568 | AL13: 242 | AM13: 326 | AN13: 213 | AO13: 지곡1리 | AP13: 75 | AQ13: 37 | AR13: 38 | AS13: 47 | AT13: 금락7리 | AU13: 1493 | AV13: 716 | AW13: 777 | AX13: 685
A14: 삼정1리 | B14: 108 | C14: 50 | D14: 58 | E14: 68 | F14: 오류3리 | G14: 122 | H14: 68 | I14: 54 | J14: 76 | K14: 예2리 | L14: 151 | M14: 73 | N14: 78 | O14: 75 | P14: 하리2리 | Q14: 363 | R14: 191 | S14: 172 | T14: 203 | U14: 봉곡2리 | V14: =SUM(W14:X14) -> 67 | W14: 34 | X14: 33 | Y14: 38 | Z14: 동부4리 | AA14: 975 | AB14: 490 | AC14: 485 | AD14: 449 | AE14: 대미2리 | AF14: 135 | AG14: 70 | AH14: 65 | AI14: 77 | AJ14: 오동2리 | AK14: 227 | AL14: 117 | AM14: 110 | AN14: 138 | AO14: 지곡2리 | AP14: 86 | AQ14: 39 | AR14: 47 | AS14: 56 | AT14: 금락8리 | AU14: 1256 | AV14: 640 | AW14: 616 | AX14: 548
A15: 삼정2리 | B15: 165 | C15: 77 | D15: 88 | E15: 106 | F15: 오류4리 | G15: 240 | H15: 117 | I15: 123 | J15: 154 | K15: 지1리 | L15: 190 | M15: 88 | N15: 102 | O15: 98 | P15: 마애리 | Q15: 161 | R15: 73 | S15: 88 | T15: 97 | U15: 포상1리 | V15: =SUM(W15:X15) -> 88 | W15: 50 | X15: 38 | Y15: 45 | Z15: 동부5리 | AA15: 202 | AB15: 105 | AC15: 97 | AD15: 115 | AE15: 석섬리 | AF15: 155 | AG15: 90 | AH15: 65 | AI15: 104 | AJ15: 오사1리 | AK15: 265 | AL15: 134 | AM15: 131 | AN15: 148 | AO15: 마원1리 | AP15: 193 | AQ15: 92 | AR15: 101 | AS15: 117 | AT15: 동서1리 | AU15: 945 | AV15: 499 | AW15: 446 | AX15: 507
A16: 삼정3리 | B16: 147 | C16: 70 | D16: 77 | E16: 96 | F16: 전동리 | G16: 250 | H16: 132 | I16: 118 | J16: 150 | K16: 지2리 | L16: 101 | M16: 50 | N16: 51 | O16: 60 | P16: 수1리 | Q16: 178 | R16: 86 | S16: 92 | T16: 92 | U16: 포상2리 | V16: =SUM(W16:X16) -> 90 | W16: 45 | X16: 45 | Y16: 53 | Z16: 동부6리 | AA16: 227 | AB16: 104 | AC16: 123 | AD16: 135 | AE16: 원제1리 | AF16: 314 | AG16: 173 | AH16: 141 | AI16: 191 | AJ16: 오사2리 | AK16: 27 | AL16: 19 | AM16: 8 | AN16: 17 | AO16: 마원2리 | AP16: 129 | AQ16: 62 | AR16: 67 | AS16: 73 | AT16: 동서2리 | AU16: 488 | AV16: 263 | AW16: 225 | AX16: 269
A17: 석병1리 | B17: 191 | C17: 98 | D17: 93 | E17: 124 | F17: 전촌1리 | G17: 190 | H17: 92 | I17: 98 | J17: 114 | K17: 대신1리 | L17: 218 | M17: 109 | N17: 109 | O17: 118 | P17: 수2리 | Q17: 120 | R17: 67 | S17: 53 | T17: 62 | U17: 소재리 | V17: =SUM(W17:X17) -> 134 | W17: 74 | X17: 60 | Y17: 76 | Z17: 산법리 | AA17: 646 | AB17: 376 | AC17: 270 | AD17: 541 | AE17: 원제2리 | AF17: 1070 | AG17: 694 | AH17: 376 | AI17: 943 | AJ17: 증촌1리 | AK17: 311 | AL17: 144 | AM17: 167 | AN17: 150 | AO17: 마원3리 | AP17: 110 | AQ17: 53 | AR17: 57 | AS17: 59 | AT17: 동서3리 | AU17: 139 | AV17: 65 | AW17: 74 | AX17: 73
A18: 석병2리 | B18: 290 | C18: 151 | D18: 139 | E18: 196 | F18: 전촌2리 | G18: 200 | H18: 99 | I18: 101 | J18: 120 | K18: 대신2리 | L18: 142 | M18: 69 | N18: 73 | O18: 74 | P18: 회곡리 | Q18: 146 | R18: 72 | S18: 74 | T18: 85 | U18: 내고1리 | V18: =SUM(W18:X18) -> 177 | W18: 86 | X18: 91 | Y18: 91 | Z18: 미곡리 | AA18: 112 | AB18: 65 | AC18: 47 | AD18: 63 | AE18: 냉천1리 | AF18: 663 | AG18: 339 | AH18: 324 | AI18: 353 | AJ18: 증촌2리 | AK18: 129 | AL18: 67 | AM18: 62 | AN18: 68 | AO18: 진안리 | AP18: 116 | AQ18: 62 | AR18: 54 | AS18: 70 | AT18: 동서4리 | AU18: 1166 | AV18: 539 | AW18: 627 | AX18: 505
... A35: 생지2리 | B35: 730 | C35: 354 | D35: 376 | E35: 356 | F35: 양월3리 | G35: 282 | H35: 134 | I35: 148 | J35: 153 | K35: 송천4리 | L35: 280 | M35: 149 | N35: 131 | O35: 163 | P35: 오미2리 | Q35: 142 | R35: 71 | S35: 71 | T35: 84 | U35: 신기리 | V35: =SUM(W35:X35) -> 173 | W35: 98 | X35: 75 | Y35: 89 | Z35: 전구1리 | AA35: 162 | AB35: 83 | AC35: 79 | AD35: 91 | AE35: 원기리 | AF35: 219 | AG35: 109 | AH35: 110 | AI35: 131 | AJ35: 신덕1리 | AK35: 67 | AL35: 29 | AM35: 38 | AN35: 46 | AO35: 갈평2리 | AP35: 116 | AQ35: 60 | AR35: 56 | AS35: 64 | AT35: 청천리 | AU35: 267 | AV35: 145 | AW35: 122 | AX35: 157
A36: 생지3리 | B36: 1830 | C36: 906 | D36: 924 | E36: 720 | F36: 양월4리 | G36: 495 | H36: 242 | I36: 253 | J36: 290 | K36: 송천5리 | L36: 387 | M36: 184 | N36: 203 | O36: 199 | P36: 괴정리 | Q36: 297 | R36: 151 | S36: 146 | T36: 163 | U36: 고아읍 | V36: =SUM(W36:X36) -> 37598 | W36: =SUM(W37:W90) -> 18869 | X36: =SUM(X37:X90) -> 18729 | Y36: =SUM(Y37:Y90) -> 15293 | Z36: 전구2리 | AA36: 86 | AB36: 47 | AC36: 39 | AD36: 47 | AE36: 신대리 | AF36: 490 | AG36: 256 | AH36: 234 | AI36: 270 | AJ36: 신덕2리 | AK36: 77 | AL36: 36 | AM36: 41 | AN36: 43 | AO36: 중평리 | AP36: 129 | AQ36: 67 | AR36: 62 | AS36: 77 | AT36: 환상1리 | AU36: 159 | AV36: 79 | AW36: 80 | AX36: 90
A37: 생지4리 | B37: 2109 | C37: 1077 | D37: 1032 | E37: 873 | F37: 양월5리 | G37: 691 | H37: 331 | I37: 360 | J37: 388 | K37: 송천6리 | L37: 596 | M37: 302 | N37: 294 | O37: 240 | P37: 매곡1리 | Q37: 173 | R37: 89 | S37: 84 | T37: 98 | U37: 관심1리 | V37: =SUM(W37:X37) -> 261 | W37: 133 | X37: 128 | Y37: 134 | Z37: 이산면 | AA37: 2195 | AB37: 1132 | AC37: 1063 | AD37: 1190 | AE37: 남성리 | AF37: 127 | AG37: 62 | AH37: 65 | AI37: 73 | AJ37: 금곡리 | AK37: 123 | AL37: 58 | AM37: 65 | AN37: 65 | AO37: 관음1리 | AP37: 166 | AQ37: 98 | AR37: 68 | AS37: 101 | AT37: 환상2리 | AU37: 129 | AV37: 67 | AW37: 62 | AX37: 63
A38: 생지5리 | B38: 2019 | C38: 986 | D38: 1033 | E38: 822 | F38: 양월6리 | G38: 491 | H38: 235 | I38: 256 | J38: 287 | K38: 대성1리 | L38: 74 | M38: 40 | N38: 34 | O38: 49 | P38: 매곡2리 | Q38: 310 | R38: 179 | S38: 131 | T38: 213 | U38: 관심2리 | V38: =SUM(W38:X38) -> 588 | W38: 286 | X38: 302 | Y38: 310 | Z38: 원리 | AA38: 427 | AB38: 219 | AC38: 208 | AD38: 218 | AE38: 삼호1리 | AF38: 160 | AG38: 79 | AH38: 81 | AI38: 97 | AJ38: 하갈1리 | AK38: 82 | AL38: 39 | AM38: 43 | AN38: 53 | AO38: 관음2리 | AP38: 67 | AQ38: 34 | AR38: 33 | AS38: 38 | AT38: 환상3리 | AU38: 177 | AV38: 87 | AW38: 90 | AX38: 108
A39: 괴정1리 | B39: 1655 | C39: 858 | D39: 797 | E39: 823 | F39: 육통1리 | G39: 240 | H39: 119 | I39: 121 | J39: 141 | K39: 대성2리 | L39: 151 | M39: 67 | N39: 84 | O39: 85 | P39: 소산1리 | Q39: 219 | R39: 111 | S39: 108 | T39: 130 | U39: 이례1리 | V39: =SUM(W39:X39) -> 292 | W39: 140 | X39: 152 | Y39: 152 | Z39: 신암1리 | AA39: 48 | AB39: 25 | AC39: 23 | AD39: 25 | AE39: 삼호2리 | AF39: 312 | AG39: 166 | AH39: 146 | AI39: 179 | AJ39: 하갈2리 | AK39: 46 | AL39: 24 | AM39: 22 | AN39: 27 | AO39: 가은읍 | AP39: 3889 | AQ39: 1913 | AR39: 1976 | AS39: 2333 | AT39: 대조1리 | AU39: 170 | AV39: 87 | AW39: 83 | AX39: 93
A40: 괴정2리 | B40: 620 | C40: 300 | D40: 320 | E40: 328 | F40: 육통2리 | G40: 262 | H40: 140 | I40: 122 | J40: 158 | K40: 농소면 | L40: 3099 | M40: 1618 | N40: 1481 | O40: 1625 | P40: 소산2리 | Q40: 158 | R40: 82 | S40: 76 | T40: 79 | U40: 이례2리 | V40: =SUM(W40:X40) -> 551 | W40: 280 | X40: 271 | Y40: 252 | Z40: 신암2리 | AA40: 73 | AB40: 39 | AC40: 34 | AD40: 43 | AE40: 청통면 | AF40: 3979 | AG40: 2112 | AH40: 1867 | AI40: 2438 | AJ40: 사벌국면 | AK40: 3686 | AL40: 1824 | AM40: 1862 | AN40: 2088 | AO40: 왕릉1리 | AP40: 634 | AQ40: 303 | AR40: 331 | AS40: 381 | AT40: 대조2리 | AU40: 207 | AV40: 108 | AW40: 99 | AX40: 115
A41: 동문1리 | B41: 1353 | C41: 673 | D41: 680 | E41: 710 | F41: 육통3리 | G41: 113 | H41: 55 | I41: 58 | J41: 67 | K41: 입석리 | L41: 359 | M41: 200 | N41: 159 | O41: 190 | P41: 와룡면 | Q41: 3,868 | R41: 1989 | S41: 1879 | T41: 2134 | U41: 오로1리 | V41: =SUM(W41:X41) -> 454 | W41: 241 | X41: 213 | Y41: 228 | Z41: 신암3리 | AA41: 158 | AB41: 87 | AC41: 71 | AD41: 97 | AE41: 호당1리 | AF41: 112 | AG41: 50 | AH41: 62 | AI41: 71 | AJ41: 덕담1리 | AK41: 177 | AL41: 89 | AM41: 88 | AN41: 99 | AO41: 왕릉2리 | AP41: 217 | AQ41: 102 | AR41: 115 | AS41: 148 | AT41: 동서6리 | AU41: 880 | AV41: 434 | AW41: 446 | AX41: 429
A42: 동문2리 | B42: 1687 | C42: 855 | D42: 832 | E42: 808 | F42: 노당1리 | G42: 198 | H42: 105 | I42: 93 | J42: 116 | K42: 신촌리 | L42: 418 | M42: 208 | N42: 210 | O42: 205 | P42: 중가구1 | Q42: 143 | R42: 79 | S42: 64 | T42: 88 | U42: 오로2리 | V42: =SUM(W42:X42) -> 901 | W42: 442 | X42: 459 | Y42: 406 | Z42: 지동1리 | AA42: 61 | AB42: 32 | AC42: 29 | AD42: 34 | AE42: 호당2리 | AF42: 199 | AG42: 105 | AH42: 94 | AI42: 121 | AJ42: 덕담2리 | AK42: 161 | AL42: 79 | AM42: 82 | AN42: 97 | AO42: 왕릉3리 | AP42: 284 | AQ42: 125 | AR42: 159 | AS42: 182 | AT42: 동서7리 | AU42: 2506 | AV42: 1269 | AW42: 1237 | AX42: 886
A43: 동문3리 | B43: 908 | C43: 473 | D43: 435 | E43: 341 | F43: 노당2리 | G43: 190 | H43: 92 | I43: 98 | J43: 116 | K43: 월곡1리 | L43: 326 | M43: 161 | N43: 165 | O43: 184 | P43: 중가구2 | Q43: 121 | R43: 55 | S43: 66 | T43: 64 | U43: 오로3리 | V43: =SUM(W43:X43) -> 1005 | W43: 514 | X43: 491 | Y43: 462 | Z43: 지동2리 | AA43: 99 | AB43: 42 | AC43: 57 | AD43: 54 | AE43: 우천1리 | AF43: 201 | AG43: 109 | AH43: 92 | AI43: 134 | AJ43: 덕담3리 | AK43: 242 | AL43: 124 | AM43: 118 | AN43: 168 | AO43: 갈전1리 | AP43: 190 | AQ43: 87 | AR43: 103 | AS43: 99 | AT43: 서사2리 | AU43: 2205 | AV43: 1148 | AW43: 1057 | AX43: 708
A44: 오천1리 | B44: 1574 | C44: 843 | D44: 731 | E44: 718 | F44: 산대1리 | G44: 504 | H44: 246 | I44: 258 | J44: 256 | K44: 월곡2리 | L44: 136 | M44: 69 | N44: 67 | O44: 64 | P44: 가구1리 | Q44: 380 | R44: 185 | S44: 195 | T44: 175 | U44: 대망1리 | V44: =SUM(W44:X44) -> 174 | W44: 91 | X44: 83 | Y44: 89 | Z44: 지동3리 | AA44: 46 | AB44: 27 | AC44: 19 | AD44: 27 | AE44: 우천2리 | AF44: 120 | AG44: 63 | AH44: 57 | AI44: 68 | AJ44: 원흥1리 | AK44: 95 | AL44: 42 | AM44: 53 | AN44: 56 | AO44: 갈전2리 | AP44: 101 | AQ44: 51 | AR44: 50 | AS44: 55 | AT44: 서사3리 | AU44: 1800 | AV44: 932 | AW44: 868 | AX44: 645
A45: 오천2리 | B45: 1488 | C45: 775 | D45: 713 | E45: 463 | F45: 산대2리 | G45: 304 | H45: 137 | I45: 167 | J45: 164 | K45: 월곡3리 | L45: 256 | M45: 160 | N45: 96 | O45: 183 | P45: 가구2리 | Q45: 170 | R45: 81 | S45: 89 | T45: 97 | U45: 대망2리 | V45: =SUM(W45:X45) -> 135 | W45: 80 | X45: 55 | Y45: 77 | Z45: 석포1리 | AA45: 94 | AB45: 49 | AC45: 45 | AD45: 56 | AE45: 보성리 | AF45: 236 | AG45: 126 | AH45: 110 | AI45: 161 | AJ45: 원흥2리 | AK45: 193 | AL45: 91 | AM45: 102 | AN45: 106 | AO45: 갈전3리 | AP45: 39 | AQ45: 23 | AR45: 16 | AS45: 30 | AT45: 서사4리 | AU45: 1778 | AV45: 904 | AW45: 874 | AX45: 764
A46: 유강1리 | B46: 157 | C46: 82 | D46: 75 | E46: 92 | F46: 산대3리 | G46: 1123 | H46: 624 | I46: 499 | J46: 587 | K46: 월곡4리 | L46: 115 | M46: 59 | N46: 56 | O46: 58 | P46: 산야1리 | Q46: 66 | R46: 38 | S46: 28 | T46: 43 | U46: 파산리 | V46: =SUM(W46:X46) -> 84 | W46: 48 | X46: 36 | Y46: 56 | Z46: 석포2리 | AA46: 122 | AB46: 66 | AC46: 56 | AD46: 69 | AE46: 신덕1리 | AF46: 102 | AG46: 53 | AH46: 49 | AI46: 64 | AJ46: 원흥3리 | AK46: 106 | AL46: 53 | AM46: 53 | AN46: 62 | AO46: 저음리 | AP46: 77 | AQ46: 41 | AR46: 36 | AS46: 49 | AT46: 서사5리 | AU46: 1029 | AV46: 536 | AW46: 493 | AX46: 533
A47: 유강2리 | B47: 1257 | C47: 638 | D47: 619 | E47: 442 | F47: 산대4리 | G47: 228 | H47: 117 | I47: 111 | J47: 125 | K47: 용암1리 | L47: 248 | M47: 124 | N47: 124 | O47: 124 | P47: 산야2리 | Q47: 85 | R47: 43 | S47: 42 | T47: 47 | U47: 신촌리 | V47: =SUM(W47:X47) -> 261 | W47: 137 | X47: 124 | Y47: 133 | Z47: 용상1리 | AA47: 124 | AB47: 65 | AC47: 59 | AD47: 64 | AE47: 신덕2리 | AF47: 116 | AG47: 56 | AH47: 60 | AI47: 66 | AJ47: 두릉리 | AK47: 196 | AL47: 85 | AM47: 111 | AN47: 110 | AO47: 작천1리 | AP47: 202 | AQ47: 95 | AR47: 107 | AS47: 121 | AT47: 양지2리 | AU47: 800 | AV47: 401 | AW47: 399 | AX47: 651
A48: 유강3리 | B48: 996 | C48: 482 | D48: 514 | E48: 386 | F48: 산대5리 | G48: 2698 | H48: 1280 | I48: 1418 | J48: 1449 | K48: 용암2리 | L48: 71 | M48: 37 | N48: 34 | O48: 47 | P48: 산야3리 | Q48: 65 | R48: 32 | S48: 33 | T48: 38 | U48: 황산리 | V48: =SUM(W48:X48) -> 206 | W48: 98 | X48: 108 | Y48: 124 | Z48: 용상2리 | AA48: 142 | AB48: 73 | AC48: 69 | AD48: 72 | AE48: 대평리 | AF48: 222 | AG48: 117 | AH48: 105 | AI48: 140 | AJ48: 목가리 | AK48: 195 | AL48: 106 | AM48: 89 | AN48: 104 | AO48: 작천2리 | AP48: 127 | AQ48: 64 | AR48: 63 | AS48: 68 | AT48: 양지3리 | AU48: 662 | AV48: 349 | AW48: 313 | AX48: 626
A49: 유강4리 | B49: 1419 | C49: 720 | D49: 699 | E49: 495 | F49: 산대6리 | G49: 1021 | H49: 503 | I49: 518 | J49: 545 | K49: 도공촌리 | L49: 324 | M49: 171 | N49: 153 | O49: 125 | P49: 주계리 | Q49: 194 | R49: 99 | S49: 95 | T49: 106 | U49: 횡산리 | V49: =SUM(W49:X49) -> 134 | W49: 66 | X49: 68 | Y49: 86 | Z49: 신천1리 | AA49: 63 | AB49: 30 | AC49: 33 | AD49: 30 | AE49: 죽정리 | AF49: 156 | AG49: 82 | AH49: 74 | AI49: 93 | AJ49: 덕가리 | AK49: 179 | AL49: 91 | AM49: 88 | AN49: 96 | AO49: 성저1리 | AP49: 165 | AQ49: 78 | AR49: 87 | AS49: 98 | AT49: 진량읍 | AU49: 33917 | AV49: 17715 | AW49: 16202 | AX49: 17232
A50: 유강5리 | B50: 2135 | C50: 1125 | D50: 1010 | E50: 906 | F50: 산대7리 | G50: 2013 | H50: 1009 | I50: 1004 | J50: 803 | K50: 봉곡1리 | L50: 311 | M50: 161 | N50: 150 | O50: 168 | P50: 가야리 | Q50: 171 | R50: 90 | S50: 81 | T50: 101 | U50: 외예리 | V50: =SUM(W50:X50) -> 197 | W50: 101 | X50: 96 | Y50: 106 | Z50: 신천2리 | AA50: 92 | AB50: 41 | AC50: 51 | AD50: 53 | AE50: 송천리 | AF50: 309 | AG50: 163 | AH50: 146 | AI50: 180 | AJ50: 용담1리 | AK50: 122 | AL50: 59 | AM50: 63 | AN50: 64 | AO50: 성저2리 | AP50: 71 | AQ50: 41 | AR50: 30 | AS50: 36 | AT50: 신상1리 | AU50: 562 | AV50: 302 | AW50: 260 | AX50: 280
A51: 유강6리 | B51: 1672 | C51: 866 | D51: 806 | E51: 660 | F51: 산대8리 | G51: 1165 | H51: 573 | I51: 592 | J51: 759 | K51: 봉곡2리 | L51: 123 | M51: 62 | N51: 61 | O51: 62 | P51: 지내1리 | Q51: 146 | R51: 73 | S51: 73 | T51: 91 | U51: 내예리 | V51: =SUM(W51:X51) -> 89 | W51: 40 | X51: 49 | Y51: 56 | Z51: 운문1리 | AA51: 158 | AB51: 75 | AC51: 83 | AD51: 90 | AE51: 원촌1리 | AF51: 266 | AG51: 146 | AH51: 120 | AI51: 155 | AJ51: 용담2리 | AK51: 116 | AL51: 59 | AM51: 57 | AN51: 58 | AO51: 수예리 | AP51: 64 | AQ51: 33 | AR51: 31 | AS51: 36 | AT51: 신상2리 | AU51: 563 | AV51: 347 | AW51: 216 | AX51: 336
A52: 유강7리 | B52: 2231 | C52: 1110 | D52: 1121 | E52: 756 | F52: 산대9리 | G52: 1585 | H52: 789 | I52: 796 | J52: 822 | K52: 연명리 | L52: 246 | M52: 121 | N52: 125 | O52: 126 | P52: 지내2리 | Q52: 157 | R52: 84 | S52: 73 | T52: 77 | U52: 원호1리 | V52: =SUM(W52:X52) -> 45 | W52: 20 | X52: 25 | Y52: 24 | Z52: 운문2리 | AA52: 178 | AB52: 97 | AC52: 81 | AD52: 96 | AE52: 원촌2리 | AF52: 114 | AG52: 53 | AH52: 61 | AI52: 81 | AJ52: 용담3리 | AK52: 73 | AL52: 37 | AM52: 36 | AN52: 42 | AO52: 민지1리 | AP52: 67 | AQ52: 37 | AR52: 30 | AS52: 45 | AT52: 신상3리 | AU52: 757 | AV52: 502 | AW52: 255 | AX52: 532
... A61: 택전1리 | B61: 611 | C61: 322 | D61: 289 | E61: 341 | F61: 강교2리 | G61: 63 | H61: 36 | I61: 27 | J61: 43 | K61: 월명1리 | L61: 245 | M61: 98 | N61: 147 | O61: 163 | P61: 감애1리 | Q61: 250 | R61: 126 | S61: 124 | T61: 135 | U61: 원호10리 | V61: =SUM(W61:X61) -> 1593 | W61: 804 | X61: 789 | Y61: 562 | Z61: 강동2리 | AA61: 36 | AB61: 19 | AC61: 17 | AD61: 23 | AE61: 용천리 | AF61: 107 | AG61: 64 | AH61: 43 | AI61: 65 | AJ61: 금흔1리 | AK61: 137 | AL61: 62 | AM61: 75 | AN61: 73 | AO61: 완장1리 | AP61: 148 | AQ61: 71 | AR61: 77 | AS61: 98 | AT61: 선화5리 | AU61: 2150 | AV61: 1109 | AW61: 1041 | AX61: 1161
A62: 택전2리 | B62: 124 | C62: 68 | D62: 56 | E62: 76 | F62: 두류1리 | G62: 159 | H62: 78 | I62: 81 | J62: 99 | K62: 월명2리 | L62: 116 | M62: 58 | N62: 58 | O62: 71 | P62: 감애2리 | Q62: 81 | R62: 38 | S62: 43 | T62: 47 | U62: 원호11리 | V62: =SUM(W62:X62) -> 0 | W62: - | X62: - | Y62: - | Z62: 지곡1리 | AA62: 92 | AB62: 50 | AC62: 42 | AD62: 50 | AE62: 신원리 | AF62: 220 | AG62: 119 | AH62: 101 | AI62: 139 | AJ62: 금흔2리 | AK62: 46 | AL62: 23 | AM62: 23 | AN62: 27 | AO62: 완장2리 | AP62: 138 | AQ62: 69 | AR62: 69 | AS62: 84 | AT62: 선화6리 | AU62: 1592 | AV62: 797 | AW62: 795 | AX62: 666
A63: 인주리 | B63: 154 | C63: 76 | D63: 78 | E63: 79 | F63: 두류2리 | G63: 106 | H63: 51 | I63: 55 | J63: 67 | K63: 부상1리 | L63: 260 | M63: 142 | N63: 118 | O63: 153 | P63: 서현리 | Q63: 109 | R63: 60 | S63: 49 | T63: 64 | U63: 문성1리 | V63: =SUM(W63:X63) -> 884 | W63: 445 | X63: 439 | Y63: 387 | Z63: 지곡2리 | AA63: 92 | AB63: 48 | AC63: 44 | AD63: 59 | AE63: 신녕면 | AF63: 3699 | AG63: 1838 | AH63: 1861 | AI63: 2356 | AJ63: 화달1리 | AK63: 150 | AL63: 75 | AM63: 75 | AN63: 85 | AO63: 원북1리 | AP63: 105 | AQ63: 44 | AR63: 61 | AS63: 67 | AT63: 선화7리 | AU63: 1341 | AV63: 697 | AW63: 644 | AX63: 511
A64: 우복1리 | B64: 62 | C64: 30 | D64: 32 | E64: 42 | F64: 근계1리 | G64: 102 | H64: 56 | I64: 46 | J64: 55 | K64: 부상2리 | L64: 74 | M64: 33 | N64: 41 | O64: 47 | P64: 도곡리 | Q64: 60 | R64: 33 | S64: 27 | T64: 37 | U64: 문성2리 | V64: =SUM(W64:X64) -> 478 | W64: 242 | X64: 236 | Y64: 223 | Z64: 오운1리 | AA64: 166 | AB64: 89 | AC64: 77 | AD64: 100 | AE64: 치산1리 | AF64: 50 | AG64: 25 | AH64: 25 | AI64: 39 | AJ64: 화달2리 | AK64: 80 | AL64: 44 | AM64: 36 | AN64: 38 | AO64: 원북2리 | AP64: 105 | AQ64: 83 | AR64: 22 | AS64: 35 | AT64: 선화8리 | AU64: 1387 | AV64: 695 | AW64: 692 | AX64: 532
A65: 우복2리 | B65: 49 | C65: 21 | D65: 28 | E65: 25 | F65: 근계2리 | G65: 357 | H65: 181 | I65: 176 | J65: 203 | K65: 오봉1리 | L65: 163 | M65: 93 | N65: 70 | O65: 93 | P65: 가류1리 | Q65: 40 | R65: 23 | S65: 17 | T65: 25 | U65: 문성3리 | V65: =SUM(W65:X65) -> 476 | W65: 238 | X65: 238 | Y65: 233 | Z65: 오운2리 | AA65: 175 | AB65: 85 | AC65: 90 | AD65: 106 | AE65: 치산2리 | AF65: 200 | AG65: 103 | AH65: 97 | AI65: 119 | AJ65: 삼덕리 | AK65: 166 | AL65: 79 | AM65: 87 | AN65: 99 | AO65: 상괴1리 | AP65: 111 | AQ65: 52 | AR65: 59 | AS65: 77 | AT65: 보인1리 | AU65: 180 | AV65: 101 | AW65: 79 | AX65: 103
A66: 오천읍 | B66: 57623 | C66: 31001 | D66: 26622 | E66: 27863 | F66: 근계3리 | G66: 412 | H66: 200 | I66: 212 | J66: 228 | K66: 오봉2리 | L66: 138 | M66: 71 | N66: 67 | O66: 98 | P66: 가류2리 | Q66: 44 | R66: 21 | S66: 23 | T66: 26 | U66: 문성4리 | V66: =SUM(W66:X66) -> 671 | W66: 330 | X66: 341 | Y66: 284 | Z66: 천본1리 | AA66: 94 | AB66: 50 | AC66: 44 | AD66: 47 | AE66: 치산3리 | AF66: 45 | AG66: 23 | AH66: 22 | AI66: 32 | AJ66: 중동면 | AK66: 1315 | AL66: 650 | AM66: 665 | AN66: 764 | AO66: 상괴2리 | AP66: 63 | AQ66: 30 | AR66: 33 | AS66: 44 | AT66: 보인2리 | AU66: 195 | AV66: 106 | AW66: 89 | AX66: 107
A67: 원1리 | B67: 173 | C67: 88 | D67: 85 | E67: 79 | F67: 갑산1리 | G67: 152 | H67: 79 | I67: 73 | J67: 95 | K67: 봉천1리 | L67: 314 | M67: 160 | N67: 154 | O67: 166 | P67: 나소리 | Q67: 165 | R67: 93 | S67: 72 | T67: 92 | U67: 문성5리 | V67: =SUM(W67:X67) -> 1771 | W67: 868 | X67: 903 | Y67: 579 | Z67: 천본2리 | AA67: 65 | AB67: 32 | AC67: 33 | AD67: 39 | AE67: 부산1리 | AF67: 95 | AG67: 51 | AH67: 44 | AI67: 68 | AJ67: 회상1리 | AK67: 109 | AL67: 59 | AM67: 50 | AN67: 74 | AO67: 하괴1리 | AP67: 160 | AQ67: 82 | AR67: 78 | AS67: 95 | AT67: 봉회1리 | AU67: 523 | AV67: 280 | AW67: 243 | AX67: 261
A68: 원2리 | B68: 2845 | C68: 1471 | D68: 1374 | E68: 1076 | F68: 갑산2리 | G68: 111 | H68: 53 | I68: 58 | J68: 73 | K68: 봉천2리 | L68: 123 | M68: 76 | N68: 47 | O68: 91 | P68: 오천1리 | Q68: 46 | R68: 22 | S68: 24 | T68: 28 | U68: 문성6리 | V68: =SUM(W68:X68) -> 529 | W68: 269 | X68: 260 | Y68: 266 | Z68: 금광1리 | AA68: 15 | AB68: 9 | AC68: 6 | AD68: 8 | AE68: 부산2리 | AF68: 131 | AG68: 67 | AH68: 64 | AI68: 85 | AJ68: 회상2리 | AK68: 111 | AL68: 59 | AM68: 52 | AN68: 67 | AO68: 하괴2리 | AP68: 124 | AQ68: 60 | AR68: 64 | AS68: 73 | AT68: 봉회2리 | AU68: 2613 | AV68: 1270 | AW68: 1343 | AX68: 1306
A69: 원3리 | B69: 1705 | C69: 876 | D69: 829 | E69: 570 | F69: 대동리 | G69: 178 | H69: 88 | I69: 90 | J69: 96 | K69: 초곡1리 | L69: 224 | M69: 119 | N69: 105 | O69: 135 | P69: 오천2리 | Q69: 120 | R69: 69 | S69: 51 | T69: 66 | U69: 문성7리 | V69: =SUM(W69:X69) -> 1601 | W69: 834 | X69: 767 | Y69: 544 | Z69: 금광2리 | AA69: 29 | AB69: 14 | AC69: 15 | AD69: 15 | AE69: 화서리 | AF69: 100 | AG69: 52 | AH69: 48 | AI69: 68 | AJ69: 오상1리 | AK69: 189 | AL69: 89 | AM69: 100 | AN69: 111 | AO69: 하괴3리 | AP69: 118 | AQ69: 57 | AR69: 61 | AS69: 64 | AT69: 봉회3리 | AU69: 1017 | AV69: 514 | AW69: 503 | AX69: 460
A70: 원4리 | B70: 2297 | C70: 1186 | D70: 1111 | E70: 800 | F70: 검단1리 | G70: 144 | H70: 78 | I70: 66 | J70: 84 | K70: 초곡2리 | L70: 29 | M70: 14 | N70: 15 | O70: 15 | P70: 오천3리 | Q70: 53 | R70: 27 | S70: 26 | T70: 34 | U70: 문성8리 | V70: =SUM(W70:X70) -> 1606 | W70: 806 | X70: 800 | Y70: 555 | Z70: 금광3리 | AA70: 20 | AB70: 10 | AC70: 10 | AD70: 13 | AE70: 화남1리 | AF70: 70 | AG70: 37 | AH70: 33 | AI70: 43 | AJ70: 오상2리 | AK70: 109 | AL70: 52 | AM70: 57 | AN70: 65 | AO70: 영순면 | AP70: 2326 | AQ70: 1238 | AR70: 1088 | AS70: 1469 | AT70: 북1리 | AU70: 246 | AV70: 123 | AW70: 123 | AX70: 122
A71: 원5리 | B71: 1004 | C71: 613 | D71: 391 | E71: 715 | F71: 검단2리 | G71: 168 | H71: 92 | I71: 76 | J71: 103 | K71: 운남1리 | L71: 182 | M71: 91 | N71: 91 | O71: 96 | P71: 북후면 | Q71: 2786 | R71: 1454 | S71: 1332 | T71: 1731 | U71: 문성9리 | V71: =SUM(W71:X71) -> 259 | W71: 126 | X71: 133 | Y71: 115 | Z71: 용혈1리 | AA71: 50 | AB71: 28 | AC71: 22 | AD71: 28 | AE71: 화남2리 | AF71: 51 | AG71: 29 | AH71: 22 | AI71: 35 | AJ71: 죽암1리 | AK71: 154 | AL71: 83 | AM71: 71 | AN71: 82 | AO71: 의곡1리 | AP71: 180 | AQ71: 89 | AR71: 91 | AS71: 104 | AT71: 북2리 | AU71: 99 | AV71: 56 | AW71: 43 | AX71: 51
A72: 원6리 | B72: 1552 | C72: 1003 | D72: 549 | E72: 1109 | F72: 사방리 | G72: 396 | H72: 195 | I72: 201 | J72: 223 | K72: 운남2리 | L72: 112 | M72: 61 | N72: 51 | O72: 60 | P72: 옹천1리 | Q72: 204 | R72: 99 | S72: 105 | T72: 118 | U72: 문성10리 | V72: =SUM(W72:X72) -> 1369 | W72: 674 | X72: 695 | Y72: 455 | Z72: 용혈2리 | AA72: 81 | AB72: 44 | AC72: 37 | AD72: 51 | AE72: 화남3리 | AF72: 157 | AG72: 78 | AH72: 79 | AI72: 104 | AJ72: 죽암2리 | AK72: 95 | AL72: 44 | AM72: 51 | AN72: 52 | AO72: 의곡2리 | AP72: 103 | AQ72: 54 | AR72: 49 | AS72: 54 | AT72: 북3리 | AU72: 2321 | AV72: 1163 | AW72: 1158 | AX72: 1056
A73: 원7리 | B73: 794 | C73: 559 | D73: 235 | E73: 633 | F73: 청령리 | G73: 277 | H73: 142 | I73: 135 | J73: 146 | K73: 계령면 | L73: 2277 | M73: 1164 | N73: 1113 | O73: 1222 | P73: 옹천2리 | Q73: 144 | R73: 65 | S73: 79 | T73: 87 | U73: 문성11리 | V73: =SUM(W73:X73) -> 1434 | W73: 736 | X73: 698 | Y73: 499 | Z73: 문수면 | AA73: 1910 | AB73: 989 | AC73: 921 | AD73: 1117 | AE73: 왕산1리 | AF73: 231 | AG73: 113 | AH73: 118 | AI73: 150 | AJ73: 간상1리 | AK73: 135 | AL73: 60 | AM73: 75 | AN73: 76 | AO73: 의곡3리 | AP73: 108 | AQ73: 56 | AR73: 52 | AS73: 75 | AT73: 북4리 | AU73: 1285 | AV73: 622 | AW73: 663 | AX73: 390
A74: 원8리 | B74: 1430 | C74: 985 | D74: 445 | E74: 1105 | F74: 건천읍 | G74: 8898 | H74: 4506 | I74: 4392 | J74: 5088 | K74: 황계1리 | L74: 331 | M74: 173 | N74: 158 | O74: 182 | P74: 옹천3리 | Q74: 336 | R74: 160 | S74: 176 | T74: 201 | U74: 문성12리 | V74: =SUM(W74:X74) -> 1249 | W74: 613 | X74: 636 | Y74: 486 | Z74: 승문1리 | AA74: 152 | AB74: 77 | AC74: 75 | AD74: 79 | AE74: 왕산2리 | AF74: 170 | AG74: 79 | AH74: 91 | AI74: 104 | AJ74: 간상2리 | AK74: 101 | AL74: 48 | AM74: 53 | AN74: 51 | AO74: 김용리 | AP74: 141 | AQ74: 83 | AR74: 58 | AS74: 77 | AT74: 부기1리 | AU74: 710 | AV74: 358 | AW74: 352 | AX74: 345
A75: 원9리 | B75: 1513 | C75: 780 | D75: 733 | E75: 564 | F75: 건천1리 | G75: 385 | H75: 195 | I75: 190 | J75: 236 | K75: 황계2리 | L75: 76 | M75: 35 | N75: 41 | O75: 42 | P75: 장기리 | Q75: 171 | R75: 89 | S75: 82 | T75: 98 | U75: 문성13리 | V75: =SUM(W75:X75) -> 1245 | W75: 640 | X75: 605 | Y75: 439 | Z75: 승문2리 | AA75: 70 | AB75: 33 | AC75: 37 | AD75: 43 | AE75: 매양1리 | AF75: 369 | AG75: 166 | AH75: 203 | AI75: 268 | AJ75: 신암리 | AK75: 122 | AL75: 62 | AM75: 60 | AN75: 73 | AO75: 포내1리 | AP75: 115 | AQ75: 53 | AR75: 62 | AS75: 61 | AT75: 부기2리 | AU75: 304 | AV75: 162 | AW75: 142 | AX75: 182
A76: 원10리 | B76: 1360 | C76: 718 | D76: 642 | E76: 584 | F76: 건천2리 | G76: 1540 | H76: 795 | I76: 745 | J76: 866 | K76: 신룡1리 | L76: 152 | M76: 78 | N76: 74 | O76: 82 | P76: 도촌1리 | Q76: 104 | R76: 56 | S76: 48 | T76: 63 | U76: 문성14리 | V76: =SUM(W76:X76) -> 853 | W76: 419 | X76: 434 | Y76: 332 | Z76: 만방1리 | AA76: 173 | AB76: 92 | AC76: 81 | AD76: 94 | AE76: 매양2리 | AF76: 75 | AG76: 42 | AH76: 33 | AI76: 52 | AJ76: 금당1리 | AK76: 63 | AL76: 31 | AM76: 32 | AN76: 38 | AO76: 포내2리 | AP76: 108 | AQ76: 63 | AR76: 45 | AS76: 61 | AT76: 부기3리 | AU76: 1892 | AV76: 913 | AW76: 979 | AX76: 909
A77: 원11리 | B77: 1323 | C77: 678 | D77: 645 | E77: 521 | F77: 건천3리 | G77: 250 | H77: 124 | I77: 126 | J77: 136 | K77: 신룡2리 | L77: 88 | M77: 41 | N77: 47 | O77: 46 | P77: 도촌2리 | Q77: 356 | R77: 231 | S77: 125 | T77: 306 | U77: 다식리 | V77: =SUM(W77:X77) -> 254 | W77: 125 | X77: 129 | Y77: 127 | Z77: 만방2리 | AA77: 115 | AB77: 67 | AC77: 48 | AD77: 71 | AE77: 화성1리 | AF77: 89 | AG77: 49 | AH77: 40 | AI77: 54 | AJ77: 금당2리 | AK77: 53 | AL77: 24 | AM77: 29 | AN77: 33 | AO77: 사근1리 | AP77: 438 | AQ77: 258 | AR77: 180 | AS77: 345 | AT77: 부기4리 | AU77: 803 | AV77: 349 | AW77: 454 | AX77: 437
A78: 원12리 | B78: 2087 | C78: 1088 | D78: 999 | E78: 809 | F78: 건천4리 | G78: 313 | H78: 157 | I78: 156 | J78: 163 | K78: 신룡3리 | L78: 181 | M78: 95 | N78: 86 | O78: 86 | P78: 오산리 | Q78: 180 | R78: 95 | S78: 85 | T78: 101 | U78: 괴평1리 | V78: =SUM(W78:X78) -> 96 | W78: 49 | X78: 47 | Y78: 48 | Z78: 적동1리 | AA78: 178 | AB78: 91 | AC78: 87 | AD78: 97 | AE78: 화성2리 | AF78: 294 | AG78: 142 | AH78: 152 | AI78: 169 | AJ78: 우물1리 | AK78: 40 | AL78: 23 | AM78: 17 | AN78: 23 | AO78: 사근2리 | AP78: 109 | AQ78: 53 | AR78: 56 | AS78: 64 | AT78: 양기1리 | AU78: 342 | AV78: 199 | AW78: 143 | AX78: 62
A79: 원13리 | B79: 643 | C79: 324 | D79: 319 | E79: 263 | F79: 건천5리 | G79: 632 | H79: 286 | I79: 346 | J79: 386 | K79: 덕촌1리 | L79: 68 | M79: 32 | N79: 36 | O79: 36 | P79: 도진리 | Q79: 147 | R79: 71 | S79: 76 | T79: 89 | U79: 괴평2리 | V79: =SUM(W79:X79) -> 183 | W79: 97 | X79: 86 | Y79: 99 | Z79: 적동2리 | AA79: 199 | AB79: 99 | AC79: 100 | AD79: 114 | AE79: 화성3리 | AF79: 231 | AG79: 108 | AH79: 123 | AI79: 147 | AJ79: 우물2리 | AK79: 34 | AL79: 16 | AM79: 18 | AN79: 19 | AO79: 왕태1리 | AP79: 69 | AQ79: 41 | AR79: 28 | AS79: 45 | AT79: 양기2리 | AU79: 2355 | AV79: 1171 | AW79: 1184 | AX79: 1099
A80: 원14리 | B80: 1849 | C80: 995 | D80: 854 | E80: 815 | F80: 천포1리 | G80: 626 | H80: 328 | I80: 298 | J80: 305 | K80: 덕촌2리 | L80: 70 | M80: 30 | N80: 40 | O80: 37 | P80: 물한리 | Q80: 147 | R80: 78 | S80: 69 | T80: 82 | U80: 괴평3리 | V80: =SUM(W80:X80) -> 269 | W80: 144 | X80: 125 | Y80: 146 | Z80: 권선리 | AA80: 79 | AB80: 39 | AC80: 40 | AD80: 45 | AE80: 화성4리 | AF80: 67 | AG80: 32 | AH80: 35 | AI80: 46 | AJ80: 낙동면 | AK80: 3798 | AL80: 1871 | AM80: 1927 | AN80: 2191 | AO80: 왕태2리 | AP80: 47 | AQ80: 21 | AR80: 26 | AS80: 31 | AT80: 상림리 | AU80: 780 | AV80: 468 | AW80: 312 | AX80: 576
A81: 원15리 | B81: 1873 | C81: 986 | D81: 887 | E81: 780 | F81: 천포2리 | G81: 662 | H81: 344 | I81: 318 | J81: 406 | K81: 덕촌3리 | L81: 74 | M81: 38 | N81: 36 | O81: 41 | P81: 연곡1리 | Q81: 107 | R81: 52 | S81: 55 | T81: 70 | U81: 괴평4리 | V81: =SUM(W81:X81) -> 221 | W81: 109 | X81: 112 | Y81: 99 | Z81: 월호1리 | AA81: 140 | AB81: 66 | AC81: 74 | AD81: 74 | AE81: 화성5리 | AF81: 55 | AG81: 27 | AH81: 28 | AI81: 38 | AJ81: 상촌1리 | AK81: 190 | AL81: 99 | AM81: 91 | AN81: 110 | AO81: 왕태3리 | AP81: 52 | AQ81: 25 | AR81: 27 | AS81: 34 | AT81: 내리리 | AU81: 531 | AV81: 288 | AW81: 243 | AX81: 467
A82: 문덕1리 | B82: 238 | C82: 136 | D82: 102 | E82: 117 | F82: 송선1리 | G82: 284 | H82: 147 | I82: 137 | J82: 184 | K82: 서부리 | L82: 245 | M82: 130 | N82: 115 | O82: 127 | P82: 연곡2리 | Q82: 118 | R82: 61 | S82: 57 | T82: 65 | U82: 송림리 | V82: =SUM(W82:X82) -> 338 | W82: 178 | X82: 160 | Y82: 161 | Z82: 월호2리 | AA82: 144 | AB82: 72 | AC82: 72 | AD82: 83 | AE82: 완전1리 | AF82: 365 | AG82: 179 | AH82: 186 | AI82: 219 | AJ82: 상촌2리 | AK82: 267 | AL82: 121 | AM82: 146 | AN82: 164 | AO82: 오룡리 | AP82: 81 | AQ82: 40 | AR82: 41 | AS82: 54 | AT82: 문천1리 | AU82: 52 | AV82: 24 | AW82: 28 | AX82: 32
... A90: 문덕9리 | B90: 1005 | C90: 598 | D90: 407 | E90: 635 | F90: 대곡2리 | G90: 178 | H90: 107 | I90: 71 | J90: 112 | K90: 감문면 | L90: 3164 | M90: 1594 | N90: 1570 | O90: 1845 | P90: 광평1리 | Q90: 102 | R90: 53 | S90: 49 | T90: 60 | U90: 예강2리 | V90: =SUM(W90:X90) -> 146 | W90: 72 | X90: 74 | Y90: 69 | Z90: 장수면 | AA90: 2056 | AB90: 1045 | AC90: 1011 | AD90: 1173 | AE90: 연계1리 | AF90: 112 | AG90: 60 | AH90: 52 | AI90: 68 | AJ90: 분황리 | AK90: 212 | AL90: 112 | AM90: 100 | AN90: 118 | AO90: 말응2리 | AP90: 98 | AQ90: 49 | AR90: 49 | AS90: 53 | AT90: 다문3리 | AU90: 50 | AV90: 28 | AW90: 22 | AX90: 35
A91: 문덕10리 | B91: 1447 | C91: 789 | D91: 658 | E91: 686 | F91: 화천1리 | G91: 196 | H91: 98 | I91: 98 | J91: 102 | K91: 보광리 | L91: 152 | M91: 80 | N91: 72 | O91: 83 | P91: 광평2리 | Q91: 142 | R91: 73 | S91: 69 | T91: 85 | U91: 산동읍 | V91: =SUM(W91:X91) -> 29780 | W91: =SUM(W92:W131) -> 15464 | X91: =SUM(X92:X131) -> 14316 | Y91: =SUM(Y92:Y131) -> 11433 | Z91: 반구1리 | AA91: 209 | AB91: 106 | AC91: 103 | AD91: 120 | AE91: 연계2리 | AF91: 383 | AG91: 204 | AH91: 179 | AI91: 109 | AJ91: 성동리 | AK91: 208 | AL91: 98 | AM91: 110 | AN91: 85 | AO91: 율곡1리 | AP91: 93 | AQ91: 56 | AR91: 37 | AS91: 58 | AT91: 아사리 | AU91: 119 | AV91: 65 | AW91: 54 | AX91: 69
A92: 문덕11리 | B92: 1529 | C92: 930 | D92: 599 | E92: 953 | F92: 화천2리 | G92: 126 | H92: 61 | I92: 65 | J92: 73 | K92: 금라리 | L92: 239 | M92: 117 | N92: 122 | O92: 135 | P92: 저전리 | Q92: 345 | R92: 173 | S92: 172 | T92: 190 | U92: 동곡1리 | V92: =SUM(W92:X92) -> 156 | W92: 92 | X92: 64 | Y92: 83 | Z92: 반구2리 | AA92: 185 | AB92: 93 | AC92: 92 | AD92: 100 | AE92: 덕암1리 | AF92: 117 | AG92: 55 | AH92: 62 | AI92: 73 | AJ92: 신상1리 | AK92: 185 | AL92: 85 | AM92: 100 | AN92: 111 | AO92: 율곡2리 | AP92: 104 | AQ92: 55 | AR92: 49 | AS92: 62 | AT92: 시문리 | AU92: 47 | AV92: 23 | AW92: 24 | AX92: 30
A93: 문덕12리 | B93: 3105 | C93: 1629 | D93: 1476 | E93: 1192 | F93: 화천3리 | G93: 236 | H93: 119 | I93: 117 | J93: 142 | K93: 구야리 | L93: 200 | M93: 96 | N93: 104 | O93: 107 | P93: 태장1리 | Q93: 64 | R93: 31 | S93: 33 | T93: 45 | U93: 동곡2리 | V93: =SUM(W93:X93) -> 203 | W93: 114 | X93: 89 | Y93: 96 | Z93: 두전1리 | AA93: 141 | AB93: 80 | AC93: 61 | AD93: 83 | AE93: 덕암2리 | AF93: 94 | AG93: 50 | AH93: 44 | AI93: 56 | AJ93: 신상2리 | AK93: 190 | AL93: 92 | AM93: 98 | AN93: 113 | AO93: 산양면 | AP93: 2991 | AQ93: 1528 | AR93: 1463 | AS93: 1745 | AT93: 현내리 | AU93: 150 | AV93: 76 | AW93: 74 | AX93: 96
A94: 항사리 | B94: 89 | C94: 51 | D94: 38 | E94: 52 | F94: 모량1리 | G94: 289 | H94: 159 | I94: 130 | J94: 151 | K94: 은림리 | L94: 199 | M94: 98 | N94: 101 | O94: 117 | P94: 태장2리 | Q94: 166 | R94: 89 | S94: 77 | T94: 92 | U94: 도중리 | V94: =SUM(W94:X94) -> 23 | W94: 17 | X94: 6 | Y94: 16 | Z94: 두전2리 | AA94: 138 | AB94: 77 | AC94: 61 | AD94: 73 | AE94: 대안1리 | AF94: 126 | AG94: 61 | AH94: 65 | AI94: 82 | AJ94: 화산1리 | AK94: 134 | AL94: 68 | AM94: 66 | AN94: 86 | AO94: 녹문리 | AP94: 98 | AQ94: 47 | AR94: 51 | AS94: 54 | AT94: 마곡리 | AU94: 164 | AV94: 91 | AW94: 73 | AX94: 98
A95: 진전리 | B95: 94 | C95: 53 | D95: 41 | E95: 63 | F95: 모량2리 | G95: 379 | H95: 189 | I95: 190 | J95: 209 | K95: 도명리 | L95: 119 | M95: 59 | N95: 60 | O95: 66 | P95: 이송천리 | Q95: 405 | R95: 222 | S95: 183 | T95: 154 | U95: 적림리 | V95: =SUM(W95:X95) -> 455 | W95: 247 | X95: 208 | Y95: 245 | Z95: 두전3리 | AA95: 84 | AB95: 45 | AC95: 39 | AD95: 53 | AE95: 대안2리 | AF95: 124 | AG95: 77 | AH95: 47 | AI95: 75 | AJ95: 화산2리 | AK95: 103 | AL95: 50 | AM95: 53 | AN95: 57 | AO95: 현리 | AP95: 97 | AQ95: 48 | AR95: 49 | AS95: 55 | AT95: 광석리 | AU95: 40 | AV95: 23 | AW95: 17 | AX95: 24
A96: 갈평리 | B96: 168 | C96: 88 | D96: 80 | E96: 89 | F96: 방내리 | G96: 389 | H96: 197 | I96: 192 | J96: 217 | K96: 문무리 | L96: 188 | M96: 80 | N96: 108 | O96: 108 | P96: 금계1리 | Q96: 183 | R96: 93 | S96: 90 | T96: 95 | U96: 성수1리 | V96: =SUM(W96:X96) -> 110 | W96: 67 | X96: 43 | Y96: 70 | Z96: 두전4리 | AA96: 148 | AB96: 71 | AC96: 77 | AD96: 71 | AE96: 대안3리 | AF96: 59 | AG96: 36 | AH96: 23 | AI96: 40 | AJ96: 내곡1리 | AK96: 71 | AL96: 32 | AM96: 39 | AN96: 45 | AO96: 부암리 | AP96: 92 | AQ96: 46 | AR96: 46 | AS96: 57 | AT96: 신제리 | AU96: 206 | AV96: 156 | AW96: 50 | AX96: 157
A97: 문충1리 | B97: 106 | C97: 56 | D97: 50 | E97: 60 | F97: 금척리 | G97: 433 | H97: 213 | I97: 220 | J97: 247 | K97: 남곡리 | L97: 265 | M97: 129 | N97: 136 | O97: 181 | P97: 금계2리 | Q97: 111 | R97: 53 | S97: 58 | T97: 57 | U97: 성수2리 | V97: =SUM(W97:X97) -> 135 | W97: 71 | X97: 64 | Y97: 65 | Z97: 갈산1리 | AA97: 85 | AB97: 47 | AC97: 38 | AD97: 54 | AE97: 효정1리 | AF97: 84 | AG97: 40 | AH97: 44 | AI97: 53 | AJ97: 내곡2리 | AK97: 93 | AL97: 46 | AM97: 47 | AN97: 45 | AO97: 과곡1리 | AP97: 128 | AQ97: 58 | AR97: 70 | AS97: 69 | AT97: 대원리 | AU97: 206 | AV97: 158 | AW97: 48 | AX97: 164
A98: 문충2리 | B98: 497 | C98: 270 | D98: 227 | E98: 295 | F98: 조전1리 | G98: 397 | H98: 207 | I98: 190 | J98: 211 | K98: 송북1리 | L98: 85 | M98: 51 | N98: 34 | O98: 50 | P98: 성곡리 | Q98: 270 | R98: 150 | S98: 120 | T98: 152 | U98: 신당1리 | V98: =SUM(W98:X98) -> 21 | W98: 18 | X98: 3 | Y98: 17 | Z98: 갈산2리 | AA98: 94 | AB98: 50 | AC98: 44 | AD98: 56 | AE98: 효정2리 | AF98: 86 | AG98: 52 | AH98: 34 | AI98: 56 | AJ98: 운평리 | AK98: 140 | AL98: 71 | AM98: 69 | AN98: 76 | AO98: 과곡2리 | AP98: 37 | AQ98: 21 | AR98: 16 | AS98: 23 | AT98: 속초리 | AU98: 102 | AV98: 50 | AW98: 52 | AX98: 61
A99: 용산1리 | B99: 646 | C99: 321 | D99: 325 | E99: 336 | F99: 조전2리 | G99: 295 | H99: 147 | I99: 148 | J99: 159 | K99: 송북2리 | L99: 40 | M99: 23 | N99: 17 | O99: 24 | P99: 이개1리 | Q99: 130 | R99: 68 | S99: 62 | T99: 71 | U99: 신당2리 | V99: =SUM(W99:X99) -> 298 | W99: 158 | X99: 140 | Y99: 116 | Z99: 갈산3리 | AA99: 82 | AB99: 40 | AC99: 42 | AD99: 44 | AE99: 당지1리 | AF99: 70 | AG99: 33 | AH99: 37 | AI99: 46 | AJ99: 승곡리 | AK99: 219 | AL99: 112 | AM99: 107 | AN99: 117 | AO99: 과곡3리 | AP99: 71 | AQ99: 39 | AR99: 32 | AS99: 39 | AT99: 안촌리 | AU99: 50 | AV99: 24 | AW99: 26 | AX99: 29
A100: 용산2리 | B100: 101 | C100: 49 | D100: 52 | E100: 50 | F100: 외동읍 | G100: 21756 | H100: 11490 | I100: 10266 | J100: 11822 | K100: 금곡1리 | L100: 98 | M100: 52 | N100: 46 | O100: 58 | P100: 이개2리 | Q100: 54 | R100: 23 | S100: 31 | T100: 31 | U100: 신당3리 | V100: =SUM(W100:X100) -> 894 | W100: 443 | X100: 451 | Y100: 349 | Z100: 파지리 | AA100: 52 | AB100: 24 | AC100: 28 | AD100: 31 | AE100: 당지2리 | AF100: 87 | AG100: 51 | AH100: 36 | AI100: 58 | AJ100: 비룡리 | AK100: 174 | AL100: 89 | AM100: 85 | AN100: 102 | AO100: 형천1리 | AP100: 66 | AQ100: 33 | AR100: 33 | AS100: 44 | AT100: 황제1리 | AU100: 131 | AV100: 67 | AW100: 64 | AX100: 77
A101: 광명리 | B101: 65 | C101: 35 | D101: 30 | E101: 38 | F101: 입실1리 | G101: 474 | H101: 230 | I101: 244 | J101: 264 | K101: 금곡2리 | L101: 77 | M101: 41 | N101: 36 | O101: 40 | P101: 교리 | Q101: 324 | R101: 175 | S101: 149 | T101: 233 | U101: 신당4리 | V101: =SUM(W101:X101) -> 1202 | W101: 598 | X101: 604 | Y101: 386 | Z101: 성곡1리 | AA101: 238 | AB101: 115 | AC101: 123 | AD101: 140 | AE101: 화산1리 | AF101: 155 | AG101: 84 | AH101: 71 | AI101: 96 | AJ101: 용포리 | AK101: 131 | AL101: 65 | AM101: 66 | AN101: 82 | AO101: 형천2리 | AP101: 45 | AQ101: 19 | AR101: 26 | AS101: 23 | AT101: 황제2리 | AU101: 2000 | AV101: 1015 | AW101: 985 | AX101: 1006
A102: 세계1리 | B102: 161 | C102: 81 | D102: 80 | E102: 71 | F102: 입실2리 | G102: 1724 | H102: 984 | I102: 740 | J102: 1009 | K102: 삼성1리 | L102: 155 | M102: 81 | N102: 74 | O102: 97 | P102: 명1리 | Q102: 469 | R102: 251 | S102: 218 | T102: 286 | U102: 신당5리 | V102: =SUM(W102:X102) -> 1054 | W102: 544 | X102: 510 | Y102: 354 | Z102: 성곡2리 | AA102: 24 | AB102: 10 | AC102: 14 | AD102: 19 | AE102: 화산2리 | AF102: 88 | AG102: 49 | AH102: 39 | AI102: 56 | AJ102: 수정리 | AK102: 111 | AL102: 57 | AM102: 54 | AN102: 70 | AO102: 형천3리 | AP102: 61 | AQ102: 30 | AR102: 31 | AS102: 31 | AT102: 당곡리 | AU102: 139 | AV102: 84 | AW102: 55 | AX102: 87
A103: 세계2리 | B103: 61 | C103: 27 | D103: 34 | E103: 36 | F103: 입실3리 | G103: 1035 | H103: 578 | I103: 457 | J103: 645 | K103: 삼성2리 | L103: 91 | M103: 44 | N103: 47 | O103: 49 | P103: 명2리 | Q103: 283 | R103: 147 | S103: 136 | T103: 211 | U103: 신당6리 | V103: =SUM(W103:X103) -> 952 | W103: 478 | X103: 474 | Y103: 358 | Z103: 화기1리 | AA103: 97 | AB103: 51 | AC103: 46 | AD103: 59 | AE103: 가상리 | AF103: 166 | AG103: 84 | AH103: 82 | AI103: 112 | AJ103: 신오리 | AK103: 192 | AL103: 95 | AM103: 97 | AN103: 114 | AO103: 위만1리 | AP103: 157 | AQ103: 87 | AR103: 70 | AS103: 90 | AT103: 가야리 | AU103: 174 | AV103: 98 | AW103: 76 | AX103: 97
... A106: 세계5리 | B106: 1411 | C106: 672 | D106: 739 | E106: 753 | F106: 구어1리 | G106: 293 | H106: 168 | I106: 125 | J106: 192 | K106: 덕남1리 | L106: 145 | M106: 76 | N106: 69 | O106: 88 | P106: 풍천면 | Q106: 7155 | R106: 3653 | S106: 3502 | T106: 4207 | U106: 신당9리 | V106: =SUM(W106:X106) -> 1649 | W106: 847 | X106: 802 | Y106: 605 | Z106: 소룡2리 | AA106: 81 | AB106: 35 | AC106: 46 | AD106: 57 | AE106: 삼부리 | AF106: 140 | AG106: 72 | AH106: 68 | AI106: 93 | AJ106: 청리면 | AK106: 2468 | AL106: 1194 | AM106: 1274 | AN106: 1394 | AO106: 우본2리 | AP106: 49 | AQ106: 23 | AR106: 26 | AS106: 27 | AT106: 부적2리 | AU106: 406 | AV106: 222 | AW106: 184 | AX106: 197
A107: 용덕1리 | B107: 1210 | C107: 608 | D107: 602 | E107: 635 | F107: 구어2리 | G107: 795 | H107: 426 | I107: 369 | J107: 427 | K107: 덕남2리 | L107: 149 | M107: 73 | N107: 76 | O107: 88 | P107: 갈전1리 | Q107: 186 | R107: 103 | S107: 83 | T107: 116 | U107: 신당10리 | V107: =SUM(W107:X107) -> 1082 | W107: 544 | X107: 538 | Y107: 371 | Z107: 소룡3리 | AA107: 72 | AB107: 42 | AC107: 30 | AD107: 37 | AE107: 석촌리 | AF107: 147 | AG107: 70 | AH107: 77 | AI107: 91 | AJ107: 원장1리 | AK107: 324 | AL107: 155 | AM107: 169 | AN107: 182 | AO107: 연소1리 | AP107: 64 | AQ107: 30 | AR107: 34 | AS107: 36 | AT107: 부적3리 | AU107: 379 | AV107: 185 | AW107: 194 | AX107: 192
A108: 용덕2리 | B108: 244 | C108: 131 | D108: 113 | E108: 122 | F108: 모화1리 | G108: 429 | H108: 226 | I108: 203 | J108: 263 | K108: 태촌1리 | L108: 108 | M108: 59 | N108: 49 | O108: 60 | P108: 갈전2리 | Q108: 348 | R108: 175 | S108: 173 | T108: 215 | U108: 신당11리 | V108: =SUM(W108:X108) -> 1100 | W108: 569 | X108: 531 | Y108: 354 | Z108: 호문1리 | AA108: 52 | AB108: 26 | AC108: 26 | AD108: 31 | AE108: 당곡리 | AF108: 111 | AG108: 61 | AH108: 50 | AI108: 73 | AJ108: 원장2리 | AK108: 78 | AL108: 40 | AM108: 38 | AN108: 48 | AO108: 연소2리 | AP108: 116 | AQ108: 64 | AR108: 52 | AS108: 57 | AT108: 부적4리 | AU108: 1150 | AV108: 585 | AW108: 565 | AX108: 748
A109: 용덕3리 | B109: 1422 | C109: 709 | D109: 713 | E109: 672 | F109: 모화2리 | G109: 353 | H109: 186 | I109: 167 | J109: 203 | K109: 태촌2리 | L109: 82 | M109: 38 | N109: 44 | O109: 52 | P109: 갈전3리 | Q109: 347 | R109: 172 | S109: 175 | T109: 225 | U109: 신당12리 | V109: =SUM(W109:X109) -> 1099 | W109: 553 | X109: 546 | Y109: 475 | Z109: 호문2리 | AA109: 20 | AB109: 8 | AC109: 12 | AD109: 13 | AE109: 유성1리 | AF109: 97 | AG109: 56 | AH109: 41 | AI109: 66 | AJ109: 월로리 | AK109: 232 | AL109: 107 | AM109: 125 | AN109: 127 | AO109: 불암리 | AP109: 271 | AQ109: 127 | AR109: 144 | AS109: 167 | AT109: 부적5리 | AU109: 1823 | AV109: 1079 | AW109: 744 | AX109: 1416
A110: 용덕4리 | B110: 1469 | C110: 733 | D110: 736 | E110: 748 | F110: 모화3리 | G110: 635 | H110: 346 | I110: 289 | J110: 370 | K110: 태촌3리 | L110: 164 | M110: 80 | N110: 84 | O110: 95 | P110: 갈전4리 | Q110: 654 | R110: 327 | S110: 327 | T110: 348 | U110: 신당13리 | V110: =SUM(W110:X110) -> 1062 | W110: 537 | X110: 525 | Y110: 501 | Z110: 호문3리 | AA110: 118 | AB110: 55 | AC110: 63 | AD110: 63 | AE110: 유성2리 | AF110: 133 | AG110: 69 | AH110: 64 | AI110: 92 | AJ110: 청하1리 | AK110: 172 | AL110: 82 | AM110: 90 | AN110: 92 | AO110: 존도1리 | AP110: 108 | AQ110: 55 | AR110: 53 | AS110: 65 | AT110: 부적6리 | AU110: 1176 | AV110: 557 | AW110: 619 | AX110: 537
A111: 용덕5리 | B111: 1151 | C111: 595 | D111: 556 | E111: 584 | F111: 모화4리 | G111: 661 | H111: 328 | I111: 333 | J111: 336 | K111: 성촌리 | L111: 179 | M111: 88 | N111: 91 | O111: 101 | P111: 갈전5리 | Q111: 617 | R111: 296 | S111: 321 | T111: 295 | U111: 신당14리 | V111: =SUM(W111:X111) -> 1058 | W111: 552 | X111: 506 | Y111: 444 | Z111: 안정면 | AA111: 2837 | AB111: 1432 | AC111: 1405 | AD111: 1595 | AE111: 유성3리 | AF111: 147 | AG111: 72 | AH111: 75 | AI111: 85 | AJ111: 청하2리 | AK111: 111 | AL111: 50 | AM111: 61 | AN111: 62 | AO111: 존도2리 | AP111: 155 | AQ111: 81 | AR111: 74 | AS111: 87 | AT111: 신대1리 | AU111: 2238 | AV111: 1452 | AW111: 786 | AX111: 1766
A112: 용덕6리 | B112: 1451 | C112: 719 | D112: 732 | E112: 725 | F112: 모화5리 | G112: 708 | H112: 378 | I112: 330 | J112: 353 | K112: 대양1리 | L112: 93 | M112: 45 | N112: 48 | O112: 53 | P112: 갈전6리 | Q112: 665 | R112: 337 | S112: 328 | T112: 294 | U112: 신당15리 | V112: =SUM(W112:X112) -> 822 | W112: 435 | X112: 387 | Y112: 408 | Z112: 신전1리 | AA112: 118 | AB112: 57 | AC112: 61 | AD112: 61 | AE112: 부계리 | AF112: 102 | AG112: 59 | AH112: 43 | AI112: 67 | AJ112: 청하3리 | AK112: 78 | AL112: 38 | AM112: 40 | AN112: 45 | AO112: 봉정1리 | AP112: 66 | AQ112: 36 | AR112: 30 | AS112: 44 | AT112: 신대2리 | AU112: 127 | AV112: 60 | AW112: 67 | AX112: 84
A113: 구정1리 | B113: 543 | C113: 288 | D113: 255 | E113: 316 | F113: 모화6리 | G113: 3502 | H113: 1820 | I113: 1682 | J113: 1630 | K113: 대양2리 | L113: 88 | M113: 42 | N113: 46 | O113: 50 | P113: 갈전7리 | Q113: 537 | R113: 278 | S113: 259 | T113: 261 | U113: 봉산1리 | V113: =SUM(W113:X113) -> 220 | W113: 128 | X113: 92 | Y113: 139 | Z113: 신전2리 | AA113: 104 | AB113: 54 | AC113: 50 | AD113: 55 | AE113: 용평리 | AF113: 196 | AG113: 94 | AH113: 102 | AI113: 114 | AJ113: 청상리 | AK113: 171 | AL113: 80 | AM113: 91 | AN113: 106 | AO113: 봉정2리 | AP113: 79 | AQ113: 38 | AR113: 41 | AS113: 50 | AT113: 신대3리 | AU113: 2093 | AV113: 1037 | AW113: 1056 | AX113: 843
A114: 구정2리 | B114: 1449 | C114: 729 | D114: 720 | E114: 763 | F114: 모화7리 | G114: 2711 | H114: 1425 | I114: 1286 | J114: 1320 | K114: 어모면 | L114: 4032 | M114: 2067 | N114: 1965 | O114: 2164 | P114: 갈전8리 | Q114: 470 | R114: 242 | S114: 228 | T114: 431 | U114: 봉산2리 | V114: =SUM(W114:X114) -> 628 | W114: 503 | X114: 125 | Y114: 588 | Z114: 신전3리 | AA114: 148 | AB114: 75 | AC114: 73 | AD114: 72 | AE114: 화북면 | AF114: 2219 | AG114: 1099 | AH114: 1120 | AI114: 1381 | AJ114: 마공리 | AK114: 247 | AL114: 127 | AM114: 120 | AN114: 140 | AO114: 진정1리 | AP114: 98 | AQ114: 48 | AR114: 50 | AS114: 56 | AT114: 신대4리 | AU114: 2401 | AV114: 1202 | AW114: 1199 | AX114: 798
A115: 구정3리 | B115: 2611 | C115: 1306 | D115: 1305 | E115: 1059 | F115: 문산1리 | G115: 106 | H115: 50 | I115: 56 | J115: 67 | K115: 중왕1리 | L115: 194 | M115: 95 | N115: 99 | O115: 104 | P115: 갈전9리 | Q115: 309 | R115: 181 | S115: 128 | T115: 290 | U115: 임천리 | V115: =SUM(W115:X115) -> 394 | W115: 212 | X115: 182 | Y115: 214 | Z115: 생현1리 | AA115: 108 | AB115: 57 | AC115: 51 | AD115: 52 | AE115: 자천1리 | AF115: 163 | AG115: 77 | AH115: 86 | AI115: 97 | AJ115: 가천1리 | AK115: 148 | AL115: 75 | AM115: 73 | AN115: 75 | AO115: 진정2리 | AP115: 124 | AQ115: 70 | AR115: 54 | AS115: 90 | AT115: 신대5리 | AU115: 1713 | AV115: 838 | AW115: 875 | AX115: 667
A116: 구정4리 | B116: 1168 | C116: 576 | D116: 592 | E116: 462 | F116: 문산2리 | G116: 342 | H116: 229 | I116: 113 | J116: 247 | K116: 중왕2리 | L116: 133 | M116: 66 | N116: 67 | O116: 81 | P116: 도양1리 | Q116: 190 | R116: 96 | S116: 94 | T116: 111 | U116: 인덕1리 | V116: =SUM(W116:X116) -> 356 | W116: 203 | X116: 153 | Y116: 236 | Z116: 생현2리 | AA116: 95 | AB116: 51 | AC116: 44 | AD116: 51 | AE116: 자천2리 | AF116: 262 | AG116: 130 | AH116: 132 | AI116: 164 | AJ116: 가천2리 | AK116: 95 | AL116: 43 | AM116: 52 | AN116: 50 | AO116: 반곡1리 | AP116: 207 | AQ116: 111 | AR116: 96 | AS116: 109 | AT116: 신대6리 | AU116: 2036 | AV116: 1012 | AW116: 1024 | AX116: 709
A117: 대송면 | B117: 3190 | C117: 1657 | D117: 1533 | E117: 1877 | F117: 석계1리 | G117: 480 | H117: 262 | I117: 218 | J117: 286 | K117: 중왕3리 | L117: 834 | M117: 425 | N117: 409 | O117: 357 | P117: 도양2리 | Q117: 109 | R117: 58 | S117: 51 | T117: 60 | U117: 인덕2리 | V117: =SUM(W117:X117) -> 64 | W117: 38 | X117: 26 | Y117: 34 | Z117: 봉암리 | AA117: 179 | AB117: 81 | AC117: 98 | AD117: 97 | AE117: 자천3리 | AF117: 162 | AG117: 75 | AH117: 87 | AI117: 105 | AJ117: 하초리 | AK117: 76 | AL117: 40 | AM117: 36 | AN117: 46 | AO117: 반곡2리 | AP117: 199 | AQ117: 105 | AR117: 94 | AS117: 108 | AT117: 압량리 | AU117: 108 | AV117: 65 | AW117: 43 | AX117: 65
A118: 남성1리 | B118: 127 | C118: 57 | D118: 70 | E118: 67 | F118: 석계2리 | G118: 194 | H118: 94 | I118: 100 | J118: 125 | K118: 옥율1리 | L118: 203 | M118: 104 | N118: 99 | O118: 105 | P118: 구담1리 | Q118: 151 | R118: 73 | S118: 78 | T118: 96 | U118: 인덕3리 | V118: =SUM(W118:X118) -> 1278 | W118: 624 | X118: 654 | Y118: 386 | Z118: 용산1리 | AA118: 125 | AB118: 60 | AC118: 65 | AD118: 80 | AE118: 옥계리 | AF118: 128 | AG118: 62 | AH118: 66 | AI118: 79 | AJ118: 수상리 | AK118: 144 | AL118: 68 | AM118: 76 | AN118: 81 | AO118: 평지1리 | AP118: 86 | AQ118: 45 | AR118: 41 | AS118: 50 | AT118: 용암리 | AU118: 196 | AV118: 102 | AW118: 94 | AX118: 108
... A131: 제내2리 | B131: 656 | C131: 345 | D131: 311 | E131: 378 | F131: 죽동리 | G131: 249 | H131: 132 | I131: 117 | J131: 160 | K131: 구례1리 | L131: 69 | M131: 35 | N131: 34 | O131: 40 | P131: 인금2리 | Q131: 39 | R131: 16 | S131: 23 | T131: 24 | U131: 송산리 | V131: =SUM(W131:X131) -> 76 | W131: 44 | X131: 32 | Y131: 51 | Z131: 오계1리 | AA131: 191 | AB131: 100 | AC131: 91 | AD131: 105 | AE131: 오산2리 | AF131: 78 | AG131: 39 | AH131: 39 | AI131: 49 | AJ131: 장동2리 | AK131: 65 | AL131: 32 | AM131: 33 | AN131: 42 | AO131: 선암1리 | AP131: 73 | AQ131: 35 | AR131: 38 | AS131: 52 | AT131: 백안리 | AU131: 57 | AV131: 31 | AW131: 26 | AX131: 33
A132: 제내3리 | B132: 388 | C132: 196 | D132: 192 | E132: 236 | F132: 개곡1리 | G132: 503 | H132: 267 | I132: 236 | J132: 263 | K132: 구례2리 | L132: 104 | M132: 46 | N132: 58 | O132: 58 | P132: 병산리 | Q132: 72 | R132: 40 | S132: 32 | T132: 41 | U132: 무을면 | V132: =SUM(W132:X132) -> 1794 | W132: =SUM(W133:W150) -> 904 | X132: =SUM(X133:X150) -> 890 | Y132: =SUM(Y133:Y150) -> 1053 | Z132: 오계2리 | AA132: 114 | AB132: 63 | AC132: 51 | AD132: 71 | AE132: 오동리 | AF132: 167 | AG132: 88 | AH132: 79 | AI132: 100 | AJ132: 장동3리 | AK132: 46 | AL132: 24 | AM132: 22 | AN132: 25 | AO132: 선암2리 | AP132: 59 | AQ132: 30 | AR132: 29 | AS132: 37 | AT132: 강서리 | AU132: 119 | AV132: 69 | AW132: 50 | AX132: 60
A133: 제내4리 | B133: 380 | C133: 196 | D133: 184 | E133: 234 | F133: 개곡2리 | G133: 217 | H133: 111 | I133: 106 | J133: 122 | K133: 구례3리 | L133: 66 | M133: 36 | N133: 30 | O133: 47 | P133: 하회1리 | Q133: 208 | R133: 106 | S133: 102 | T133: 117 | U133: 송삼1리 | V133: =SUM(W133:X133) -> 180 | W133: 85 | X133: 95 | Y133: 103 | Z133: 동촌1리 | AA133: 154 | AB133: 78 | AC133: 76 | AD133: 86 | AE133: 화남면 | AF133: 3197 | AG133: 1709 | AH133: 1488 | AI133: 1988 | AJ133: 거창1리 | AK133: 79 | AL133: 37 | AM133: 42 | AN133: 53 | AO133: 지천리 | AP133: 133 | AQ133: 65 | AR133: 68 | AS133: 77 | AT133: 당리리 | AU133: 302 | AV133: 164 | AW133: 138 | AX133: 154
A134: 옥명리 | B134: 1 | C134: 1 | D134: 0 | E134: 1 | F134: 연안1리 | G134: 193 | H134: 102 | I134: 91 | J134: 123 | K134: 옥계1리 | L134: 31 | M134: 18 | N134: 13 | O134: 18 | P134: 하회2리 | Q134: 137 | R134: 72 | S134: 65 | T134: 80 | U134: 송삼2리 | V134: =SUM(W134:X134) -> 65 | W134: 29 | X134: 36 | Y134: 39 | Z134: 동촌2리 | AA134: 97 | AB134: 49 | AC134: 48 | AD134: 59 | AE134: 금호1리 | AF134: 166 | AG134: 90 | AH134: 76 | AI134: 98 | AJ134: 거창2리 | AK134: 92 | AL134: 47 | AM134: 45 | AN134: 53 | AO134: 가도리 | AP134: 154 | AQ134: 75 | AR134: 79 | AS134: 88 | AT134: 와촌면 | AU134: 5340 | AV134: 2878 | AW134: 2462 | AX134: 2931
A135: 동해면 | B135: 9446 | C135: 4772 | D135: 4674 | E135: 4820 | F135: 연안2리 | G135: 379 | H135: 208 | I135: 171 | J135: 240 | K135: 옥계2리 | L135: 110 | M135: 62 | N135: 48 | O135: 66 | P135: 가곡1리 | Q135: 193 | R135: 105 | S135: 88 | T135: 103 | U135: 무수1리 | V135: =SUM(W135:X135) -> 105 | W135: 56 | X135: 49 | Y135: 63 | Z135: 봉현면 | AA135: 2551 | AB135: 1292 | AC135: 1259 | AD135: 1403 | AE135: 금호2리 | AF135: 147 | AG135: 80 | AH135: 67 | AI135: 91 | AJ135: 영오리 | AK135: 116 | AL135: 65 | AM135: 51 | AN135: 73 | AO135: 구산리 | AP135: 152 | AQ135: 82 | AR135: 70 | AS135: 82 | AT135: 소월1리 | AU135: 216 | AV135: 126 | AW135: 90 | AX135: 124
A136: 도구1리 | B136: 262 | C136: 131 | D136: 131 | E136: 142 | F136: 문무대왕면 | G136: 4126 | H136: 2156 | I136: 1970 | J136: 2339 | K136: 능치1리 | L136: 53 | M136: 29 | N136: 24 | O136: 28 | P136: 가곡2리 | Q136: 109 | R136: 53 | S136: 56 | T136: 57 | U136: 무수2리 | V136: =SUM(W136:X136) -> 65 | W136: 30 | X136: 35 | Y136: 34 | Z136: 두산1리 | AA136: 89 | AB136: 46 | AC136: 43 | AD136: 55 | AE136: 죽곡1리 | AF136: 146 | AG136: 74 | AH136: 72 | AI136: 90 | AJ136: 이화1리 | AK136: 217 | AL136: 111 | AM136: 106 | AN136: 131 | AO136: 우로1리 | AP136: 103 | AQ136: 50 | AR136: 53 | AS136: 62 | AT136: 소월2리 | AU136: 181 | AV136: 85 | AW136: 96 | AX136: 102
A137: 도구2리 | B137: 1399 | C137: 696 | D137: 703 | E137: 713 | F137: 어일1리 | G137: 417 | H137: 214 | I137: 203 | J137: 224 | K137: 능치2리 | L137: 92 | M137: 37 | N137: 55 | O137: 61 | P137: 일직면 | Q137: 2,472 | R137: 1198 | S137: 1274 | T137: 1447 | U137: 무수3리 | V137: =SUM(W137:X137) -> 85 | W137: 47 | X137: 38 | Y137: 54 | Z137: 두산2리 | AA137: 142 | AB137: 73 | AC137: 69 | AD137: 80 | AE137: 죽곡2리 | AF137: 87 | AG137: 55 | AH137: 32 | AI137: 56 | AJ137: 이화2리 | AK137: 137 | AL137: 66 | AM137: 71 | AN137: 72 | AO137: 우로2리 | AP137: 86 | AQ137: 46 | AR137: 40 | AS137: 43 | AT137: 소월3리 | AU137: 274 | AV137: 183 | AW137: 91 | AX137: 94
A138: 도구3리 | B138: 871 | C138: 441 | D138: 430 | E138: 409 | F138: 어일2리 | G138: 1031 | H138: 563 | I138: 468 | J138: 544 | K138: 능치3리 | L138: 161 | M138: 70 | N138: 91 | O138: 92 | P138: 귀미1리 | Q138: 148 | R138: 73 | S138: 75 | T138: 85 | U138: 오가1리 | V138: =SUM(W138:X138) -> 68 | W138: 35 | X138: 33 | Y138: 40 | Z138: 두산3리 | AA138: 173 | AB138: 95 | AC138: 78 | AD138: 92 | AE138: 신호1리 | AF138: 126 | AG138: 65 | AH138: 61 | AI138: 76 | AJ138: 산현1리 | AK138: 401 | AL138: 205 | AM138: 196 | AN138: 111 | AO138: 막곡1리 | AP138: 133 | AQ138: 76 | AR138: 57 | AS138: 85 | AT138: 덕촌1리 | AU138: 205 | AV138: 115 | AW138: 90 | AX138: 112
A139: 약전1리 | B139: 311 | C139: 148 | D139: 163 | E139: 169 | F139: 와읍리 | G139: 198 | H139: 104 | I139: 94 | J139: 111 | K139: 능치4리 | L139: 290 | M139: 161 | N139: 129 | O139: 146 | P139: 귀미2리 | Q139: 92 | R139: 41 | S139: 51 | T139: 57 | U139: 오가2리 | V139: =SUM(W139:X139) -> 73 | W139: 36 | X139: 37 | Y139: 41 | Z139: 오현1리 | AA139: 415 | AB139: 201 | AC139: 214 | AD139: 228 | AE139: 신호2리 | AF139: 99 | AG139: 45 | AH139: 54 | AI139: 63 | AJ139: 산현2리 | AK139: 273 | AL139: 126 | AM139: 147 | AN139: 159 | AO139: 막곡2리 | AP139: 118 | AQ139: 55 | AR139: 63 | AS139: 65 | AT139: 덕촌2리 | AU139: 640 | AV139: 353 | AW139: 287 | AX139: 372
A140: 약전2리 | B140: 1173 | C140: 569 | D140: 604 | E140: 636 | F140: 용동1리 | G140: 202 | H140: 98 | I140: 104 | J140: 111 | K140: 도암1리 | L140: 109 | M140: 46 | N140: 63 | O140: 60 | P140: 구천리 | Q140: 81 | R140: 42 | S140: 39 | T140: 55 | U140: 오가3리 | V140: =SUM(W140:X140) -> 58 | W140: 31 | X140: 27 | Y140: 27 | Z140: 오현2리 | AA140: 138 | AB140: 76 | AC140: 62 | AD140: 71 | AE140: 사천1리 | AF140: 272 | AG140: 137 | AH140: 135 | AI140: 162 | AJ140: 산현3리 | AK140: 71 | AL140: 38 | AM140: 33 | AN140: 45 | AO140: 봉서1리 | AP140: 37 | AQ140: 19 | AR140: 18 | AS140: 26 | AT140: 시천1리 | AU140: 236 | AV140: 126 | AW140: 110 | AX140: 134
A141: 약전3리 | B141: 1004 | C141: 491 | D141: 513 | E141: 534 | F141: 용동2리 | G141: 193 | H141: 99 | I141: 94 | J141: 117 | K141: 도암2리 | L141: 124 | M141: 64 | N141: 60 | O141: 56 | P141: 망호1리 | Q141: 93 | R141: 50 | S141: 43 | T141: 49 | U141: 상송리 | V141: =SUM(W141:X141) -> 124 | W141: 63 | X141: 61 | Y141: 81 | Z141: 오현3리 | AA141: 92 | AB141: 41 | AC141: 51 | AD141: 47 | AE141: 사천2리 | AF141: 65 | AG141: 40 | AH141: 25 | AI141: 42 | AJ141: 산현4리 | AK141: 56 | AL141: 24 | AM141: 32 | AN141: 36 | AO141: 봉서2리 | AP141: 16 | AQ141: 10 | AR141: 6 | AS141: 13 | AT141: 시천2리 | AU141: 79 | AV141: 42 | AW141: 37 | AX141: 44
A142: 신정1리 | B142: 91 | C142: 44 | D142: 47 | E142: 48 | F142: 권이리 | G142: 76 | H142: 37 | I142: 39 | J142: 51 | K142: 도암3리 | L142: 88 | M142: 51 | N142: 37 | O142: 47 | P142: 망호2리 | Q142: 89 | R142: 42 | S142: 47 | T142: 45 | U142: 안곡1리 | V142: =SUM(W142:X142) -> 122 | W142: 55 | X142: 67 | Y142: 71 | Z142: 오현4리 | AA142: 50 | AB142: 27 | AC142: 23 | AD142: 29 | AE142: 대천1리 | AF142: 122 | AG142: 62 | AH142: 60 | AI142: 74 | AJ142: 평천1리 | AK142: 168 | AL142: 86 | AM142: 82 | AN142: 92 | AO142: 산북면 | AP142: 2628 | AQ142: 1319 | AR142: 1309 | AS142: 1598 | AT142: 용천1리 | AU142: 287 | AV142: 153 | AW142: 134 | AX142: 167
A143: 신정2리 | B143: 2118 | C143: 1053 | D143: 1065 | E143: 830 | F143: 호암리 | G143: 103 | H143: 59 | I143: 44 | J143: 61 | K143: 은기1리 | L143: 54 | M143: 28 | N143: 26 | O143: 24 | P143: 망호3리 | Q143: 138 | R143: 69 | S143: 69 | T143: 75 | U143: 안곡2리 | V143: =SUM(W143:X143) -> 96 | W143: 52 | X143: 44 | Y143: 60 | Z143: 대촌1리 | AA143: 448 | AB143: 226 | AC143: 222 | AD143: 228 | AE143: 대천2리 | AF143: 213 | AG143: 113 | AH143: 100 | AI143: 128 | AJ143: 평천2리 | AK143: 79 | AL143: 37 | AM143: 42 | AN143: 40 | AO143: 서중리 | AP143: 135 | AQ143: 71 | AR143: 64 | AS143: 79 | AT143: 용천2리 | AU143: 49 | AV143: 25 | AW143: 24 | AX143: 27
A144: 금광1리 | B144: 145 | C144: 78 | D144: 67 | E144: 72 | F144: 안동1리 | G144: 137 | H144: 77 | I144: 60 | J144: 73 | K144: 은기2리 | L144: 63 | M144: 27 | N144: 36 | O144: 41 | P144: 원리 | Q144: 162 | R144: 77 | S144: 85 | T144: 100 | U144: 무등1리 | V144: =SUM(W144:X144) -> 94 | W144: 52 | X144: 42 | Y144: 54 | Z144: 대촌2리 | AA144: 83 | AB144: 43 | AC144: 40 | AD144: 47 | AE144: 선천1리 | AF144: 103 | AG144: 48 | AH144: 55 | AI144: 58 | AJ144: 무곡리 | AK144: 62 | AL144: 35 | AM144: 27 | AN144: 36 | AO144: 대상1리 | AP144: 197 | AQ144: 92 | AR144: 105 | AS144: 117 | AT144: 계당1리 | AU144: 257 | AV144: 129 | AW144: 128 | AX144: 146
... A150: 입암2리 | B150: 62 | C150: 37 | D150: 25 | E150: 37 | F150: 송전1리 | G150: 73 | H150: 31 | I150: 42 | J150: 47 | K150: 인의1리 | L150: 163 | M150: 85 | N150: 78 | O150: 69 | P150: 용각리 | Q150: 128 | R150: 57 | S150: 71 | T150: 78 | U150: 무이리 | V150: =SUM(W150:X150) -> 168 | W150: 87 | X150: 81 | Y150: 87 | Z150: 노좌3리 | AA150: 46 | AB150: 24 | AC150: 22 | AD150: 27 | AE150: 귀호1리 | AF150: 123 | AG150: 67 | AH150: 56 | AI150: 74 | AJ150: 인창2리 | AK150: 63 | AL150: 30 | AM150: 33 | AN150: 41 | AO150: 우곡2리 | AP150: 119 | AQ150: 53 | AR150: 66 | AS150: 71 | AT150: 동강1리 | AU150: 143 | AV150: 77 | AW150: 66 | AX150: 83
A151: 마산리 | B151: 81 | C151: 38 | D151: 43 | E151: 49 | F151: 송전2리 | G151: 128 | H151: 58 | I151: 70 | J151: 84 | K151: 인의2리 | L151: 178 | M151: 99 | N151: 79 | O151: 93 | P151: 국곡리 | Q151: 154 | R151: 78 | S151: 76 | T151: 91 | U151: 옥성면 | V151: =SUM(W151:X151) -> 1642 | W151: =SUM(W152:W167) -> 847 | X151: =SUM(X152:X167) -> 795 | Y151: =SUM(Y152:Y167) -> 920 | Z151: 하촌1리 | AA151: 100 | AB151: 55 | AC151: 45 | AD151: 55 | AE151: 귀호2리 | AF151: 84 | AG151: 43 | AH151: 41 | AI151: 50 | AJ151: 용신1리 | AK151: 83 | AL151: 34 | AM151: 49 | AN151: 53 | AO151: 석봉리 | AP151: 172 | AQ151: 89 | AR151: 83 | AS151: 102 | AT151: 동강2리 | AU151: 77 | AV151: 42 | AW151: 35 | AX151: 41
...

Sheet 1-3. 리별 인구 및 세대현황(군)
A2: 1-3. 리별 인구 및 세대현황(군)_외국인 제외 (2024년 1분기)
A3: (단위 : 세대, 명) | BF3: (단위:명,세대)
A4: 의성군 | F4: 청송군 | K4: 영양군 | P4: 영덕군 | U4: 청도군 | Z4: 고령군 | AE4: 성주군 | AJ4: 칠곡군 | AO4: 예천군 | AT4: 봉화군 | AY4: 울진군 | BD4: 울릉군
A5: 행정구역 | B5: 계 | C5: 남 | D5: 여 | E5: 세대수 | F5: 행정구역 | G5: 계 | H5: 남 | I5: 여 | J5: 세대수 | K5: 행정구역 | L5: 계 | M5: 남 | N5: 여 | O5: 세대수 | P5: 행정구역 | Q5: 계 | R5: 남 | S5: 여 | T5: 세대수 | U5: 행정구역 | V5: 계 | W5: 남 | X5: 여 | Y5: 세대수 | Z5: 행정구역 | AA5: 계 | AB5: 남 | AC5: 여 | AD5: 세대수 | AE5: 행정구역 | AF5: 계 | AG5: 남 | AH5: 여 | AI5: 세대수 | AJ5: 행정구역 | AK5: 계 | AL5: 남 | AM5: 여 | AN5: 세대수 | AO5: 행정구역 | AP5: 계 | AQ5: 남 | AR5: 여 | AS5: 세대수 | AT5: 행정구역 | AU5: 계 | AV5: 남 | AW5: 여 | AX5: 세대수 | AY5: 행정구역 | AZ5: 계 | BA5: 남 | BB5: 여 | BC5: 세대수 | BD5: 행정구역 | BE5: 계 | BF5: 남 | BG5: 여 | BH5: 세대수
A6: 의성읍 | B6: 12565 | C6: 6222 | D6: 6343 | E6: 6746 | F6: 청송읍 | G6: 4948 | H6: 2453 | I6: 2495 | J6: 2661 | K6: 영양읍 | L6: 6777 | M6: 3337 | N6: 3440 | O6: 3707 | P6: 영덕읍 | Q6: 10336 | R6: 5005 | S6: 5331 | T6: 5440 | U6: 화양읍 | V6: 8174 | W6: 4022 | X6: 4152 | Y6: 4171 | Z6: 대가야읍 | AA6: 9578 | AB6: 4849 | AC6: 4729 | AD6: 5147 | AE6: 성주읍 | AF6: 13306 | AG6: 6745 | AH6: 6561 | AI6: 6824 | AJ6: 왜관읍 | AK6: 31165 | AL6: 15670 | AM6: 15495 | AN6: 14892 | AO6: 예천읍 | AP6: 14004 | AQ6: 6889 | AR6: 7115 | AS6: 7325 | AT6: 봉화읍 | AU6: 9275 | AV6: 4584 | AW6: 4691 | AX6: 4797 | AY6: 울진읍 | AZ6: 13575 | BA6: 6867 | BB6: 6708 | BC6: 6277 | BD6: 울릉읍 | BE6: 6397 | BF6: 3575 | BG6: 2822 | BH6: 3967
A7: 후죽1리 | B7: 508 | C7: 239 | D7: 269 | E7: 283 | F7: 월막1리 | G7: 743 | H7: 362 | I7: 381 | J7: 387 | K7: 동부1리 | L7: 1218 | M7: 560 | N7: 658 | O7: 679 | P7: 구미리 | Q7: 111 | R7: 52 | S7: 59 | T7: 66 | U7: 동상리 | V7: 145 | W7: 72 | X7: 73 | Y7: 84 | Z7: 쾌빈1리 | AA7: 275 | AB7: 144 | AC7: 131 | AD7: 163 | AE7: 경산1리 | AF7: 563 | AG7: 279 | AH7: 284 | AI7: 301 | AJ7: 왜관1리 | AK7: 1001 | AL7: 498 | AM7: 503 | AN7: 602 | AO7: 노하리 | AP7: 320 | AQ7: 155 | AR7: 165 | AS7: 179 | AT7: 내성1리 | AU7: 888 | AV7: 419 | AW7: 469 | AX7: 450 | AY7: 읍내1리 | AZ7: 822 | BA7: 402 | BB7: 420 | BC7: 390 | BD7: 도동1리 | BE7: 1097 | BF7: 583 | BG7: 514 | BH7: 670
A8: 후죽2리 | B8: 437 | C8: 210 | D8: 227 | E8: 248 | F8: 월막2리 | G8: 1023 | H8: 490 | I8: 533 | J8: 531 | K8: 동부2리 | L8: 413 | M8: 202 | N8: 211 | O8: 233 | P8: 화개1리 | Q8: 632 | R8: 333 | S8: 299 | T8: 335 | U8: 서상1리 | V8: 349 | W8: 160 | X8: 189 | Y8: 195 | Z8: 쾌빈2리 | AA8: 1858 | AB8: 921 | AC8: 937 | AD8: 776 | AE8: 경산2리 | AF8: 128 | AG8: 65 | AH8: 63 | AI8: 70 | AJ8: 왜관2리 | AK8: 292 | AL8: 158 | AM8: 134 | AN8: 145 | AO8: 노상리 | AP8: 431 | AQ8: 204 | AR8: 227 | AS8: 237 | AT8: 내성2리 | AU8: 379 | AV8: 194 | AW8: 185 | AX8: 217 | AY8: 읍내2리 | AZ8: 1418 | BA8: 718 | BB8: 700 | BC8: 626 | BD8: 도동2리 | BE8: 1508 | BF8: 826 | BG8: 682 | BH8: 892
A9: 후죽3리 | B9: 1168 | C9: 581 | D9: 587 | E9: 577 | F9: 덕리 | G9: 673 | H9: 358 | I9: 315 | J9: 393 | K9: 서부1리 | L9: 869 | M9: 422 | N9: 447 | O9: 473 | P9: 화개2리 | Q9: 391 | R9: 195 | S9: 196 | T9: 177 | U9: 서상2리 | V9: 78 | W9: 38 | X9: 40 | Y9: 39 | Z9: 쾌빈3리 | AA9: 230 | AB9: 130 | AC9: 100 | AD9: 126 | AE9: 경산3리 | AF9: 179 | AG9: 85 | AH9: 94 | AI9: 92 | AJ9: 왜관3리 | AK9: 792 | AL9: 393 | AM9: 399 | AN9: 452 | AO9: 백전1리 | AP9: 562 | AQ9: 256 | AR9: 306 | AS9: 329 | AT9: 내성3리 | AU9: 668 | AV9: 350 | AW9: 318 | AX9: 324 | AY9: 읍내3리 | AZ9: 3579 | BA9: 1798 | BB9: 1781 | BC9: 1647 | BD9: 도동3리 | BE9: 1214 | BF9: 644 | BG9: 570 | BH9: 765
A10: 후죽4리 | B10: 863 | C10: 408 | D10: 455 | E10: 466 | F10: 금곡1리 | G10: 914 | H10: 467 | I10: 447 | J10: 420 | K10: 서부2리 | L10: 1580 | M10: 808 | N10: 772 | O10: 789 | P10: 남석1리 | Q10: 426 | R10: 202 | S10: 224 | T10: 242 | U10: 신봉리 | V10: 169 | W10: 80 | X10: 89 | Y10: 108 | Z10: 쾌빈4리 | AA10: 689 | AB10: 326 | AC10: 363 | AD10: 317 | AE10: 경산4리 | AF10: 816 | AG10: 402 | AH10: 414 | AI10: 360 | AJ10: 왜관4리 | AK10: 363 | AL10: 183 | AM10: 180 | AN10: 191 | AO10: 백전2리 | AP10: 1110 | AQ10: 530 | AR10: 580 | AS10: 560 | AT10: 내성4리 | AU10: 1359 | AV10: 669 | AW10: 690 | AX10: 691 | AY10: 읍내4리 | AZ10: 978 | BA10: 485 | BB10: 493 | BC10: 446 | BD10: 저동1리 | BE10: 1335 | BF10: 736 | BG10: 599 | BH10: 779
A11: 중리1리 | B11: 534 | C11: 266 | D11: 268 | E11: 315 | F11: 금곡2리 | G11: 119 | H11: 62 | I11: 57 | J11: 69 | K11: 서부3리 | L11: 572 | M11: 287 | N11: 285 | O11: 258 | P11: 남석2리 | Q11: 598 | R11: 269 | S11: 329 | T11: 347 | U11: 교촌리 | V11: 145 | W11: 80 | X11: 65 | Y11: 85 | Z11: 고아1리 | AA11: 794 | AB11: 374 | AC11: 420 | AD11: 430 | AE11: 경산5리 | AF11: 802 | AG11: 365 | AH11: 437 | AI11: 396 | AJ11: 왜관5리 | AK11: 766 | AL11: 368 | AM11: 398 | AN11: 393 | AO11: 동본1리 | AP11: 1443 | AQ11: 683 | AR11: 760 | AS11: 739 | AT11: 내성5리 | AU11: 1987 | AV11: 925 | AW11: 1062 | AX11: 842 | AY11: 읍내5리 | AZ11: 2058 | BA11: 1047 | BB11: 1011 | BC11: 868 | BD11: 저동2리 | BE11: 224 | BF11: 114 | BG11: 110 | BH11: 136
A12: 중리2리 | B12: 1936 | C12: 956 | D12: 980 | E12: 848 | F12: 금곡3리 | G12: 120 | H12: 54 | I12: 66 | J12: 69 | K12: 서부4리 | L12: 343 | M12: 166 | N12: 177 | O12: 190 | P12: 남석3리 | Q12: 964 | R12: 452 | S12: 512 | T12: 523 | U12: 동천리 | V12: 403 | W12: 217 | X12: 186 | Y12: 211 | Z12: 고아2리 | AA12: 141 | AB12: 69 | AC12: 72 | AD12: 84 | AE12: 경산6리 | AF12: 271 | AG12: 139 | AH12: 132 | AI12: 146 | AJ12: 왜관6리 | AK12: 447 | AL12: 221 | AM12: 226 | AN12: 240 | AO12: 동본2리 | AP12: 224 | AQ12: 114 | AR12: 110 | AS12: 124 | AT12: 삼계1리 | AU12: 437 | AV12: 211 | AW12: 226 | AX12: 233 | AY12: 읍남1리 | AZ12: 237 | BA12: 122 | BB12: 115 | BC12: 118 | BD12: 저동3리 | BE12: 60 | BF12: 34 | BG12: 26 | BH12: 39
A13: 중리3리 | B13: 149 | C13: 72 | D13: 77 | E13: 81 | F13: 청운리 | G13: 385 | H13: 181 | I13: 204 | J13: 221 | K13: 황용리 | L13: 50 | M13: 22 | N13: 28 | O13: 25 | P13: 덕곡1리 | Q13: 770 | R13: 376 | S13: 394 | T13: 392 | U13: 합천1리 | V13: 144 | W13: 72 | X13: 72 | Y13: 82 | Z13: 헌문리 | AA13: 427 | AB13: 210 | AC13: 217 | AD13: 271 | AE13: 경산7리 | AF13: 410 | AG13: 202 | AH13: 208 | AI13: 229 | AJ13: 왜관7리 | AK13: 851 | AL13: 461 | AM13: 390 | AN13: 492 | AO13: 남본1리 | AP13: 797 | AQ13: 380 | AR13: 417 | AS13: 403 | AT13: 삼계2리 | AU13: 86 | AV13: 41 | AW13: 45 | AX13: 45 | AY13: 읍남2리 | AZ13: 155 | BA13: 91 | BB13: 64 | BC13: 68 | BD13: 사동1리 | BE13: 481 | BF13: 323 | BG13: 158 | BH13: 343
A14: 상리1리 | B14: 2250 | C14: 1076 | D14: 1174 | E14: 1168 | F14: 송생리 | G14: 176 | H14: 86 | I14: 90 | J14: 111 | K14: 현1리 | L14: 127 | M14: 56 | N14: 71 | O14: 71 | P14: 덕곡2리 | Q14: 876 | R14: 434 | S14: 442 | T14: 409 | U14: 합천2리 | V14: 192 | W14: 101 | X14: 91 | Y14: 109 | Z14: 장기리 | AA14: 466 | AB14: 261 | AC14: 205 | AD14: 249 | AE14: 경산8리 | AF14: 500 | AG14: 237 | AH14: 263 | AI14: 279 | AJ14: 왜관8리 | AK14: 810 | AL14: 527 | AM14: 283 | AN14: 617 | AO14: 남본2리 | AP14: 1641 | AQ14: 808 | AR14: 833 | AS14: 760 | AT14: 유곡1리 | AU14: 125 | AV14: 60 | AW14: 65 | AX14: 81 | AY14: 읍남3리 | AZ14: 85 | BA14: 35 | BB14: 50 | BC14: 46 | BD14: 사동2리 | BE14: 137 | BF14: 81 | BG14: 56 | BH14: 91
A15: 상리2리 | B15: 87 | C15: 47 | D15: 40 | E15: 55 | F15: 교리 | G15: 114 | H15: 56 | I15: 58 | J15: 72 | K15: 현2리 | L15: 109 | M15: 54 | N15: 55 | O15: 73 | P15: 천전리 | Q15: 180 | R15: 82 | S15: 98 | T15: 96 | U15: 범곡1리 | V15: 1183 | W15: 562 | X15: 621 | Y15: 613 | Z15: 연조1리 | AA15: 555 | AB15: 273 | AC15: 282 | AD15: 272 | AE15: 대흥1리 | AF15: 121 | AG15: 60 | AH15: 61 | AI15: 64 | AJ15: 왜관9리 | AK15: 719 | AL15: 363 | AM15: 356 | AN15: 390 | AO15: 서본1리 | AP15: 421 | AQ15: 218 | AR15: 203 | AS15: 242 | AT15: 유곡2리 | AU15: 109 | AV15: 62 | AW15: 47 | AX15: 62 | AY15: 읍남4리 | AZ15: 194 | BA15: 104 | BB15: 90 | BC15: 106 | BD15: 사동3리 | BE15: 302 | BF15: 196 | BG15: 106 | BH15: 213
A16: 도동1리 | B16: 587 | C16: 290 | D16: 297 | E16: 356 | F16: 거대리 | G16: 127 | H16: 62 | I16: 65 | J16: 88 | K16: 현3리 | L16: 71 | M16: 43 | N16: 28 | O16: 47 | P16: 남산1리 | Q16: 194 | R16: 103 | S16: 91 | T16: 99 | U16: 범곡2리 | V16: 2251 | W16: 1078 | X16: 1173 | Y16: 934 | Z16: 연조2리 | AA16: 319 | AB16: 160 | AC16: 159 | AD16: 175 | AE16: 대흥2리 | AF16: 145 | AG16: 73 | AH16: 72 | AI16: 74 | AJ16: 왜관10리 | AK16: 758 | AL16: 428 | AM16: 330 | AN16: 426 | AO16: 서본2리 | AP16: 699 | AQ16: 358 | AR16: 341 | AS16: 368 | AT16: 유곡3리 | AU16: 199 | AV16: 100 | AW16: 99 | AX16: 116 | AY16: 연지1리 | AZ16: 361 | BA16: 176 | BB16: 185 | BC16: 173 | BD16: 독도리 | BE16: 39 | BF16: 38 | BG16: 1 | BH16: 39
A17: 도동2리 | B17: 771 | C17: 374 | D17: 397 | E17: 416 | F17: 월외1리 | G17: 83 | H17: 41 | I17: 42 | J17: 50 | K17: 전곡리 | L17: 14 | M17: 8 | N17: 6 | O17: 10 | P17: 남산2리 | Q17: 53 | R17: 27 | S17: 26 | T17: 34 | U17: 송북리 | V17: 297 | W17: 146 | X17: 151 | Y17: 135 | Z17: 연조3리 | AA17: 595 | AB17: 265 | AC17: 330 | AD17: 290 | AE17: 대흥3리 | AF17: 133 | AG17: 66 | AH17: 67 | AI17: 71 | AJ17: 왜관11리 | AK17: 222 | AL17: 116 | AM17: 106 | AN17: 113 | AO17: 대심1리 | AP17: 1561 | AQ17: 785 | AR17: 776 | AS17: 781 | AT17: 거촌1리 | AU17: 42 | AV17: 22 | AW17: 20 | AX17: 27 | AY17: 연지2리 | AZ17: 871 | BA17: 445 | BB17: 426 | BC17: 392 | BD17: 서면 | BE17: 1362 | BF17: 762 | BG17: 600 | BH17: 805
... A33: 원당2리 | B33: 113 | C33: 55 | D33: 58 | E33: 71 | F33: 항리 | G33: 55 | H33: 28 | I33: 27 | J33: 43 | K33: 무창3리 | L33: 43 | M33: 21 | N33: 22 | O33: 34 | P33: 화천3리 | Q33: 54 | R33: 25 | S33: 29 | T33: 33 | U33: 청도읍 | V33: 11369 | W33: 5598 | X33: 5771 | Y33: 6055 | Z33: 덕곡면 | AA33: 1458 | AB33: 746 | AC33: 712 | AD33: 920 | AE33: 금산3리 | AF33: 186 | AG33: 100 | AH33: 86 | AI33: 94 | AJ33: 석전3리 | AK33: 2001 | AL33: 984 | AM33: 1017 | AN33: 943 | AO33: 생천리 | AP33: 281 | AQ33: 138 | AR33: 143 | AS33: 141 | AT33: 물야면 | AU33: 2863 | AV33: 1481 | AW33: 1382 | AX33: 1683 | AY33: 대흥리 | AZ33: 89 | BA33: 51 | BB33: 38 | BC33: 66 | BD33: 현포2리 | BE33: 122 | BF33: 66 | BG33: 56 | BH33: 77
A34: 원당3리 | B34: 167 | C34: 114 | D34: 53 | E34: 88 | F34: 부남면 | G34: 2364 | H34: 1173 | I34: 1191 | J34: 1412 | K34: 양구리 | L34: 42 | M34: 25 | N34: 17 | O34: 25 | P34: 강구면 | Q34: 5729 | R34: 2705 | S34: 3024 | T34: 3363 | U34: 고수1리 | V34: 1388 | W34: 670 | X34: 718 | Y34: 635 | Z34: 가륜1리 | AA34: 87 | AB34: 47 | AC34: 40 | AD34: 46 | AE34: 예산1리 | AF34: 411 | AG34: 220 | AH34: 191 | AI34: 233 | AJ34: 석전4리 | AK34: 676 | AL34: 341 | AM34: 335 | AN34: 423 | AO34: 용산1리 | AP34: 38 | AQ34: 21 | AR34: 17 | AS34: 27 | AT34: 오록1리 | AU34: 94 | AV34: 52 | AW34: 42 | AX34: 67 | AY34: 평해읍 | AZ34: 2510 | BA34: 1204 | BB34: 1306 | BC34: 1569
A35: 철파리 | B35: 360 | C35: 186 | D35: 174 | E35: 241 | F35: 감연1리 | G35: 143 | H35: 62 | I35: 81 | J35: 87 | K35: 기산리 | L35: 53 | M35: 25 | N35: 28 | O35: 33 | P35: 강구1리 | Q35: 270 | R35: 130 | S35: 140 | T35: 145 | U35: 고수2리 | V35: 450 | W35: 217 | X35: 233 | Y35: 235 | Z35: 가륜2리 | AA35: 126 | AB35: 69 | AC35: 57 | AD35: 71 | AE35: 예산2리 | AF35: 255 | AG35: 138 | AH35: 117 | AI35: 136 | AJ35: 석전5리 | AK35: 535 | AL35: 252 | AM35: 283 | AN35: 264 | AO35: 용산2리 | AP35: 59 | AQ35: 29 | AR35: 30 | AS35: 34 | AT35: 오록2리 | AU35: 263 | AV35: 123 | AW35: 140 | AX35: 160 | AY35: 평해1리 | AZ35: 315 | BA35: 142 | BB35: 173 | BC35: 189
A36: 업1리 | B36: 147 | C36: 76 | D36: 71 | E36: 87 | F36: 감연2리 | G36: 130 | H36: 58 | I36: 72 | J36: 77 | K36: 입암면 | L36: 2018 | M36: 997 | N36: 1021 | O36: 1225 | P36: 강구2리 | Q36: 184 | R36: 89 | S36: 95 | T36: 114 | U36: 고수3리 | V36: 755 | W36: 337 | X36: 418 | Y36: 390 | Z36: 원송리 | AA36: 114 | AB36: 53 | AC36: 61 | AD36: 81 | AE36: 예산3리 | AF36: 440 | AG36: 225 | AH36: 215 | AI36: 254 | AJ36: 석전6리 | AK36: 398 | AL36: 201 | AM36: 197 | AN36: 186 | AO36: 용문면 | AP36: 2129 | AQ36: 1084 | AR36: 1045 | AS36: 1315 | AT36: 오록3리 | AU36: 98 | AV36: 45 | AW36: 53 | AX36: 52 | AY36: 평해2리 | AZ36: 231 | BA36: 129 | BB36: 102 | BC36: 137
A37: 업2리 | B37: 69 | C37: 35 | D37: 34 | E37: 43 | F37: 감연3리 | G37: 77 | H37: 42 | I37: 35 | J37: 47 | K37: 신구1리 | L37: 324 | M37: 146 | N37: 178 | O37: 176 | P37: 강구3리 | Q37: 72 | R37: 36 | S37: 36 | T37: 47 | U37: 고수4리 | V37: 614 | W37: 352 | X37: 262 | Y37: 310 | Z37: 노1리 | AA37: 89 | AB37: 40 | AC37: 49 | AD37: 65 | AE37: 예산4리 | AF37: 824 | AG37: 401 | AH37: 423 | AI37: 371 | AJ37: 석전7리 | AK37: 483 | AL37: 234 | AM37: 249 | AN37: 193 | AO37: 상금곡1리 | AP37: 110 | AQ37: 48 | AR37: 62 | AS37: 65 | AT37: 오록4리 | AU37: 71 | AV37: 37 | AW37: 34 | AX37: 35 | AY37: 평해3리 | AZ37: 270 | BA37: 132 | BB37: 138 | BC37: 161
A38: 단촌면 | B38: 1889 | C38: 939 | D38: 950 | E38: 1167 | F38: 대전1리 | G38: 346 | H38: 162 | I38: 184 | J38: 208 | K38: 신구2리 | L38: 136 | M38: 61 | N38: 75 | O38: 81 | P38: 강구4리 | Q38: 226 | R38: 102 | S38: 124 | T38: 134 | U38: 고수5리 | V38: 570 | W38: 257 | X38: 313 | Y38: 296 | Z38: 노2리 | AA38: 58 | AB38: 36 | AC38: 22 | AD38: 39 | AE38: 백전1리 | AF38: 175 | AG38: 101 | AH38: 74 | AI38: 91 | AJ38: 석전8리 | AK38: 1124 | AL38: 549 | AM38: 575 | AN38: 485 | AO38: 상금곡2리 | AP38: 229 | AQ38: 110 | AR38: 119 | AS38: 130 | AT38: 가평1리 | AU38: 183 | AV38: 94 | AW38: 89 | AX38: 108 | AY38: 학곡1리 | AZ38: 74 | BA38: 35 | BB38: 39 | BC38: 48
A39: 방하리 | B39: 176 | C39: 90 | D39: 86 | E39: 115 | F39: 대전2리 | G39: 190 | H39: 101 | I39: 89 | J39: 110 | K39: 양항리 | L39: 59 | M39: 31 | N39: 28 | O39: 41 | P39: 오포1리 | Q39: 725 | R39: 339 | S39: 386 | T39: 424 | U39: 고수6리 | V39: 1130 | W39: 537 | X39: 593 | Y39: 591 | Z39: 백1리 | AA39: 62 | AB39: 36 | AC39: 26 | AD39: 46 | AE39: 백전2리 | AF39: 2399 | AG39: 1201 | AH39: 1198 | AI39: 957 | AJ39: 석전9리 | AK39: 235 | AL39: 115 | AM39: 120 | AN39: 112 | AO39: 상금곡3리 | AP39: 140 | AQ39: 70 | AR39: 70 | AS39: 78 | AT39: 가평2리 | AU39: 77 | AV39: 38 | AW39: 39 | AX39: 45 | AY39: 학곡2리 | AZ39: 112 | BA39: 58 | BB39: 54 | BC39: 71
A40: 장림리 | B40: 153 | C40: 76 | D40: 77 | E40: 103 | F40: 대전3리 | G40: 76 | H40: 36 | I40: 40 | J40: 46 | K40: 연당1리 | L40: 49 | M40: 25 | N40: 24 | O40: 38 | P40: 오포2리 | Q40: 1107 | R40: 511 | S40: 596 | T40: 615 | U40: 고수7리 | V40: 678 | W40: 314 | X40: 364 | Y40: 350 | Z40: 백2리 | AA40: 57 | AB40: 31 | AC40: 26 | AD40: 38 | AE40: 용산1리 | AF40: 263 | AG40: 133 | AH40: 130 | AI40: 137 | AJ40: 석전10리 | AK40: 837 | AL40: 416 | AM40: 421 | AN40: 490 | AO40: 상금곡4리 | AP40: 122 | AQ40: 65 | AR40: 57 | AS40: 67 | AT40: 개단1리 | AU40: 147 | AV40: 86 | AW40: 61 | AX40: 73 | AY40: 삼달1리 | AZ40: 109 | BA40: 44 | BB40: 65 | BC40: 69
A41: 세촌1리 | B41: 195 | C41: 99 | D41: 96 | E41: 115 | F41: 홍원1리 | G41: 96 | H41: 51 | I41: 45 | J41: 58 | K41: 연당2리 | L41: 67 | M41: 36 | N41: 31 | O41: 42 | P41: 오포3리 | Q41: 622 | R41: 281 | S41: 341 | T41: 374 | U41: 고수8리 | V41: 913 | W41: 453 | X41: 460 | Y41: 469 | Z41: 옥계리 | AA41: 135 | AB41: 61 | AC41: 74 | AD41: 83 | AE41: 용산2리 | AF41: 134 | AG41: 65 | AH41: 69 | AI41: 66 | AJ41: 석전11리 | AK41: 695 | AL41: 342 | AM41: 353 | AN41: 273 | AO41: 하금곡1리 | AP41: 74 | AQ41: 42 | AR41: 32 | AS41: 44 | AT41: 개단2리 | AU41: 108 | AV41: 52 | AW41: 56 | AX41: 68 | AY41: 삼달2리 | AZ41: 75 | BA41: 36 | BB41: 39 | BC41: 44
A42: 세촌2리 | B42: 113 | C42: 49 | D42: 64 | E42: 71 | F42: 홍원2리 | G42: 82 | H42: 40 | I42: 42 | J42: 49 | K42: 금학리 | L42: 66 | M42: 34 | N42: 32 | O42: 43 | P42: 삼사리 | Q42: 604 | R42: 293 | S42: 311 | T42: 371 | U42: 송읍리 | V42: 208 | W42: 106 | X42: 102 | Y42: 126 | Z42: 용흥리 | AA42: 101 | AB42: 56 | AC42: 45 | AD42: 66 | AE42: 선남면 | AF42: 6000 | AG42: 3292 | AH42: 2708 | AI42: 3581 | AJ42: 매원1리 | AK42: 178 | AL42: 96 | AM42: 82 | AN42: 88 | AO42: 하금곡2리 | AP42: 69 | AQ42: 36 | AR42: 33 | AS42: 37 | AT42: 개단3리 | AU42: 154 | AV42: 83 | AW42: 71 | AX42: 86 | AY42: 오곡1리 | AZ42: 85 | BA42: 42 | BB42: 43 | BC42: 51
A43: 하화1리 | B43: 126 | C43: 64 | D43: 62 | E43: 80 | F43: 하속1리 | G43: 88 | H43: 49 | I43: 39 | J43: 60 | K43: 대천리 | L43: 120 | M43: 66 | N43: 54 | O43: 73 | P43: 화전1리 | Q43: 338 | R43: 170 | S43: 168 | T43: 174 | U43: 무등리 | V43: 223 | W43: 111 | X43: 112 | Y43: 127 | Z43: 본리1리 | AA43: 111 | AB43: 55 | AC43: 56 | AD43: 67 | AE43: 용신1리 | AF43: 263 | AG43: 135 | AH43: 128 | AI43: 132 | AJ43: 매원2리 | AK43: 242 | AL43: 133 | AM43: 109 | AN43: 118 | AO43: 성현리 | AP43: 106 | AQ43: 52 | AR43: 54 | AS43: 71 | AT43: 개단4리 | AU43: 150 | AV43: 80 | AW43: 70 | AX43: 84 | AY43: 오곡2리 | AZ43: 98 | BA43: 49 | BB43: 49 | BC43: 61
A44: 하화2리 | B44: 252 | C44: 123 | D44: 129 | E44: 152 | F44: 하속2리 | G44: 64 | H44: 36 | I44: 28 | J44: 39 | K44: 신사1리 | L44: 78 | M44: 40 | N44: 38 | O44: 46 | P44: 화전2리 | Q44: 44 | R44: 18 | S44: 26 | T44: 33 | U44: 덕암1리 | V44: 161 | W44: 78 | X44: 83 | Y44: 91 | Z44: 본리2리 | AA44: 65 | AB44: 33 | AC44: 32 | AD44: 40 | AE44: 용신2리 | AF44: 214 | AG44: 115 | AH44: 99 | AI44: 132 | AJ44: 매원3리 | AK44: 48 | AL44: 24 | AM44: 24 | AN44: 27 | AO44: 덕신리 | AP44: 91 | AQ44: 48 | AR44: 43 | AS44: 56 | AT44: 개단5리 | AU44: 56 | AV44: 34 | AW44: 22 | AX44: 35 | AY44: 월송1리 | AZ44: 239 | BA44: 115 | BB44: 124 | BC44: 158
A45: 상화1리 | B45: 57 | C45: 27 | D45: 30 | E45: 37 | F45: 구천리 | G45: 248 | H45: 124 | I45: 124 | J45: 141 | K45: 신사2리 | L45: 115 | M45: 57 | N45: 58 | O45: 69 | P45: 상직1리 | Q45: 27 | R45: 16 | S45: 11 | T45: 17 | U45: 덕암2리 | V45: 98 | W45: 43 | X45: 55 | Y45: 63 | Z45: 예리 | AA45: 182 | AB45: 95 | AC45: 87 | AD45: 103 | AE45: 용신3리 | AF45: 70 | AG45: 38 | AH45: 32 | AI45: 45 | AJ45: 봉계리 | AK45: 136 | AL45: 72 | AM45: 64 | AN45: 84 | AO45: 방송리 | AP45: 61 | AQ45: 31 | AR45: 30 | AS45: 45 | AT45: 오전1리 | AU45: 165 | AV45: 91 | AW45: 74 | AX45: 91 | AY45: 월송2리 | AZ45: 69 | BA45: 29 | BB45: 40 | BC45: 46
... A79: 감계2리 | B79: 57 | C79: 30 | D79: 27 | E79: 38 | F79: 화목2리 | G79: 103 | H79: 56 | I79: 47 | J79: 66 | K79: 주곡2리 | L79: 39 | M79: 24 | N79: 15 | O79: 22 | P79: 부흥3리 | Q79: 32 | R79: 15 | S79: 17 | T79: 20 | U79: 예리2리 | V79: 82 | W79: 40 | X79: 42 | Y79: 52 | Z79: 고탄리 | AA79: 181 | AB79: 107 | AC79: 74 | AD79: 112 | AE79: 상언1리 | AF79: 202 | AG79: 102 | AH79: 100 | AI79: 124 | AJ79: 인평8리 | AK79: 899 | AL79: 479 | AM79: 420 | AN79: 327 | AO79: 탑2리 | AP79: 42 | AQ79: 21 | AR79: 21 | AS79: 28 | AT79: 소천2리 | AU79: 129 | AV79: 66 | AW79: 63 | AX79: 87 | AY79: 고목3리 | AZ79: 59 | BA79: 32 | BB79: 27 | BC79: 41
A80: 실업1리 | B80: 138 | C80: 69 | D80: 69 | E80: 87 | F80: 덕계리 | G80: 160 | H80: 80 | I80: 80 | J80: 95 | K80: 가곡리 | L80: 126 | M80: 64 | N80: 62 | O80: 71 | P80: 달산면 | Q80: 1066 | R80: 501 | S80: 565 | T80: 710 | U80: 예리3리 | V80: 136 | W80: 64 | X80: 72 | Y80: 76 | Z80: 기족리 | AA80: 250 | AB80: 137 | AC80: 113 | AD80: 152 | AE80: 상언2리 | AF80: 156 | AG80: 86 | AH80: 70 | AI80: 99 | AJ80: 인평9리 | AK80: 639 | AL80: 318 | AM80: 321 | AN80: 244 | AO80: 동사리 | AP80: 89 | AQ80: 42 | AR80: 47 | AS80: 46 | AT80: 눌산1리 | AU80: 175 | AV80: 97 | AW80: 78 | AX80: 98 | AY80: 덕천리 | AZ80: 0
A81: 실업2리 | B81: 62 | C81: 32 | D81: 30 | E81: 34 | F81: 두현1리 | G81: 156 | H81: 77 | I81: 79 | J81: 93 | K81: 도곡리 | L81: 155 | M81: 74 | N81: 81 | O81: 88 | P81: 대지1리 | Q81: 87 | R81: 43 | S81: 44 | T81: 55 | U81: 신당1리 | V81: 115 | W81: 63 | X81: 52 | Y81: 69 | Z81: 기산리 | AA81: 178 | AB81: 103 | AC81: 75 | AD81: 111 | AE81: 용정1리 | AF81: 180 | AG81: 101 | AH81: 79 | AI81: 114 | AJ81: 인평10리 | AK81: 383 | AL81: 194 | AM81: 189 | AN81: 148 | AO81: 은산1리 | AP81: 89 | AQ81: 50 | AR81: 39 | AS81: 52 | AT81: 눌산2리 | AU81: 108 | AV81: 56 | AW81: 52 | AX81: 71 | AY81: 근남면 | AZ81: 2698 | BA81: 1374 | BB81: 1324 | BC81: 1556
A82: 오류리 | B82: 85 | C82: 44 | D82: 41 | E82: 56 | F82: 두현2리 | G82: 89 | H82: 47 | I82: 42 | J82: 58 | K82: 오리리 | L82: 147 | M82: 83 | N82: 64 | O82: 98 | P82: 대지2리 | Q82: 75 | R82: 31 | S82: 44 | T82: 53 | U82: 신당2리 | V82: 75 | W82: 35 | X82: 40 | Y82: 46 | Z82: 사부1리 | AA82: 88 | AB82: 45 | AC82: 43 | AD82: 55 | AE82: 용정2리 | AF82: 104 | AG82: 66 | AH82: 38 | AI82: 74 | AJ82: 인평11리 | AK82: 275 | AL82: 130 | AM82: 145 | AN82: 153 | AO82: 은산2리 | AP82: 57 | AQ82: 32 | AR82: 25 | AS82: 35 | AT82: 어지1리 | AU82: 80 | AV82: 37 | AW82: 43 | AX82: 53 | AY82: 노음1리 | AZ82: 488 | BA82: 254 | BB82: 234 | BC82: 250
A83: 금봉리 | B83: 45 | C83: 26 | D83: 19 | E83: 25 | F83: 안덕면 | G83: 2486 | H83: 1239 | I83: 1247 | J83: 1545 | K83: 용화1리 | L83: 130 | M83: 73 | N83: 57 | O83: 67 | P83: 용평리 | Q83: 31 | R83: 15 | S83: 16 | T83: 24 | U83: 녹명1리 | V83: 117 | W83: 57 | X83: 60 | Y83: 70 | Z83: 사부2리 | AA83: 114 | AB83: 61 | AC83: 53 | AD83: 75 | AE83: 선송리 | AF83: 119 | AG83: 60 | AH83: 59 | AI83: 79 | AJ83: 인평12리 | AK83: 701 | AL83: 389 | AM83: 312 | AN83: 422 | AO83: 송월리 | AP83: 101 | AQ83: 48 | AR83: 53 | AS83: 59 | AT83: 어지2리 | AU83: 145 | AV83: 76 | AW83: 69 | AX83: 81 | AY83: 노음2리 | AZ83: 180 | BA83: 89 | BB83: 91 | BC83: 97
A84: 금학리 | B84: 70 | C84: 36 | D84: 34 | E84: 41 | F84: 명당1리 | G84: 264 | H84: 119 | I84: 145 | J84: 159 | K84: 용화2리 | L84: 59 | M84: 28 | N84: 31 | O84: 34 | P84: 매일1리 | Q84: 56 | R84: 28 | S84: 28 | T84: 38 | U84: 녹명2리 | V84: 108 | W84: 57 | X84: 51 | Y84: 73 | Z84: 다산면 | AA84: 8060 | AB84: 4166 | AC84: 3894 | AD84: 4239 | AE84: 용계리 | AF84: 90 | AG84: 52 | AH84: 38 | AI84: 53 | AJ84: 인평13리 | AK84: 865 | AL84: 539 | AM84: 326 | AN84: 553 | AO84: 금곡1리 | AP84: 89 | AQ84: 45 | AR84: 44 | AS84: 52 | AT84: 소지리 | AU84: 166 | AV84: 84 | AW84: 82 | AX84: 90 | AY84: 노음3리 | AZ84: 177 | BA84: 94 | BB84: 83 | BC84: 99
A85: 전흥1리 | B85: 119 | C85: 57 | D85: 62 | E85: 77 | F85: 명당2리 | G85: 213 | H85: 108 | I85: 105 | J85: 109 | K85: 문암리 | L85: 98 | M85: 46 | N85: 52 | O85: 68 | P85: 매일2리 | Q85: 47 | R85: 19 | S85: 28 | T85: 31 | U85: 사1리 | V85: 134 | W85: 61 | X85: 73 | Y85: 87 | Z85: 평리리 | AA85: 793 | AB85: 406 | AC85: 387 | AD85: 400 | AE85: 사곡리 | AF85: 162 | AG85: 97 | AH85: 65 | AI85: 105 | AJ85: 인평14리 | AK85: 983 | AL85: 516 | AM85: 467 | AN85: 502 | AO85: 금곡2리 | AP85: 82 | AQ85: 44 | AR85: 38 | AS85: 44 | AT85: 춘양면 | AU85: 4234 | AV85: 2124 | AW85: 2110 | AX85: 2518 | AY85: 수산리 | AZ85: 312 | BA85: 164 | BB85: 148 | BC85: 170
A86: 전흥2리 | B86: 144 | C86: 73 | D86: 71 | E86: 86 | F86: 명당3리 | G86: 111 | H86: 55 | I86: 56 | J86: 73 | K86: 칠성리 | L86: 136 | M86: 72 | N86: 64 | O86: 74 | P86: 흥기1리 | Q86: 73 | R86: 38 | S86: 35 | T86: 45 | U86: 사2리 | V86: 117 | W86: 50 | X86: 67 | Y86: 70 | Z86: 호촌1리 | AA86: 211 | AB86: 115 | AC86: 96 | AD86: 112 | AE86: 동락1리 | AF86: 121 | AG86: 64 | AH86: 57 | AI86: 74 | AJ86: 인평15리 | AK86: 520 | AL86: 258 | AM86: 262 | AN86: 195 | AO86: 오류1리 | AP86: 56 | AQ86: 27 | AR86: 29 | AS86: 32 | AT86: 의양1리 | AU86: 335 | AV86: 163 | AW86: 172 | AX86: 201 | AY86: 행곡1리 | AZ86: 101 | BA86: 53 | BB86: 48 | BC86: 66
A87: 입암1리 | B87: 199 | C87: 98 | D87: 101 | E87: 122 | F87: 감은1리 | G87: 57 | H87: 31 | I87: 26 | J87: 32 | K87: 가천리 | L87: 127 | M87: 60 | N87: 67 | O87: 66 | P87: 흥기2리 | Q87: 31 | R87: 13 | S87: 18 | T87: 19 | U87: 함박리 | V87: 107 | W87: 55 | X87: 52 | Y87: 68 | Z87: 호촌2리 | AA87: 301 | AB87: 165 | AC87: 136 | AD87: 193 | AE87: 동락2리 | AF87: 119 | AG87: 64 | AH87: 55 | AI87: 65 | AJ87: 인평16리 | AK87: 813 | AL87: 455 | AM87: 358 | AN87: 461 | AO87: 오류2리 | AP87: 34 | AQ87: 15 | AR87: 19 | AS87: 23 | AT87: 의양2리 | AU87: 460 | AV87: 219 | AW87: 241 | AX87: 284 | AY87: 행곡2리 | AZ87: 50 | BA87: 28 | BB87: 22 | BC87: 33
A88: 입암2리 | B88: 64 | C88: 37 | D88: 27 | E88: 33 | F88: 감은2리 | G88: 87 | H88: 47 | I88: 40 | J88: 55 | K88: 섬촌리 | L88: 143 | M88: 68 | N88: 75 | O88: 85 | P88: 흥기3리 | Q88: 73 | R88: 30 | S88: 43 | T88: 51 | U88: 옥산1리 | V88: 125 | W88: 62 | X88: 63 | Y88: 75 | Z88: 곽촌1리 | AA88: 311 | AB88: 175 | AC88: 136 | AD88: 179 | AE88: 기산1리 | AF88: 106 | AG88: 63 | AH88: 43 | AI88: 66 | AJ88: 인평17리 | AK88: 711 | AL88: 413 | AM88: 298 | AN88: 426 | AO88: 율곡리 | AP88: 112 | AQ88: 57 | AR88: 55 | AS88: 58 | AT88: 의양3리 | AU88: 230 | AV88: 109 | AW88: 121 | AX88: 142 | AY88: 행곡3리 | AZ88: 61 | BA88: 32 | BB88: 29 | BC88: 34
A89: 입암3리 | B89: 55 | C89: 32 | D89: 23 | E89: 32 | F89: 장전1리 | G89: 108 | H89: 60 | I89: 48 | J89: 68 | K89: 곡강리 | L89: 175 | M89: 80 | N89: 95 | O89: 94 | P89: 주응1리 | Q89: 62 | R89: 32 | S89: 30 | T89: 41 | U89: 옥산2리 | V89: 42 | W89: 24 | X89: 18 | Y89: 29 | Z89: 곽촌2리 | AA89: 675 | AB89: 338 | AC89: 337 | AD89: 436 | AE89: 기산2리 | AF89: 170 | AG89: 95 | AH89: 75 | AI89: 97 | AJ89: 인평18리 | AK89: 2634 | AL89: 1375 | AM89: 1259 | AN89: 961 | AO89: 부초리 | AP89: 106 | AQ89: 60 | AR89: 46 | AS89: 71 | AT89: 의양4리 | AU89: 580 | AV89: 296 | AW89: 284 | AX89: 340 | AY89: 행곡4리 | AZ89: 38 | BA89: 17 | BB89: 21 | BC89: 24
A90: 신계1리 | B90: 115 | C90: 56 | D90: 59 | E90: 67 | F90: 장전2리 | G90: 86 | H90: 41 | I90: 45 | J90: 53 | K90: 수비면 | L90: 1622 | M90: 826 | N90: 796 | O90: 962 | P90: 주응2리 | Q90: 51 | R90: 21 | S90: 30 | T90: 38 | U90: 옥산3리 | V90: 68 | W90: 30 | X90: 38 | Y90: 44 | Z90: 상곡1리 | AA90: 402 | AB90: 216 | AC90: 186 | AD90: 239 | AE90: 운산리 | AF90: 223 | AG90: 130 | AH90: 93 | AI90: 134 | AJ90: 오평1리 | AK90: 214 | AL90: 115 | AM90: 99 | AN90: 115 | AO90: 시항리 | AP90: 49 | AQ90: 27 | AR90: 22 | AS90: 31 | AT90: 학산리 | AU90: 185 | AV90: 93 | AW90: 92 | AX90: 105 | AY90: 수곡1리 | AZ90: 105 | BA90: 49 | BB90: 56 | BC90: 59
A91: 신계2리 | B91: 67 | C91: 31 | D91: 36 | E91: 37 | F91: 문거1리 | G91: 114 | H91: 61 | I91: 53 | J91: 73 | K91: 발리1리 | L91: 153 | M91: 86 | N91: 67 | O91: 84 | P91: 옥산1리 | Q91: 56 | R91: 21 | S91: 35 | T91: 34 | U91: 풍각면 | V91: 3704 | W91: 1840 | X91: 1864 | Y91: 2263 | Z91: 상곡2리 | AA91: 309 | AB91: 175 | AC91: 134 | AD91: 160 | AE91: 문명1리 | AF91: 274 | AG91: 156 | AH91: 118 | AI91: 157 | AJ91: 오평2리 | AK91: 101 | AL91: 62 | AM91: 39 | AN91: 60 | AO91: 감천면 | AP91: 2466 | AQ91: 1244 | AR91: 1222 | AS91: 1492 | AT91: 서동리 | AU91: 311 | AV91: 160 | AW91: 151 | AX91: 191 | AY91: 수곡2리 | AZ91: 119 | BA91: 63 | BB91: 56 | BC91: 69
A92: 사곡면 | B92: 1551 | C92: 767 | D92: 784 | E92: 970 | F92: 문거2리 | G92: 43 | H92: 18 | I92: 25 | J92: 27 | K92: 발리2리 | L92: 302 | M92: 157 | N92: 145 | O92: 172 | P92: 옥산2리 | Q92: 63 | R92: 31 | S92: 32 | T92: 43 | U92: 송서1리 | V92: 438 | W92: 197 | X92: 241 | Y92: 215 | Z92: 상곡3리 | AA92: 1169 | AB92: 579 | AC92: 590 | AD92: 547 | AE92: 문명2리 | AF92: 239 | AG92: 126 | AH92: 113 | AI92: 143 | AJ92: 석적읍 | AK92: 30639 | AL92: 16782 | AM92: 13857 | AN92: 14982 | AO92: 포1리 | AP92: 307 | AQ92: 149 | AR92: 158 | AS92: 174 | AT92: 석현1리 | AU92: 119 | AV92: 64 | AW92: 55 | AX92: 67 | AY92: 구산1리 | AZ92: 149 | BA92: 82 | BB92: 67 | BC92: 90
... A126: 금천1리 | B126: 51 | C126: 29 | D126: 22 | E126: 27 | F126: 진안2리 | G126: 315 | H126: 151 | I126: 164 | J126: 183 | K126: 주남리 | L126: 153 | M126: 79 | N126: 74 | O126: 97 | P126: 축산1리 | Q126: 704 | R126: 320 | S126: 384 | T126: 452 | U126: 지슬1리 | V126: 116 | W126: 55 | X126: 61 | Y126: 78 | Z126: 도진리 | AA126: 144 | AB126: 80 | AC126: 64 | AD126: 94 | AE126: 작은리 | AF126: 122 | AG126: 63 | AH126: 59 | AI126: 84 | AJ126: 망정2리 | AK126: 50 | AL126: 28 | AM126: 22 | AN126: 31 | AO126: 간방1리 | AP126: 70 | AQ126: 36 | AR126: 34 | AS126: 42 | AT126: 석포2리 | AU126: 284 | AV126: 153 | AW126: 131 | AX126: 180 | AY126: 봉산2리 | AZ126: 75 | BA126: 36 | BB126: 39 | BC126: 58
A127: 금천2리 | B127: 152 | C127: 85 | D127: 67 | E127: 91 | F127: 진안3리 | G127: 369 | H127: 164 | I127: 205 | J127: 227 | P127: 축산2리 | Q127: 78 | R127: 36 | S127: 42 | T127: 52 | U127: 지슬2리 | V127: 213 | W127: 101 | X127: 112 | Y127: 132 | Z127: 예곡리 | AA127: 145 | AB127: 89 | AC127: 56 | AD127: 53 | AE127: 가천면 | AF127: 1957 | AG127: 993 | AH127: 964 | AI127: 1249 | AJ127: 도개1리 | AK127: 103 | AL127: 56 | AM127: 47 | AN127: 68 | AO127: 간방2리 | AP127: 78 | AQ127: 41 | AR127: 37 | AS127: 49 | AT127: 석포3리 | AU127: 144 | AV127: 76 | AW127: 68 | AX127: 89 | AY127: 온정면 | AZ127: 1547 | BA127: 753 | BB127: 794 | BC127: 960
A128: 빙계1리 | B128: 134 | C128: 68 | D128: 66 | E128: 74 | F128: 진안4리 | G128: 313 | H128: 166 | I128: 147 | J128: 183 | P128: 축산3리 | Q128: 264 | R128: 124 | S128: 140 | T128: 163 | U128: 금천리 | V128: 167 | W128: 90 | X128: 77 | Y128: 104 | Z128: 답곡1리 | AA128: 149 | AB128: 71 | AC128: 78 | AD128: 82 | AE128: 창천1리 | AF128: 245 | AG128: 115 | AH128: 130 | AI128: 150 | AJ128: 도개2리 | AK128: 166 | AL128: 86 | AM128: 80 | AN128: 103 | AO128: 간방3리 | AP128: 60 | AQ128: 28 | AR128: 32 | AS128: 37 | AT128: 석포4리 | AU128: 191 | AV128: 126 | AW128: 65 | AX128: 145 | AY128: 소태1리 | AZ128: 278 | BA128: 140 | BB128: 138 | BC128: 166
A129: 빙계2리 | B129: 64 | C129: 30 | D129: 34 | E129: 37 | F129: 이촌1리 | G129: 1331 | H129: 653 | I129: 678 | J129: 701 | P129: 경정1리 | Q129: 230 | R129: 106 | S129: 124 | T129: 147 | U129: 오산1리 | V129: 227 | W129: 119 | X129: 108 | Y129: 139 | Z129: 답곡2리 | AA129: 67 | AB129: 35 | AC129: 32 | AD129: 38 | AE129: 창천2리 | AF129: 333 | AG129: 162 | AH129: 171 | AI129: 197 | AJ129: 지천면 | AK129: 3837 | AL129: 2095 | AM129: 1742 | AN129: 2358 | AO129: 옥천리 | AP129: 41 | AQ129: 19 | AR129: 22 | AS129: 29 | AT129: 대현1리 | AU129: 81 | AV129: 43 | AW129: 38 | AX129: 45 | AY129: 소태2리 | AZ129: 146 | BA129: 80 | BB129: 66 | BC129: 76
A130: 빙계3리 | B130: 21 | C130: 6 | D130: 15 | E130: 15 | F130: 이촌2리 | G130: 174 | H130: 86 | I130: 88 | J130: 97 | P130: 경정2리 | Q130: 154 | R130: 79 | S130: 75 | T130: 76 | U130: 오산2리 | V130: 207 | W130: 107 | X130: 100 | Y130: 146 | Z130: 봉산1리 | AA130: 154 | AB130: 77 | AC130: 77 | AD130: 94 | AE130: 창천3리 | AF130: 199 | AG130: 96 | AH130: 103 | AI130: 117 | AJ130: 신1리 | AK130: 527 | AL130: 277 | AM130: 250 | AN130: 305 | AO130: 독양1리 | AP130: 84 | AQ130: 40 | AR130: 44 | AS130: 47 | AT130: 대현2리 | AU130: 165 | AV130: 85 | AW130: 80 | AX130: 88 | AY130: 소태3리 | AZ130: 19 | BA130: 9 | BB130: 10 | BC130: 14
A131: 사미리 | B131: 139 | C131: 66 | D131: 73 | E131: 75 | F131: 후평1리 | G131: 105 | H131: 64 | I131: 41 | J131: 52 | P131: 경정3리 | Q131: 98 | R131: 48 | S131: 50 | T131: 60 | U131: 이서면 | V131: 4515 | W131: 2205 | X131: 2310 | Y131: 2579 | Z131: 봉산2리 | AA131: 41 | AB131: 15 | AC131: 26 | AD131: 23 | AE131: 화죽1리 | AF131: 124 | AG131: 64 | AH131: 60 | AI131: 77 | AJ131: 신2리 | AK131: 200 | AL131: 112 | AM131: 88 | AN131: 120 | AO131: 독양2리 | AP131: 73 | AQ131: 35 | AR131: 38 | AS131: 51 | AT131: 승부리 | AU131: 69 | AV131: 38 | AW131: 31 | AX131: 50 | AY131: 온정1리 | AZ131: 170 | BA131: 82 | BB131: 88 | BC131: 95
A132: 효선1리 | B132: 96 | C132: 51 | D132: 45 | E132: 56 | F132: 후평2리 | G132: 61 | H132: 37 | I132: 24 | J132: 35 | P132: 고곡1리 | Q132: 88 | R132: 38 | S132: 50 | T132: 54 | U132: 칠엽1리 | V132: 38 | W132: 21 | X132: 17 | Y132: 27 | Z132: 포1리 | AA132: 128 | AB132: 64 | AC132: 64 | AD132: 78 | AE132: 화죽2리 | AF132: 67 | AG132: 35 | AH132: 32 | AI132: 48 | AJ132: 신3리 | AK132: 180 | AL132: 96 | AM132: 84 | AN132: 109 | AO132: 기곡1리 | AP132: 67 | AQ132: 29 | AR132: 38 | AS132: 37 | AT132: 재산면 | AU132: 1414 | AV132: 714 | AW132: 700 | AX132: 859 | AY132: 온정2리 | AZ132: 39 | BA132: 17 | BB132: 22 | BC132: 23
A133: 효선2리 | B133: 112 | C133: 55 | D133: 57 | E133: 57 | F133: 합강리 | G133: 24 | H133: 13 | I133: 11 | J133: 19 | P133: 고곡2리 | Q133: 69 | R133: 36 | S133: 33 | T133: 43 | U133: 칠엽2리 | V133: 68 | W133: 28 | X133: 40 | Y133: 42 | Z133: 포2리 | AA133: 50 | AB133: 23 | AC133: 27 | AD133: 36 | AE133: 동원1리 | AF133: 95 | AG133: 47 | AH133: 48 | AI133: 60 | AJ133: 신4리 | AK133: 136 | AL133: 73 | AM133: 63 | AN133: 86 | AO133: 기곡2리 | AP133: 35 | AQ133: 19 | AR133: 16 | AS133: 20 | AT133: 현동1리 | AU133: 189 | AV133: 92 | AW133: 97 | AX133: 112 | AY133: 조금1리 | AZ133: 57 | BA133: 32 | BB133: 25 | BC133: 44
A134: 가음면 | B134: 1464 | C134: 755 | D134: 709 | E134: 907 | F134: 기곡리 | G134: 56 | H134: 29 | I134: 27 | J134: 38 | P134: 도곡1리 | Q134: 113 | R134: 47 | S134: 66 | T134: 74 | U134: 대전1리 | V134: 122 | W134: 58 | X134: 64 | Y134: 73 | Z134: 객기리 | AA134: 104 | AB134: 57 | AC134: 47 | AD134: 70 | AE134: 동원2리 | AF134: 68 | AG134: 36 | AH134: 32 | AI134: 41 | AJ134: 송정리 | AK134: 231 | AL134: 131 | AM134: 100 | AN134: 141 | AO134: 우래1리 | AP134: 80 | AQ134: 40 | AR134: 40 | AS134: 39 | AT134: 현동2리 | AU134: 207 | AV134: 98 | AW134: 109 | AX134: 124 | AY134: 조금2리 | AZ134: 38 | BA134: 18 | BB134: 20 | BC134: 27
A135: 현리1리 | B135: 131 | C135: 67 | D135: 64 | E135: 71 | F135: 추현리 | G135: 81 | H135: 45 | I135: 36 | J135: 54 | P135: 도곡2리 | Q135: 102 | R135: 45 | S135: 57 | T135: 58 | U135: 대전2리 | V135: 76 | W135: 34 | X135: 42 | Y135: 43 | Z135: 연리 | AA135: 90 | AB135: 47 | AC135: 43 | AD135: 49 | AE135: 마수리 | AF135: 73 | AG135: 43 | AH135: 30 | AI135: 56 | AJ135: 금호리 | AK135: 313 | AL135: 181 | AM135: 132 | AN135: 198 | AO135: 우래2리 | AP135: 68 | AQ135: 37 | AR135: 31 | AS135: 33 | AT135: 현동3리 | AU135: 129 | AV135: 70 | AW135: 59 | AX135: 73 | AY135: 덕산1리 | AZ135: 45 | BA135: 24 | BB135: 21 | BC135: 35
A136: 현리2리 | B136: 107 | C136: 57 | D136: 50 | E136: 67 | F136: 부곡리 | G136: 104 | H136: 52 | I136: 52 | J136: 66 | P136: 상원리 | Q136: 138 | R136: 68 | S136: 70 | T136: 80 | U136: 가금1리 | V136: 99 | W136: 52 | X136: 47 | Y136: 58 | Z136: 월오리 | AA136: 40 | AB136: 20 | AC136: 20 | AD136: 22 | AE136: 법전1리 | AF136: 83 | AG136: 43 | AH136: 40 | AI136: 56 | AJ136: 연화리 | AK136: 169 | AL136: 94 | AM136: 75 | AN136: 101 | AO136: 산성리 | AP136: 92 | AQ136: 48 | AR136: 44 | AS136: 60 | AT136: 남면리 | AU136: 122 | AV136: 62 | AW136: 60 | AX136: 77 | AY136: 덕산2리 | AZ136: 23 | BA136: 9 | BB136: 14 | BC136: 16
A137: 순호1리 | B137: 43 | C137: 21 | D137: 22 | E137: 27 | F137: 세장리 | G137: 114 | H137: 55 | I137: 59 | J137: 63 | P137: 부곡리 | Q137: 76 | R137: 37 | S137: 39 | T137: 49 | U137: 가금2리 | V137: 77 | W137: 39 | X137: 38 | Y137: 46 | Z137: 대곡1리 | AA137: 54 | AB137: 28 | AC137: 26 | AD137: 35 | AE137: 법전2리 | AF137: 95 | AG137: 49 | AH137: 46 | AI137: 57 | AJ137: 달서리 | AK137: 157 | AL137: 87 | AM137: 70 | AN137: 99 | AO137: 오신리 | AP137: 82 | AQ137: 40 | AR137: 42 | AS137: 48 | AT137: 동면1리 | AU137: 140 | AV137: 71 | AW137: 69 | AX137: 86 | AY137: 덕산3리 | AZ137: 23 | BA137: 6 | BB137: 17 | BC137: 18
A138: 순호2리 | B138: 43 | C138: 24 | D138: 19 | E138: 28 | F138: 광덕1리 | G138: 182 | H138: 79 | I138: 103 | J138: 104 | P138: 칠성1리 | Q138: 41 | R138: 19 | S138: 22 | T138: 24 | U138: 구라리 | V138: 132 | W138: 63 | X138: 69 | Y138: 84 | Z138: 대곡2리 | AA138: 48 | AB138: 27 | AC138: 21 | AD138: 33 | AE138: 신계리 | AF138: 157 | AG138: 76 | AH138: 81 | AI138: 116 | AJ138: 백운리 | AK138: 113 | AL138: 65 | AM138: 48 | AN138: 73 | AO138: 수계1리 | AP138: 43 | AQ138: 21 | AR138: 22 | AS138: 27 | AT138: 동면2리 | AU138: 199 | AV138: 97 | AW138: 102 | AX138: 103 | AY138: 덕인1리 | AZ138: 65 | BA138: 34 | BB138: 31 | BC138: 39
... A149: 이2리 | B149: 52 | C149: 27 | D149: 25 | E149: 34 | F149: 괴정2리 | G149: 100 | H149: 48 | I149: 52 | J149: 65 | P149: 성내5리 | Q149: 742 | R149: 351 | S149: 391 | T149: 423 | U149: 문수리 | V149: 175 | W149: 87 | X149: 88 | Y149: 106 | Z149: 백산리 | AA149: 107 | AB149: 50 | AC149: 57 | AD149: 71 | AE149: 어은2리 | AF149: 115 | AG149: 66 | AH149: 49 | AI149: 76 | AJ149: 연호1리 | AK149: 230 | AL149: 119 | AM149: 111 | AN149: 137 | AO149: 금능3리 | AP149: 162 | AQ149: 103 | AR149: 59 | AS149: 148 | AT149: 양곡1리 | AU149: 114 | AV149: 55 | AW149: 59 | AX149: 75 | AY149: 외선미2 | AZ149: 53 | BA149: 25 | BB149: 28 | BC149: 33
A150: 장1리 | B150: 91 | C150: 47 | D150: 44 | E150: 58 | P150: 괴시1리 | Q150: 255 | R150: 127 | S150: 128 | T150: 162 | U150: 고철1리 | V150: 109 | W150: 53 | X150: 56 | Y150: 65 | Z150: 하거1리 | AA150: 140 | AB150: 66 | AC150: 74 | AD150: 72 | AE150: 후평1리 | AF150: 128 | AG150: 67 | AH150: 61 | AI150: 86 | AJ150: 연호2리 | AK150: 126 | AL150: 54 | AM150: 72 | AN150: 95 | AO150: 한어리 | AP150: 101 | AQ150: 54 | AR150: 47 | AS150: 65 | AT150: 양곡2리 | AU150: 143 | AV150: 76 | AW150: 67 | AX150: 85 | AY150: 죽변면 | AZ150: 6163 | BA150: 3197 | BB150: 2966 | BC150: 3634
A151: 장2리 | B151: 142 | C151: 79 | D151: 63 | E151: 92 | P151: 괴시2리 | Q151: 106 | R151: 50 | S151: 56 | T151: 66 | U151: 고철2리 | V151: 162 | W151: 73 | X151: 89 | Y151: 97 | Z151: 하거2리 | AA151: 84 | AB151: 40 | AC151: 44 | AD151: 55 | AE151: 후평2리 | AF151: 49 | AG151: 28 | AH151: 21 | AI151: 38 | AJ151: 낙산1리 | AK151: 243 | AL151: 139 | AM151: 104 | AN151: 145 | AO151: 본리 | AP151: 172 | AQ151: 96 | AR151: 76 | AS151: 104 | AT151: 고감1리 | AU151: 106 | AV151: 60 | AW151: 46 | AX151: 64 | AY151: 죽변1리 | AZ151: 540 | BA151: 274 | BB151: 266 | BC151: 301
A152: 장3리 | B152: 121 | C152: 52 | D152: 69 | E152: 74 | P152: 괴시3리 | Q152: 687 | R152: 325 | S152: 362 | T152: 333 | U152: 양원리 | V152: 209 | W152: 104 | X152: 105 | Y152: 126 | Z152: 신촌리 | AA152: 109 | AB152: 57 | AC152: 52 | AD152: 66 | AE152: 봉두리 | AF152: 51 | AG152: 22 | AH152: 29 | AI152: 35 | AJ152: 낙산2리 | AK152: 49 | AL152: 21 | AM152: 28 | AN152: 35 | AO152: 형호리 | AP152: 31 | AQ152: 18 | AR152: 13 | AS152: 23 | AT152: 고감2리 | AU152: 146 | AV152: 77 | AW152: 69 | AX152: 91 | AY152: 죽변2리 | AZ152: 496 | BA152: 237 | BB152: 259 | BC152: 334
A153: 금성면 | B153: 4119 | C153: 2033 | D153: 2086 | E153: 2537 | P153: 대진1리 | Q153: 104 | R153: 50 | S153: 54 | T153: 64 | U153: 신촌1리 | V153: 153 | W153: 78 | X153: 75 | Y153: 81 | Z153: 산주리 | AA153: 126 | AB153: 66 | AC153: 60 | AD153: 86 | AE153: 무학1리 | AF153: 52 | AG153: 27 | AH153: 25 | AI153: 40 | AJ153: 동명면 | AK153: 5126 | AL153: 2620 | AM153: 2506 | AN153: 2973 | AO153: 오천리 | AP153: 220 | AQ153: 109 | AR153: 111 | AS153: 127 | AT153: 풍호1리 | AU153: 132 | AV153: 68 | AW153: 64 | AX153: 76 | AY153: 죽변3리 | AZ153: 723 | BA153: 354 | BB153: 369 | BC153: 410
A154: 탑리1리 | B154: 99 | C154: 44 | D154: 55 | E154: 60 | P154: 대진2리 | Q154: 130 | R154: 53 | S154: 77 | T154: 85 | U154: 신촌2리 | V154: 143 | W154: 70 | X154: 73 | Y154: 86 | Z154: 매촌리 | AA154: 245 | AB154: 106 | AC154: 139 | AD154: 110 | AE154: 무학2리 | AF154: 126 | AG154: 64 | AH154: 62 | AI154: 95 | AJ154: 금암1리 | AK154: 286 | AL154: 135 | AM154: 151 | AN154: 175 | AO154: 백송리 | AP154: 99 | AQ154: 57 | AR154: 42 | AS154: 56 | AT154: 풍호2리 | AU154: 126 | AV154: 70 | AW154: 56 | AX154: 78 | AY154: 죽변4리 | AZ154: 454 | BA154: 232 | BB154: 222 | BC154: 299
A155: 탑리2리 | B155: 158 | C155: 74 | D155: 84 | E155: 96 | P155: 대진3리 | Q155: 111 | R155: 53 | S155: 58 | T155: 71 | U155: 신촌3리 | V155: 73 | W155: 37 | X155: 36 | Y155: 42 | Z155: 합가1리 | AA155: 136 | AB155: 69 | AC155: 67 | AD155: 91 | AE155: 영천리 | AF155: 134 | AG155: 78 | AH155: 56 | AI155: 85 | AJ155: 금암2리 | AK155: 329 | AL155: 176 | AM155: 153 | AN155: 175 | AO155: 산합1리 | AP155: 100 | AQ155: 54 | AR155: 46 | AS155: 56 | AT155: 고계1리 | AU155: 135 | AV155: 73 | AW155: 62 | AX155: 72 | AY155: 죽변5리 | AZ155: 1027 | BA155: 547 | BB155: 480 | BC155: 604
A156: 탑리3리 | B156: 205 | C156: 94 | D156: 111 | E156: 128 | P156: 사진1리 | Q156: 69 | R156: 28 | S156: 41 | T156: 46 | U156: 칠곡1리 | V156: 105 | W156: 54 | X156: 51 | Y156: 59 | Z156: 합가2리 | AA156: 107 | AB156: 53 | AC156: 54 | AD156: 67 | AE156: 대가면 | AF156: 2296 | AG156: 1179 | AH156: 1117 | AI156: 1341 | AJ156: 금암3리 | AK156: 467 | AL156: 252 | AM156: 215 | AN156: 260 | AO156: 산합2리 | AP156: 478 | AQ156: 224 | AR156: 254 | AS156: 299 | AT156: 고계2리 | AU156: 88 | AV156: 52 | AW156: 36 | AX156: 49 | AY156: 후정1리 | AZ156: 1490 | BA156: 822 | BB156: 668 | BC156: 794
A157: 탑리4리 | B157: 79 | C157: 36 | D157: 43 | E157: 52 | P157: 사진2리 | Q157: 106 | R157: 43 | S157: 63 | T157: 69 | U157: 칠곡2리 | V157: 164 | W157: 87 | X157: 77 | Y157: 85 | Z157: 신곡1리 | AA157: 171 | AB157: 87 | AC157: 84 | AD157: 104 | AE157: 칠봉1리 | AF157: 149 | AG157: 79 | AH157: 70 | AI157: 80 | AJ157: 금암4리 | AK157: 88 | AL157: 50 | AM157: 38 | AN157: 62 | AO157: 산합3리 | AP157: 1483 | AQ157: 723 | AR157: 760 | AS157: 520 | AT157: 북곡리 | AU157: 121 | AV157: 66 | AW157: 55 | AX157: 80 | AY157: 후정2리 | AZ157: 68 | BA157: 43 | BB157: 25 | BC157: 46
A158: 대리1리 | B158: 154 | C158: 76 | D158: 78 | E158: 86 | P158: 사진3리 | Q158: 64 | R158: 27 | S158: 37 | T158: 51 | U158: 대곡1리 | V158: 154 | W158: 71 | X158: 83 | Y158: 87 | Z158: 신곡2리 | AA158: 102 | AB158: 60 | AC158: 42 | AD158: 65 | AE158: 칠봉2리 | AF158: 118 | AG158: 59 | AH158: 59 | AI158: 66 | AJ158: 송산1리 | AK158: 458 | AL158: 241 | AM158: 217 | AN158: 264 | AO158: 산합4리 | AP158: 1468 | AQ158: 711 | AR158: 757 | AS158: 522 | AT158: 관창1리 | AU158: 154 | AV158: 88 | AW158: 66 | AX158: 88 | AY158: 후정3리 | AZ158: 426 | BA158: 212 | BB158: 214 | BC158: 276
A159: 대리2리 | B159: 143 | C159: 78 | D159: 65 | E159: 85 | P159: 연평1리 | Q159: 126 | R159: 56 | S159: 70 | T159: 68 | U159: 대곡2리 | V159: 154 | W159: 78 | X159: 76 | Y159: 88 | Z159: 평지리 | AA159: 105 | AB159: 50 | AC159: 55 | AD159: 67 | AE159: 옥성1리 | AF159: 253 | AG159: 137 | AH159: 116 | AI159: 145 | AJ159: 송산2리 | AK159: 127 | AL159: 67 | AM159: 60 | AN159: 74 | AO159: 산합5리 | AP159: 1090 | AQ159: 536 | AR159: 554 | AS159: 431 | AT159: 관창2리 | AU159: 168 | AV159: 100 | AW159: 68 | AX159: 84 | AY159: 후정4리 | AZ159: 85 | BA159: 46 | BB159: 39 | BC159: 45
A160: 대리3리 | B160: 387 | C160: 186 | D160: 201 | E160: 235 | P160: 연평2리 | Q160: 105 | R160: 48 | S160: 57 | T160: 66 | U160: 대곡3리 | V160: 76 | W160: 34 | X160: 42 | Y160: 38 | Z160: 안화리 | AA160: 86 | AB160: 43 | AC160: 43 | AD160: 48 | AE160: 옥성2리 | AF160: 207 | AG160: 110 | AH160: 97 | AI160: 112 | AJ160: 송산3리 | AK160: 209 | AL160: 108 | AM160: 101 | AN160: 131 | AO160: 산합6리 | AP160: 853 | AQ160: 397 | AR160: 456 | AS160: 318 | AT160: 상운면 | AU160: 1646 | AV160: 848 | AW160: 798 | AX160: 1018 | AY160: 화성1리 | AZ160: 88 | BA160: 44 | BB160: 44 | BC160: 60
A161: 대리4리 | B161: 320 | C161: 161 | D161: 159 | E161: 191 | P161: 벌영1리 | Q161: 748 | R161: 358 | S161: 390 | T161: 409 | U161: 대곡4리 | V161: 102 | W161: 47 | X161: 55 | Y161: 59 | Z161: 안림리 | AA161: 413 | AB161: 206 | AC161: 207 | AD161: 234 | AE161: 용흥1리 | AF161: 159 | AG161: 76 | AH161: 83 | AI161: 87 | AJ161: 가천리 | AK161: 158 | AL161: 78 | AM161: 80 | AN161: 98 | AO161: 산합7리 | AP161: 1049 | AQ161: 474 | AR161: 575 | AS161: 395 | AT161: 가곡1리 | AU161: 231 | AV161: 118 | AW161: 113 | AX161: 142 | AY161: 화성2리 | AZ161: 73 | BA161: 30 | BB161: 43 | BC161: 46
... A166: 제오1리 | B166: 92 | C166: 47 | D166: 45 | E166: 48 | P166: 묘곡2리 | Q166: 59 | R166: 30 | S166: 29 | T166: 38 | U166: 방음리 | V166: 30 | W166: 14 | X166: 16 | Y166: 24 | Z166: 용2리 | AA166: 47 | AB166: 23 | AC166: 24 | AD166: 30 | AE166: 옥련1리 | AF166: 175 | AG166: 96 | AH166: 79 | AI166: 105 | AJ166: 기성1리 | AK166: 297 | AL166: 135 | AM166: 162 | AN166: 179 | AO166: 산합12리 | AP166: 1787 | AQ166: 856 | AR166: 931 | AS166: 671 | AT166: 문촌리 | AU166: 182 | AV166: 97 | AW166: 85 | AX166: 111 | AY166: 후포면 | AZ166: 7069 | BA166: 3462 | BB166: 3607 | BC166: 3971
A167: 제오2리 | B167: 107 | C167: 55 | D167: 52 | E167: 56 | P167: 대1리 | Q167: 27 | R167: 11 | S167: 16 | T167: 17 | U167: 오진리 | V167: 168 | W167: 95 | X167: 73 | Y167: 112 | AE167: 옥련2리 | AF167: 104 | AG167: 56 | AH167: 48 | AI167: 61 | AJ167: 기성2리 | AK167: 710 | AL167: 355 | AM167: 355 | AN167: 399 | AO167: 산합13리 | AP167: 1863 | AQ167: 951 | AR167: 912 | AS167: 713 | AT167: 하눌1리 | AU167: 140 | AV167: 75 | AW167: 65 | AX167: 81 | AY167: 후포1리 | AZ167: 306 | BA167: 158 | BB167: 148 | BC167: 192
A168: 운곡리 | B168: 131 | C168: 59 | D168: 72 | E168: 83 | P168: 대2리 | Q168: 40 | R168: 22 | S168: 18 | T168: 28 | U168: 신원리 | V168: 499 | W168: 234 | X168: 265 | Y168: 312 | AE168: 금산1리 | AF168: 79 | AG168: 35 | AH168: 44 | AI168: 52 | AJ168: 구덕리 | AK168: 345 | AL168: 147 | AM168: 198 | AN168: 197 | AO168: 산합14리 | AP168: 1804 | AQ168: 883 | AR168: 921 | AS168: 562 | AT168: 하눌2리 | AU168: 124 | AV168: 73 | AW168: 51 | AX168: 83 | AY168: 후포2리 | AZ168: 298 | BA168: 134 | BB168: 164 | BC168: 200
A169: 만천1리 | B169: 66 | C169: 36 | D169: 30 | E169: 43 | P169: 병곡면 | Q169: 2609 | R169: 1268 | S169: 1341 | T169: 1635 | U169: 서지리 | V169: 1 | W169: 1 | X169: 0 | Y169: 1 | AE169: 금산2리 | AF169: 87 | AG169: 46 | AH169: 41 | AI169: 52 | AJ169: 봉암리 | AK169: 458 | AL169: 263 | AM169: 195 | AN169: 275 | AO169: 산합16리 | AP169: 407 | AQ169: 183 | AR169: 224 | AS169: 352 | AT169: 토일리 | AU169: 96 | AV169: 41 | AW169: 55 | AX169: 59 | AY169: 후포3리 | AZ169: 106 | BA169: 54 | BB169: 52 | BC169: 64
A170: 만천2리 | B170: 56 | C170: 28 | D170: 28 | E170: 33 | P170: 삼읍리 | Q170: 38 | R170: 20 | S170: 18 | T170: 28 | U170: 공암리 | V170: 52 | W170: 24 | X170: 28 | Y170: 36 | AE170: 옥화1리 | AF170: 104 | AG170: 48 | AH170: 56 | AI170: 54 | AJ170: 가산면 | AK170: 3215 | AL170: 1739 | AM170: 1476 | AN170: 1932 | AO170: 직산1리 | AP170: 128 | AQ170: 62 | AR170: 66 | AS170: 80 | AT170: 구천리 | AU170: 114 | AV170: 58 | AW170: 56 | AX170: 78 | AY170: 후포4리 | AZ170: 396 | BA170: 190 | BB170: 206 | BC170: 251
A171: 하1리 | B171: 83 | C171: 46 | D171: 37 | E171: 56 | P171: 금곡1리 | Q171: 132 | R171: 61 | S171: 71 | T171: 81 | U171: 지촌리 | V171: 135 | W171: 65 | X171: 70 | Y171: 87 | AE171: 옥화2리 | AF171: 117 | AG171: 55 | AH171: 62 | AI171: 71 | AJ171: 다부1리 | AK171: 166 | AL171: 99 | AM171: 67 | AN171: 102 | AO171: 직산2리 | AP171: 154 | AQ171: 74 | AR171: 80 | AS171: 86 | AT171: 설매리 | AU171: 140 | AV171: 76 | AW171: 64 | AX171: 91 | AY171: 후포5리 | AZ171: 750 | BA171: 357 | BB171: 393 | BC171: 430
A172: 하2리 | B172: 60 | C172: 29 | D172: 31 | E172: 39 | P172: 금곡2리 | Q172: 52 | R172: 28 | S172: 24 | T172: 38 | U172: 봉하리 | V172: 195 | W172: 112 | X172: 83 | Y172: 132 | AE172: 대천1리 | AF172: 71 | AG172: 38 | AH172: 33 | AI172: 39 | AJ172: 다부2리 | AK172: 130 | AL172: 70 | AM172: 60 | AN172: 85 | AO172: 황지리 | AP172: 162 | AQ172: 76 | AR172: 86 | AS172: 98 | AT172: 신라리 | AU172: 142 | AV172: 69 | AW172: 73 | AX172: 82 | AY172: 후포6리 | AZ172: 313 | BA172: 149 | BB172: 164 | BC172: 199
A173: 초전1리 | B173: 102 | C173: 54 | D173: 48 | E173: 61 | P173: 금곡3리 | Q173: 71 | R173: 35 | S173: 36 | T173: 47 | U173: 정상리 | V173: 147 | W173: 73 | X173: 74 | Y173: 105 | AE173: 대천2리 | AF173: 108 | AG173: 57 | AH173: 51 | AI173: 67 | AJ173: 금화리 | AK173: 108 | AL173: 62 | AM173: 46 | AN173: 70 | AO173: 월포리 | AP173: 140 | AQ173: 69 | AR173: 71 | AS173: 81 | AY173: 후포7리 | AZ173: 500 | BA173: 251 | BB173: 249 | BC173: 316
A174: 초전2리 | B174: 91 | C174: 48 | D174: 43 | E174: 54 | P174: 백석1리 | Q174: 101 | R174: 48 | S174: 53 | T174: 64 | U174: 마일1리 | V174: 68 | W174: 36 | X174: 32 | Y174: 50 | AE174: 도남1리 | AF174: 97 | AG174: 53 | AH174: 44 | AI174: 63 | AJ174: 가산1리 | AK174: 73 | AL174: 38 | AM174: 35 | AN174: 48 | AO174: 종산1리 | AP174: 53 | AQ174: 28 | AR174: 25 | AS174: 29 | AY174: 삼율1리 | AZ174: 1425 | BA174: 692 | BB174: 733 | BC174: 742
A175: 구련1리 | B175: 70 | C175: 36 | D175: 34 | E175: 40 | P175: 백석2리 | Q175: 230 | R175: 113 | S175: 117 | T175: 142 | U175: 마일2리 | V175: 89 | W175: 43 | X175: 46 | Y175: 59 | AE175: 도남2리 | AF175: 81 | AG175: 43 | AH175: 38 | AI175: 51 | AJ175: 가산2리 | AK175: 124 | AL175: 67 | AM175: 57 | AN175: 78 | AO175: 종산2리 | AP175: 47 | AQ175: 23 | AR175: 24 | AS175: 29 | AY175: 삼율2리 | AZ175: 1350 | BA175: 654 | BB175: 696 | BC175: 730
A176: 구련2리 | B176: 94 | C176: 49 | D176: 45 | E176: 61 | P176: 병곡1리 | Q176: 267 | R176: 140 | S176: 127 | T176: 150 | U176: 방지리 | V176: 209 | W176: 113 | X176: 96 | Y176: 135 | AE176: 벽진면 | AF176: 2935 | AG176: 1538 | AH176: 1397 | AI176: 1701 | AJ176: 응추리 | AK176: 132 | AL176: 72 | AM176: 60 | AN176: 88 | AO176: 내신1리 | AP176: 67 | AQ176: 31 | AR176: 36 | AS176: 39 | AY176: 삼율3리 | AZ176: 116 | BA176: 56 | BB176: 60 | BC176: 70
A177: 명덕1리 | B177: 66 | C177: 35 | D177: 31 | E177: 44 | P177: 병곡2리 | Q177: 116 | R177: 57 | S177: 59 | T177: 78 | U177: 금천면 | V177: 3220 | W177: 1657 | X177: 1563 | Y177: 2050 | AE177: 수촌1리 | AF177: 384 | AG177: 194 | AH177: 190 | AI177: 220 | AJ177: 용수리 | AK177: 156 | AL177: 73 | AM177: 83 | AN177: 95 | AO177: 내신2리 | AP177: 74 | AQ177: 35 | AR177: 39 | AS177: 43 | AY177: 삼율4리 | AZ177: 873 | BA177: 439 | BB177: 434 | BC177: 422
A178: 명덕2리 | B178: 80 | C178: 43 | D178: 37 | E178: 45 | P178: 영1리 | Q178: 91 | R178: 43 | S178: 48 | T178: 60 | U178: 동곡1리 | V178: 589 | W178: 288 | X178: 301 | Y178: 360 | AE178: 수촌2리 | AF178: 136 | AG178: 66 | AH178: 70 | AI178: 79 | AJ178: 천평리 | AK178: 230 | AL178: 117 | AM178: 113 | AN178: 145 | AO178: 담암리 | AP178: 131 | AQ178: 66 | AR178: 65 | AS178: 84 | AY178: 금음1리 | AZ178: 289 | BA178: 147 | BB178: 142 | BC178: 163
A179: 명덕3리 | B179: 32 | C179: 10 | D179: 22 | E179: 23 | P179: 영2리 | Q179: 74 | R179: 33 | S179: 41 | T179: 48 | U179: 동곡2리 | V179: 72 | W179: 34 | X179: 38 | Y179: 53 | AE179: 수촌3리 | AF179: 93 | AG179: 47 | AH179: 46 | AI179: 54 | AJ179: 송학1리 | AK179: 268 | AL179: 142 | AM179: 126 | AN179: 161 | AO179: 유천면 | AP179: 2458 | AQ179: 1245 | AR179: 1213 | AS179: 1453 | AY179: 금음2리 | AZ179: 89 | BA179: 45 | BB179: 44 | BC179: 38
A180: 도경1리 | B180: 51 | C180: 22 | D180: 29 | E180: 33 | P180: 영3리 | Q180: 53 | R180: 31 | S180: 22 | T180: 32 | U180: 사전1리 | V180: 88 | W180: 49 | X180: 39 | Y180: 59 | AE180: 수촌4리 | AF180: 159 | AG180: 85 | AH180: 74 | AI180: 86 | AJ180: 송학2리 | AK180: 194 | AL180: 103 | AM180: 91 | AN180: 128 | AO180: 화지1리 | AP180: 112 | AQ180: 58 | AR180: 54 | AS180: 62 | AY180: 금음3리 | AZ180: 206 | BA180: 112 | BB180: 94 | BC180: 122
A181: 도경2리 | B181: 60 | C181: 30 | D181: 30 | E181: 46 | P181: 영4리 | Q181: 78 | R181: 40 | S181: 38 | T181: 47 | U181: 사전2리 | V181: 147 | W181: 80 | X181: 67 | Y181: 102 | AE181: 봉계1리 | AF181: 166 | AG181: 90 | AH181: 76 | AI181: 101 | AJ181: 심곡리 | AK181: 96 | AL181: 59 | AM181: 37 | AN181: 59 | AO181: 화지2리 | AP181: 147 | AQ181: 71 | AR181: 76 | AS181: 84 | AY181: 금음4리 | AZ181: 52 | BA181: 24 | BB181: 28 | BC181: 32
A182: 도경3리 | B182: 76 | C182: 37 | D182: 39 | E182: 51 | P182: 거무역리 | Q182: 203 | R182: 94 | S182: 109 | T182: 134 | U182: 김전1리 | V182: 135 | W182: 71 | X182: 64 | Y182: 85 | AE182: 봉계2리 | AF182: 109 | AG182: 58 | AH182: 51 | AI182: 59 | AJ182: 학하1리 | AK182: 110 | AL182: 62 | AM182: 48 | AN182: 70 | AO182: 고산리 | AP182: 84 | AQ182: 42 | AR182: 42 | AS182: 52 | AY182: 금강송면 | AZ182: 1210 | BA182: 599 | BB182: 611 | BC182: 763
A183: 도경4리 | B183: 44 | C183: 19 | D183: 25 | E183: 33 | P183: 아곡리 | Q183: 64 | R183: 29 | S183: 35 | T183: 46 | U183: 김전2리 | V183: 120 | W183: 61 | X183: 59 | Y183: 73 | AE183: 봉계3리 | AF183: 113 | AG183: 63 | AH183: 50 | AI183: 63 | AJ183: 학하2리 | AK183: 238 | AL183: 123 | AM183: 115 | AN183: 125 | AO183: 성평리 | AP183: 129 | AQ183: 54 | AR183: 75 | AS183: 81 | AY183: 삼근1리 | AZ183: 200 | BA183: 96 | BB183: 104 | BC183: 131
A184: 개일1리 | B184: 53 | C184: 30 | D184: 23 | E184: 34 | P184: 원황1리 | Q184: 172 | R184: 83 | S184: 89 | T184: 109 | U184: 갈지리 | V184: 239 | W184: 125 | X184: 114 | Y184: 150 | AE184: 매수1리 | AF184: 175 | AG184: 86 | AH184: 89 | AI184: 94 | AJ184: 학하3리 | AK184: 244 | AL184: 121 | AM184: 123 | AN184: 131 | AO184: 광전리 | AP184: 82 | AQ184: 38 | AR184: 44 | AS184: 54 | AY184: 삼근2리 | AZ184: 112 | BA184: 55 | BB184: 57 | BC184: 66
... A211: 사부1리 | B211: 103 | C211: 47 | D211: 56 | E211: 57 | P211: 오촌2리 | Q211: 70 | R211: 32 | S211: 38 | T211: 46 | U211: 장연리 | V211: 132 | W211: 70 | X211: 62 | Y211: 80 | AE211: 문덕2리 | AF211: 73 | AG211: 37 | AH211: 36 | AI211: 40 | AJ211: 관호3리 | AK211: 384 | AL211: 220 | AM211: 164 | AN211: 235 | AO211: 무이1리 | AP211: 65 | AQ211: 31 | AR211: 34 | AS211: 36 | AY211: 길곡리 | AZ211: 80 | BA211: 31 | BB211: 49 | BC211: 53
A212: 사부2리 | B212: 92 | C212: 50 | D212: 42 | E212: 44 | P212: 삼계1리 | Q212: 49 | R212: 23 | S212: 26 | T212: 33 | U212: 예전1리 | V212: 91 | W212: 42 | X212: 49 | Y212: 64 | AE212: 자양1리 | AF212: 127 | AG212: 68 | AH212: 59 | AI212: 74 | AJ212: 관호4리 | AK212: 491 | AL212: 297 | AM212: 194 | AN212: 352 | AO212: 무이2리 | AP212: 64 | AQ212: 31 | AR212: 33 | AS212: 39
A213: 구미리 | B213: 122 | C213: 61 | D213: 61 | E213: 77 | P213: 삼계2리 | Q213: 85 | R213: 43 | S213: 42 | T213: 54 | U213: 예전2리 | V213: 65 | W213: 32 | X213: 33 | Y213: 40 | AE213: 자양2리 | AF213: 88 | AG213: 41 | AH213: 47 | AI213: 52 | AJ213: 관호5리 | AK213: 1160 | AL213: 600 | AM213: 560 | AN213: 698 | AO213: 향석1리 | AP213: 213 | AQ213: 99 | AR213: 114 | AS213: 124
A214: 길천1리 | B214: 86 | C214: 37 | D214: 49 | E214: 51 | P214: 수리리 | Q214: 68 | R214: 36 | S214: 32 | T214: 40 | U214: 내1리 | V214: 84 | W214: 40 | X214: 44 | Y214: 57 | AE214: 고산리 | AF214: 155 | AG214: 89 | AH214: 66 | AI214: 92 | AJ214: 기산면 | AK214: 2977 | AL214: 1553 | AM214: 1424 | AN214: 1596 | AO214: 향석2리 | AP214: 55 | AQ214: 27 | AR214: 28 | AS214: 35
A215: 길천2리 | B215: 75 | C215: 39 | D215: 36 | E215: 50 | P215: 인천1리 | Q215: 45 | R215: 23 | S215: 22 | T215: 33 | U215: 내2리 | V215: 54 | W215: 26 | X215: 28 | Y215: 39 | AE215: 월곡1리 | AF215: 90 | AG215: 43 | AH215: 47 | AI215: 60 | AJ215: 죽전1리 | AK215: 215 | AL215: 119 | AM215: 96 | AN215: 108 | AO215: 대은1리 | AP215: 152 | AQ215: 72 | AR215: 80 | AS215: 97
A216: 문흥1리 | B216: 159 | C216: 80 | D216: 79 | E216: 91 | P216: 인천2리 | Q216: 77 | R216: 40 | S216: 37 | T216: 44 | U216: 지전1리 | V216: 117 | W216: 59 | X216: 58 | Y216: 76 | AE216: 월곡2리 | AF216: 63 | AG216: 42 | AH216: 21 | AI216: 48 | AJ216: 죽전2리 | AK216: 179 | AL216: 92 | AM216: 87 | AN216: 100 | AO216: 대은2리 | AP216: 95 | AQ216: 51 | AR216: 44 | AS216: 57
A217: 문흥2리 | B217: 93 | C217: 43 | D217: 50 | E217: 61 | P217: 보림리 | Q217: 39 | R217: 18 | S217: 21 | T217: 30 | U217: 지전2리 | V217: 55 | W217: 30 | X217: 25 | Y217: 42 | AE217: 소성리 | AF217: 154 | AG217: 84 | AH217: 70 | AI217: 102 | AJ217: 죽전3리 | AK217: 934 | AL217: 472 | AM217: 462 | AN217: 393 | AO217: 무지리 | AP217: 97 | AQ217: 56 | AR217: 41 | AS217: 45
A218: 분토1리 | B218: 156 | C218: 73 | D218: 83 | E218: 91 | P218: 백청리 | Q218: 30 | R218: 14 | S218: 16 | T218: 21 | U218: 송원리 | V218: 71 | W218: 32 | X218: 39 | Y218: 48 | AE218: 용봉1리 | AF218: 168 | AG218: 80 | AH218: 88 | AI218: 102 | AJ218: 평복1리 | AK218: 229 | AL218: 121 | AM218: 108 | AN218: 127 | AO218: 산택1리 | AP218: 84 | AQ218: 44 | AR218: 40 | AS218: 59
A219: 분토2리 | B219: 123 | C219: 63 | D219: 60 | E219: 77 | U219: 구촌리 | V219: 196 | W219: 102 | X219: 94 | Y219: 136 | AE219: 용봉2리 | AF219: 219 | AG219: 120 | AH219: 99 | AI219: 123 | AJ219: 평복2리 | AK219: 89 | AL219: 49 | AM219: 40 | AN219: 57 | AO219: 산택2리 | AP219: 58 | AQ219: 26 | AR219: 32 | AS219: 36
A220: 비안면 | B220: 2572 | C220: 1288 | D220: 1284 | E220: 1564 | U220: 하평리 | V220: 166 | W220: 86 | X220: 80 | Y220: 107 | AE220: 용봉3리 | AF220: 56 | AG220: 26 | AH220: 30 | AI220: 32 | AJ220: 영1리 | AK220: 187 | AL220: 105 | AM220: 82 | AN220: 106 | AO220: 월오1리 | AP220: 111 | AQ220: 54 | AR220: 57 | AS220: 56
A221: 이두1리 | B221: 79 | C221: 45 | D221: 34 | E221: 43 | U221: 상평리 | V221: 99 | W221: 57 | X221: 42 | Y221: 59 | AE221: 봉정1리 | AF221: 161 | AG221: 78 | AH221: 83 | AI221: 92 | AJ221: 영2리 | AK221: 191 | AL221: 102 | AM221: 89 | AN221: 119 | AO221: 월오2리 | AP221: 60 | AQ221: 30 | AR221: 30 | AS221: 35
A222: 이두2리 | B222: 228 | C222: 112 | D222: 116 | E222: 142 | U222: 관하1리 | V222: 186 | W222: 102 | X222: 84 | Y222: 111 | AE222: 봉정2리 | AF222: 133 | AG222: 73 | AH222: 60 | AI222: 79 | AJ222: 행정1리 | AK222: 105 | AL222: 56 | AM222: 49 | AN222: 57 | AO222: 송암1리 | AP222: 55 | AQ222: 20 | AR222: 35 | AS222: 35
...

Sheet 2-1.시군 연령별 총괄(5세)
A2: 2-1. 연령별 인구 총괄 (2024년 1분기)
A3: (단위 : 세, 명)
A4: 구분 | B4: 경상북도 | E4: 포항시 | H4: 경주시 | K4: 김천시 | N4: 안동시 | Q4: 구미시 | T4: 영주시 | W4: 영천시 | Z4: 상주시 | AC4: 문경시 | AF4: 경산시 | AI4: 의성군 | AL4: 청송군 | AO4: 영양군 | AR4: 영덕군 | AU4: 청도군 | AX4: 고령군 | BA4: 성주군 | BD4: 칠곡군 | BG4: 예천군 | BJ4: 봉화군 | BM4: 울진군 | BP4: 울릉군
B5: 총계 | C5: 남 | D5: 여 | E5: 소계 | F5: 남 | G5: 여 | H5: 소계 | I5: 남 | J5: 여 | K5: 소계 | L5: 남 | M5: 여 | N5: 소계 | O5: 남 | P5: 여 | Q5: 소계 | R5: 남 | S5: 여 | T5: 소계 | U5: 남 | V5: 여 | W5: 소계 | X5: 남 | Y5: 여 | Z5: 소계 | AA5: 남 | AB5: 여 | AC5: 소계 | AD5: 남 | AE5: 여 | AF5: 소계 | AG5: 남 | AH5: 여 | AI5: 소계 | AJ5: 남 | AK5: 여 | AL5: 소계 | AM5: 남 | AN5: 여 | AO5: 소계 | AP5: 남 | AQ5: 여 | AR5: 소계 | AS5: 남 | AT5: 여 | AU5: 소계 | AV5: 남 | AW5: 여 | AX5: 소계 | AY5: 남 | AZ5: 여 | BA5: 소계 | BB5: 남 | BC5: 여 | BD5: 소계 | BE5: 남 | BF5: 여 | BG5: 소계 | BH5: 남 | BI5: 여 | BJ5: 소계 | BK5: 남 | BL5: 여 | BM5: 소계 | BN5: 남 | BO5: 여 | BP5: 소계 | BQ5: 남 | BR5: 여
A6: 총계 | B6: =SUM(B7:B23) -> 2615214 | C6: =SUM(C7:C23) -> 1331870 | D6: =SUM(D7:D23) -> 1283344 | E6: =F6+G6 -> 499576 | F6: =SUM(F7:F23) -> 254816 | G6: =SUM(G7:G23) -> 244760 | H6: =I6+J6 -> 257743 | I6: =SUM(I7:I23) -> 131000 | J6: =SUM(J7:J23) -> 126743 | K6: =L6+M6 -> 139936 | L6: =SUM(L7:L23) -> 70848 | M6: =SUM(M7:M23) -> 69088 | N6: =O6+P6 -> 154449 | O6: =SUM(O7:O23) -> 76343 | P6: =SUM(P7:P23) -> 78106 | Q6: =R6+S6 -> 411204 | R6: =SUM(R7:R23) -> 212708 | S6: =SUM(S7:S23) -> 198496 | T6: =U6+V6 -> 101272 | U6: =SUM(U7:U23) -> 50400 | V6: =SUM(V7:V23) -> 50872 | W6: =X6+Y6 -> 103703 | X6: =SUM(X7:X23) -> 53788 | Y6: =SUM(Y7:Y23) -> 49915 | Z6: =AA6+AB6 -> 94971 | AA6: =SUM(AA7:AA23) -> 46782 | AB6: =SUM(AB7:AB23) -> 48189 | AC6: =AD6+AE6 -> 69105 | AD6: =SUM(AD7:AD23) -> 34002 | AE6: =SUM(AE7:AE23) -> 35103 | AF6: =AG6+AH6 -> 282072 | AG6: =SUM(AG7:AG23) -> 143556 | AH6: =SUM(AH7:AH23) -> 138516 | AI6: =AJ6+AK6 -> 50485 | AJ6: =SUM(AJ7:AJ23) -> 25198 | AK6: =SUM(AK7:AK23) -> 25287 | AL6: =AM6+AN6 -> 24194 | AM6: =SUM(AM7:AM23) -> 12107 | AN6: =SUM(AN7:AN23) -> 12087 | AO6: =AP6+AQ6 -> 15799 | AP6: =SUM(AP7:AP23) -> 7872 | AQ6: =SUM(AQ7:AQ23) -> 7927 | AR6: =AS6+AT6 -> 35106 | AS6: =SUM(AS7:AS23) -> 17229 | AT6: =SUM(AT7:AT23) -> 17877 | AU6: =AV6+AW6 -> 42236 | AV6: =SUM(AV7:AV23) -> 20967 | AW6: =SUM(AW7:AW23) -> 21269 | AX6: =AY6+AZ6 -> 32042 | AY6: =SUM(AY7:AY23) -> 17075 | AZ6: =SUM(AZ7:AZ23) -> 14967 | BA6: =BB6+BC6 -> 43986 | BB6: =SUM(BB7:BB23) -> 23532 | BC6: =SUM(BC7:BC23) -> 20454 | BD6: =BE6+BF6 -> 114485 | BE6: =SUM(BE7:BE23) -> 60899 | BF6: =SUM(BF7:BF23) -> 53586 | BG6: =BH6+BI6 -> 55681 | BH6: =SUM(BH7:BH23) -> 27385 | BI6: =SUM(BI7:BI23) -> 28296 | BJ6: =BK6+BL6 -> 29754 | BK6: =SUM(BK7:BK23) -> 15144 | BL6: =SUM(BL7:BL23) -> 14610 | BM6: =BN6+BO6 -> 48200 | BN6: =SUM(BN7:BN23) -> 25043 | BO6: =SUM(BO7:BO23) -> 23157 | BP6: =BQ6+BR6 -> 9215 | BQ6: =SUM(BQ7:BQ23) -> 5176 | BR6: =SUM(BR7:BR23) -> 4039
A7: 0-4 | B7: =SUM(C7:D7) -> 58925 | C7: =C26+C45 -> 30208 | D7: =D26+D45 -> 28717 | E7: =SUM(F7:G7) -> 11924 | F7: =F26+F45 -> 6149 | G7: =G26+G45 -> 5775 | H7: =SUM(I7:J7) -> 5516 | I7: =I26+I45 -> 2849 | J7: =J26+J45 -> 2667 | K7: =SUM(L7:M7) -> 3498 | L7: =L26+L45 -> 1837 | M7: =M26+M45 -> 1661 | N7: =SUM(O7:P7) -> 3306 | O7: =O26+O45 -> 1673 | P7: =P26+P45 -> 1633 | Q7: =SUM(R7:S7) -> 11895 | R7: =R26+R45 -> 6115 | S7: =S26+S45 -> 5780 | T7: =SUM(U7:V7) -> 1764 | U7: =U26+U45 -> 909 | V7: =V26+V45 -> 855 | W7: =SUM(X7:Y7) -> 2362 | X7: =X26+X45 -> 1187 | Y7: =Y26+Y45 -> 1175 | Z7: =SUM(AA7:AB7) -> 1696 | AA7: =AA26+AA45 -> 854 | AB7: =AB26+AB45 -> 842 | AC7: =SUM(AD7:AE7) -> 1328 | AD7: =AD26+AD45 -> 694 | AE7: =AE26+AE45 -> 634 | AF7: =SUM(AG7:AH7) -> 6690 | AG7: =AG26+AG45 -> 3398 | AH7: =AH26+AH45 -> 3292 | AI7: =SUM(AJ7:AK7) -> 790 | AJ7: =AJ26+AJ45 -> 425 | AK7: =AK26+AK45 -> 365 | AL7: =SUM(AM7:AN7) -> 377 | AM7: =AM26+AM45 -> 199 | AN7: =AN26+AN45 -> 178 | AO7: =SUM(AP7:AQ7) -> 198 | AP7: =AP26+AP45 -> 90 | AQ7: =AQ26+AQ45 -> 108 | AR7: =SUM(AS7:AT7) -> 474 | AS7: =AS26+AS45 -> 249 | AT7: =AT26+AT45 -> 225 | AU7: =SUM(AV7:AW7) -> 525 | AV7: =AV26+AV45 -> 263 | AW7: =AW26+AW45 -> 262 | AX7: =SUM(AY7:AZ7) -> 450 | AY7: =AY26+AY45 -> 221 | AZ7: =AZ26+AZ45 -> 229 | BA7: =SUM(BB7:BC7) -> 757 | BB7: =BB26+BB45 -> 379 | BC7: =BC26+BC45 -> 378 | BD7: =SUM(BE7:BF7) -> 2221 | BE7: =BE26+BE45 -> 1101 | BF7: =BF26+BF45 -> 1120 | BG7: =SUM(BH7:BI7) -> 1636 | BH7: =BH26+BH45 -> 817 | BI7: =BI26+BI45 -> 819 | BJ7: =SUM(BK7:BL7) -> 382 | BK7: =BK26+BK45 -> 196 | BL7: =BL26+BL45 -> 186 | BM7: =SUM(BN7:BO7) -> 1002 | BN7: =BN26+BN45 -> 533 | BO7: =BO26+BO45 -> 469 | BP7: =SUM(BQ7:BR7) -> 134 | BQ7: =BQ26+BQ45 -> 70 | BR7: =BR26+BR45 -> 64
A8: 5-9 | B8: =SUM(C8:D8) -> 91472 | C8: =C27+C46 -> 47116 | D8: =D27+D46 -> 44356 | E8: =SUM(F8:G8) -> 19825 | F8: =F27+F46 -> 10331 | G8: =G27+G46 -> 9494 | H8: =SUM(I8:J8) -> 8228 | I8: =I27+I46 -> 4209 | J8: =J27+J46 -> 4019 | K8: =SUM(L8:M8) -> 4979 | L8: =L27+L46 -> 2565 | M8: =M27+M46 -> 2414 | N8: =SUM(O8:P8) -> 4982 | O8: =O27+O46 -> 2593 | P8: =P27+P46 -> 2389 | Q8: =SUM(R8:S8) -> 20218 | R8: =R27+R46 -> 10312 | S8: =S27+S46 -> 9906 | T8: =SUM(U8:V8) -> 3000 | U8: =U27+U46 -> 1571 | V8: =V27+V46 -> 1429 | W8: =SUM(X8:Y8) -> 2618 | X8: =X27+X46 -> 1342 | Y8: =Y27+Y46 -> 1276 | Z8: =SUM(AA8:AB8) -> 2523 | AA8: =AA27+AA46 -> 1320 | AB8: =AB27+AB46 -> 1203 | AC8: =SUM(AD8:AE8) -> 1828 | AD8: =AD27+AD46 -> 938 | AE8: =AE27+AE46 -> 890 | AF8: =SUM(AG8:AH8) -> 10158 | AG8: =AG27+AG46 -> 5180 | AH8: =AH27+AH46 -> 4978 | AI8: =SUM(AJ8:AK8) -> 805 | AJ8: =AJ27+AJ46 -> 408 | AK8: =AK27+AK46 -> 397 | AL8: =SUM(AM8:AN8) -> 429 | AM8: =AM27+AM46 -> 222 | AN8: =AN27+AN46 -> 207 | AO8: =SUM(AP8:AQ8) -> 321 | AP8: =AP27+AP46 -> 172 | AQ8: =AQ27+AQ46 -> 149 | AR8: =SUM(AS8:AT8) -> 709 | AS8: =AS27+AS46 -> 339 | AT8: =AT27+AT46 -> 370 | AU8: =SUM(AV8:AW8) -> 688 | AV8: =AV27+AV46 -> 359 | AW8: =AW27+AW46 -> 329 | AX8: =SUM(AY8:AZ8) -> 616 | AY8: =AY27+AY46 -> 325 | AZ8: =AZ27+AZ46 -> 291 | BA8: =SUM(BB8:BC8) -> 756 | BB8: =BB27+BB46 -> 394 | BC8: =BC27+BC46 -> 362 | BD8: =SUM(BE8:BF8) -> 4485 | BE8: =BE27+BE46 -> 2329 | BF8: =BF27+BF46 -> 2156 | BG8: =SUM(BH8:BI8) -> 2266 | BH8: =BH27+BH46 -> 1126 | BI8: =BI27+BI46 -> 1140 | BJ8: =SUM(BK8:BL8) -> 552 | BK8: =BK27+BK46 -> 320 | BL8: =BL27+BL46 -> 232 | BM8: =SUM(BN8:BO8) -> 1329 | BN8: =BN27+BN46 -> 673 | BO8: =BO27+BO46 -> 656 | BP8: =SUM(BQ8:BR8) -> 157 | BQ8: =BQ27+BQ46 -> 88 | BR8: =BR27+BR46 -> 69
A9: 10-14 | B9: =SUM(C9:D9) -> 109152 | C9: =C28+C47 -> 56600 | D9: =D28+D47 -> 52552 | E9: =SUM(F9:G9) -> 23809 | F9: =F28+F47 -> 12412 | G9: =G28+G47 -> 11397 | H9: =SUM(I9:J9) -> 9763 | I9: =I28+I47 -> 4997 | J9: =J28+J47 -> 4766 | K9: =SUM(L9:M9) -> 5846 | L9: =L28+L47 -> 3030 | M9: =M28+M47 -> 2816 | N9: =SUM(O9:P9) -> 6333 | O9: =O28+O47 -> 3381 | P9: =P28+P47 -> 2952 | Q9: =SUM(R9:S9) -> 22797 | R9: =R28+R47 -> 11873 | S9: =S28+S47 -> 10924 | T9: =SUM(U9:V9) -> 4090 | U9: =U28+U47 -> 2105 | V9: =V28+V47 -> 1985 | W9: =SUM(X9:Y9) -> 3009 | X9: =X28+X47 -> 1574 | Y9: =Y28+Y47 -> 1435 | Z9: =SUM(AA9:AB9) -> 3291 | AA9: =AA28+AA47 -> 1752 | AB9: =AB28+AB47 -> 1539 | AC9: =SUM(AD9:AE9) -> 2404 | AD9: =AD28+AD47 -> 1274 | AE9: =AE28+AE47 -> 1130 | AF9: =SUM(AG9:AH9) -> 11627 | AG9: =AG28+AG47 -> 5901 | AH9: =AH28+AH47 -> 5726 | AI9: =SUM(AJ9:AK9) -> 926 | AJ9: =AJ28+AJ47 -> 471 | AK9: =AK28+AK47 -> 455 | AL9: =SUM(AM9:AN9) -> 517 | AM9: =AM28+AM47 -> 261 | AN9: =AN28+AN47 -> 256 | AO9: =SUM(AP9:AQ9) -> 386 | AP9: =AP28+AP47 -> 216 | AQ9: =AQ28+AQ47 -> 170 | AR9: =SUM(AS9:AT9) -> 905 | AS9: =AS28+AS47 -> 470 | AT9: =AT28+AT47 -> 435 | AU9: =SUM(AV9:AW9) -> 967 | AV9: =AV28+AV47 -> 490 | AW9: =AW28+AW47 -> 477 | AX9: =SUM(AY9:AZ9) -> 812 | AY9: =AY28+AY47 -> 416 | AZ9: =AZ28+AZ47 -> 396 | BA9: =SUM(BB9:BC9) -> 997 | BB9: =BB28+BB47 -> 484 | BC9: =BC28+BC47 -> 513 | BD9: =SUM(BE9:BF9) -> 5545 | BE9: =BE28+BE47 -> 2843 | BF9: =BF28+BF47 -> 2702 | BG9: =SUM(BH9:BI9) -> 2584 | BH9: =BH28+BH47 -> 1317 | BI9: =BI28+BI47 -> 1267 | BJ9: =SUM(BK9:BL9) -> 773 | BK9: =BK28+BK47 -> 402 | BL9: =BL28+BL47 -> 371 | BM9: =SUM(BN9:BO9) -> 1555 | BN9: =BN28+BN47 -> 820 | BO9: =BO28+BO47 -> 735 | BP9: =SUM(BQ9:BR9) -> 216 | BQ9: =BQ28+BQ47 -> 111 | BR9: =BR28+BR47 -> 105
A10: 15-19 | B10: =SUM(C10:D10) -> 109216 | C10: =C29+C48 -> 57854 | D10: =D29+D48 -> 51362 | E10: =SUM(F10:G10) -> 21849 | F10: =F29+F48 -> 11516 | G10: =G29+G48 -> 10333 | H10: =SUM(I10:J10) -> 10019 | I10: =I29+I48 -> 5304 | J10: =J29+J48 -> 4715 | K10: =SUM(L10:M10) -> 6371 | L10: =L29+L48 -> 3591 | M10: =M29+M48 -> 2780 | N10: =SUM(O10:P10) -> 6606 | O10: =O29+O48 -> 3481 | P10: =P29+P48 -> 3125 | Q10: =SUM(R10:S10) -> 20923 | R10: =R29+R48 -> 10871 | S10: =S29+S48 -> 10052 | T10: =SUM(U10:V10) -> 4933 | U10: =U29+U48 -> 2705 | V10: =V29+V48 -> 2228 | W10: =SUM(X10:Y10) -> 3327 | X10: =X29+X48 -> 1766 | Y10: =Y29+Y48 -> 1561 | Z10: =SUM(AA10:AB10) -> 4011 | AA10: =AA29+AA48 -> 2105 | AB10: =AB29+AB48 -> 1906 | AC10: =SUM(AD10:AE10) -> 2725 | AD10: =AD29+AD48 -> 1506 | AE10: =AE29+AE48 -> 1219 | AF10: =SUM(AG10:AH10) -> 11871 | AG10: =AG29+AG48 -> 6123 | AH10: =AH29+AH48 -> 5748 | AI10: =SUM(AJ10:AK10) -> 1188 | AJ10: =AJ29+AJ48 -> 666 | AK10: =AK29+AK48 -> 522 | AL10: =SUM(AM10:AN10) -> 514 | AM10: =AM29+AM48 -> 269 | AN10: =AN29+AN48 -> 245 | AO10: =SUM(AP10:AQ10) -> 463 | AP10: =AP29+AP48 -> 230 | AQ10: =AQ29+AQ48 -> 233 | AR10: =SUM(AS10:AT10) -> 948 | AS10: =AS29+AS48 -> 488 | AT10: =AT29+AT48 -> 460 | AU10: =SUM(AV10:AW10) -> 1134 | AV10: =AV29+AV48 -> 571 | AW10: =AW29+AW48 -> 563 | AX10: =SUM(AY10:AZ10) -> 950 | AY10: =AY29+AY48 -> 538 | AZ10: =AZ29+AZ48 -> 412 | BA10: =SUM(BB10:BC10) -> 1160 | BB10: =BB29+BB48 -> 661 | BC10: =BC29+BC48 -> 499 | BD10: =SUM(BE10:BF10) -> 5368 | BE10: =BE29+BE48 -> 2900 | BF10: =BF29+BF48 -> 2468 | BG10: =SUM(BH10:BI10) -> 2069 | BH10: =BH29+BH48 -> 1095 | BI10: =BI29+BI48 -> 974 | BJ10: =SUM(BK10:BL10) -> 859 | BK10: =BK29+BK48 -> 425 | BL10: =BL29+BL48 -> 434 | BM10: =SUM(BN10:BO10) -> 1709 | BN10: =BN29+BN48 -> 941 | BO10: =BO29+BO48 -> 768 | BP10: =SUM(BQ10:BR10) -> 219 | BQ10: =BQ29+BQ48 -> 102 | BR10: =BR29+BR48 -> 117
A11: 20-24 | B11: =SUM(C11:D11) -> 127614 | C11: =C30+C49 -> 73371 | D11: =D30+D49 -> 54243 | E11: =SUM(F11:G11) -> 23051 | F11: =F30+F49 -> 13362 | G11: =G30+G49 -> 9689 | H11: =SUM(I11:J11) -> 11801 | I11: =I30+I49 -> 6753 | J11: =J30+J49 -> 5048 | K11: =SUM(L11:M11) -> 6298 | L11: =L30+L49 -> 3574 | M11: =M30+M49 -> 2724 | N11: =SUM(O11:P11) -> 7801 | O11: =O30+O49 -> 4216 | P11: =P30+P49 -> 3585 | Q11: =SUM(R11:S11) -> 23110 | R11: =R30+R49 -> 13504 | S11: =S30+S49 -> 9606 | T11: =SUM(U11:V11) -> 4756 | U11: =U30+U49 -> 2702 | V11: =V30+V49 -> 2054 | W11: =SUM(X11:Y11) -> 4105 | X11: =X30+X49 -> 2597 | Y11: =Y30+Y49 -> 1508 | Z11: =SUM(AA11:AB11) -> 3628 | AA11: =AA30+AA49 -> 2145 | AB11: =AB30+AB49 -> 1483 | AC11: =SUM(AD11:AE11) -> 2772 | AD11: =AD30+AD49 -> 1559 | AE11: =AE30+AE49 -> 1213 | AF11: =SUM(AG11:AH11) -> 23470 | AG11: =AG30+AG49 -> 12842 | AH11: =AH30+AH49 -> 10628 | AI11: =SUM(AJ11:AK11) -> 1182 | AJ11: =AJ30+AJ49 -> 687 | AK11: =AK30+AK49 -> 495 | AL11: =SUM(AM11:AN11) -> 632 | AM11: =AM30+AM49 -> 358 | AN11: =AN30+AN49 -> 274 | AO11: =SUM(AP11:AQ11) -> 441 | AP11: =AP30+AP49 -> 266 | AQ11: =AQ30+AQ49 -> 175 | AR11: =SUM(AS11:AT11) -> 1011 | AS11: =AS30+AS49 -> 619 | AT11: =AT30+AT49 -> 392 | AU11: =SUM(AV11:AW11) -> 1121 | AV11: =AV30+AV49 -> 641 | AW11: =AW30+AW49 -> 480 | AX11: =SUM(AY11:AZ11) -> 1117 | AY11: =AY30+AY49 -> 699 | AZ11: =AZ30+AZ49 -> 418 | BA11: =SUM(BB11:BC11) -> 1282 | BB11: =BB30+BB49 -> 816 | BC11: =BC30+BC49 -> 466 | BD11: =SUM(BE11:BF11) -> 5206 | BE11: =BE30+BE49 -> 3178 | BF11: =BF30+BF49 -> 2028 | BG11: =SUM(BH11:BI11) -> 1825 | BH11: =BH30+BH49 -> 1042 | BI11: =BI30+BI49 -> 783 | BJ11: =SUM(BK11:BL11) -> 828 | BK11: =BK30+BK49 -> 510 | BL11: =BL30+BL49 -> 318 | BM11: =SUM(BN11:BO11) -> 1837 | BN11: =BN30+BN49 -> 1102 | BO11: =BO30+BO49 -> 735 | BP11: =SUM(BQ11:BR11) -> 340 | BQ11: =BQ30+BQ49 -> 199 | BR11: =BR30+BR49 -> 141
A12: 25-29 | B12: =SUM(C12:D12) -> 141089 | C12: =C31+C50 -> 82978 | D12: =D31+D50 -> 58111 | E12: =SUM(F12:G12) -> 28376 | F12: =F31+F50 -> 16914 | G12: =G31+G50 -> 11462 | H12: =SUM(I12:J12) -> 13827 | I12: =I31+I50 -> 8090 | J12: =J31+J50 -> 5737 | K12: =SUM(L12:M12) -> 7038 | L12: =L31+L50 -> 4059 | M12: =M31+M50 -> 2979 | N12: =SUM(O12:P12) -> 7719 | O12: =O31+O50 -> 4148 | P12: =P31+P50 -> 3571 | Q12: =SUM(R12:S12) -> 27047 | R12: =R31+R50 -> 15756 | S12: =S31+S50 -> 11291 | T12: =SUM(U12:V12) -> 4371 | U12: =U31+U50 -> 2526 | V12: =V31+V50 -> 1845 | W12: =SUM(X12:Y12) -> 5102 | X12: =X31+X50 -> 3098 | Y12: =Y31+Y50 -> 2004 | Z12: =SUM(AA12:AB12) -> 3443 | AA12: =AA31+AA50 -> 1964 | AB12: =AB31+AB50 -> 1479 | AC12: =SUM(AD12:AE12) -> 2712 | AD12: =AD31+AD50 -> 1553 | AE12: =AE31+AE50 -> 1159 | AF12: =SUM(AG12:AH12) -> 21050 | AG12: =AG31+AG50 -> 12109 | AH12: =AH31+AH50 -> 8941 | AI12: =SUM(AJ12:AK12) -> 1423 | AJ12: =AJ31+AJ50 -> 853 | AK12: =AK31+AK50 -> 570 | AL12: =SUM(AM12:AN12) -> 750 | AM12: =AM31+AM50 -> 464 | AN12: =AN31+AN50 -> 286 | AO12: =SUM(AP12:AQ12) -> 431 | AP12: =AP31+AP50 -> 243 | AQ12: =AQ31+AQ50 -> 188 | AR12: =SUM(AS12:AT12) -> 1234 | AS12: =AS31+AS50 -> 803 | AT12: =AT31+AT50 -> 431 | AU12: =SUM(AV12:AW12) -> 1371 | AV12: =AV31+AV50 -> 761 | AW12: =AW31+AW50 -> 610 | AX12: =SUM(AY12:AZ12) -> 1566 | AY12: =AY31+AY50 -> 1057 | AZ12: =AZ31+AZ50 -> 509 | BA12: =SUM(BB12:BC12) -> 1855 | BB12: =BB31+BB50 -> 1264 | BC12: =BC31+BC50 -> 591 | BD12: =SUM(BE12:BF12) -> 5995 | BE12: =BE31+BE50 -> 3741 | BF12: =BF31+BF50 -> 2254 | BG12: =SUM(BH12:BI12) -> 2019 | BH12: =BH31+BH50 -> 1098 | BI12: =BI31+BI50 -> 921 | BJ12: =SUM(BK12:BL12) -> 800 | BK12: =BK31+BK50 -> 479 | BL12: =BL31+BL50 -> 321 | BM12: =SUM(BN12:BO12) -> 2482 | BN12: =BN31+BN50 -> 1669 | BO12: =BO31+BO50 -> 813 | BP12: =SUM(BQ12:BR12) -> 478 | BQ12: =BQ31+BQ50 -> 329 | BR12: =BR31+BR50 -> 149
A13: 30-34 | B13: =SUM(C13:D13) -> 141401 | C13: =C32+C51 -> 80974 | D13: =D32+D51 -> 60427 | E13: =SUM(F13:G13) -> 28751 | F13: =F32+F51 -> 16625 | G13: =G32+G51 -> 12126 | H13: =SUM(I13:J13) -> 13773 | I13: =I32+I51 -> 8073 | J13: =J32+J51 -> 5700 | K13: =SUM(L13:M13) -> 7469 | L13: =L32+L51 -> 4226 | M13: =M32+M51 -> 3243 | N13: =SUM(O13:P13) -> 7352 | O13: =O32+O51 -> 4020 | P13: =P32+P51 -> 3332 | Q13: =SUM(R13:S13) -> 29775 | R13: =R32+R51 -> 16422 | S13: =S32+S51 -> 13353 | T13: =SUM(U13:V13) -> 4055 | U13: =U32+U51 -> 2371 | V13: =V32+V51 -> 1684 | W13: =SUM(X13:Y13) -> 5155 | X13: =X32+X51 -> 3084 | Y13: =Y32+Y51 -> 2071 | Z13: =SUM(AA13:AB13) -> 3310 | AA13: =AA32+AA51 -> 1812 | AB13: =AB32+AB51 -> 1498 | AC13: =SUM(AD13:AE13) -> 2458 | AD13: =AD32+AD51 -> 1351 | AE13: =AE32+AE51 -> 1107 | AF13: =SUM(AG13:AH13) -> 18137 | AG13: =AG32+AG51 -> 10402 | AH13: =AH32+AH51 -> 7735 | AI13: =SUM(AJ13:AK13) -> 1583 | AJ13: =AJ32+AJ51 -> 914 | AK13: =AK32+AK51 -> 669 | AL13: =SUM(AM13:AN13) -> 793 | AM13: =AM32+AM51 -> 498 | AN13: =AN32+AN51 -> 295 | AO13: =SUM(AP13:AQ13) -> 471 | AP13: =AP32+AP51 -> 255 | AQ13: =AQ32+AQ51 -> 216 | AR13: =SUM(AS13:AT13) -> 1288 | AS13: =AS32+AS51 -> 826 | AT13: =AT32+AT51 -> 462 | AU13: =SUM(AV13:AW13) -> 1440 | AV13: =AV32+AV51 -> 772 | AW13: =AW32+AW51 -> 668 | AX13: =SUM(AY13:AZ13) -> 1352 | AY13: =AY32+AY51 -> 884 | AZ13: =AZ32+AZ51 -> 468 | BA13: =SUM(BB13:BC13) -> 1961 | BB13: =BB32+BB51 -> 1277 | BC13: =BC32+BC51 -> 684 | BD13: =SUM(BE13:BF13) -> 6273 | BE13: =BE32+BE51 -> 3684 | BF13: =BF32+BF51 -> 2589 | BG13: =SUM(BH13:BI13) -> 2435 | BH13: =BH32+BH51 -> 1242 | BI13: =BI32+BI51 -> 1193 | BJ13: =SUM(BK13:BL13) -> 744 | BK13: =BK32+BK51 -> 429 | BL13: =BL32+BL51 -> 315 | BM13: =SUM(BN13:BO13) -> 2380 | BN13: =BN32+BN51 -> 1523 | BO13: =BO32+BO51 -> 857 | BP13: =SUM(BQ13:BR13) -> 446 | BQ13: =BQ32+BQ51 -> 284 | BR13: =BR32+BR51 -> 162
A14: 35-39 | B14: =SUM(C14:D14) -> 139125 | C14: =C33+C52 -> 75939 | D14: =D33+D52 -> 63186 | E14: =SUM(F14:G14) -> 27838 | F14: =F33+F52 -> 14833 | G14: =G33+G52 -> 13005 | H14: =SUM(I14:J14) -> 12978 | I14: =I33+I52 -> 7226 | J14: =J33+J52 -> 5752 | K14: =SUM(L14:M14) -> 7180 | L14: =L33+L52 -> 3844 | M14: =M33+M52 -> 3336 | N14: =SUM(O14:P14) -> 7066 | O14: =O33+O52 -> 3704 | P14: =P33+P52 -> 3362 | Q14: =SUM(R14:S14) -> 31030 | R14: =R33+R52 -> 16748 | S14: =S33+S52 -> 14282 | T14: =SUM(U14:V14) -> 3929 | U14: =U33+U52 -> 2101 | V14: =V33+V52 -> 1828 | W14: =SUM(X14:Y14) -> 4862 | X14: =X33+X52 -> 2785 | Y14: =Y33+Y52 -> 2077 | Z14: =SUM(AA14:AB14) -> 3624 | AA14: =AA33+AA52 -> 1914 | AB14: =AB33+AB52 -> 1710 | AC14: =SUM(AD14:AE14) -> 2681 | AD14: =AD33+AD52 -> 1421 | AE14: =AE33+AE52 -> 1260 | AF14: =SUM(AG14:AH14) -> 16031 | AG14: =AG33+AG52 -> 8803 | AH14: =AH33+AH52 -> 7228 | AI14: =SUM(AJ14:AK14) -> 1577 | AJ14: =AJ33+AJ52 -> 922 | AK14: =AK33+AK52 -> 655 | AL14: =SUM(AM14:AN14) -> 776 | AM14: =AM33+AM52 -> 451 | AN14: =AN33+AN52 -> 325 | AO14: =SUM(AP14:AQ14) -> 490 | AP14: =AP33+AP52 -> 259 | AQ14: =AQ33+AQ52 -> 231 | AR14: =SUM(AS14:AT14) -> 1208 | AS14: =AS33+AS52 -> 679 | AT14: =AT33+AT52 -> 529 | AU14: =SUM(AV14:AW14) -> 1333 | AV14: =AV33+AV52 -> 744 | AW14: =AW33+AW52 -> 589 | AX14: =SUM(AY14:AZ14) -> 1274 | AY14: =AY33+AY52 -> 791 | AZ14: =AZ33+AZ52 -> 483 | BA14: =SUM(BB14:BC14) -> 1851 | BB14: =BB33+BB52 -> 1117 | BC14: =BC33+BC52 -> 734 | BD14: =SUM(BE14:BF14) -> 7143 | BE14: =BE33+BE52 -> 4019 | BF14: =BF33+BF52 -> 3124 | BG14: =SUM(BH14:BI14) -> 2773 | BH14: =BH33+BH52 -> 1438 | BI14: =BI33+BI52 -> 1335 | BJ14: =SUM(BK14:BL14) -> 828 | BK14: =BK33+BK52 -> 460 | BL14: =BL33+BL52 -> 368 | BM14: =SUM(BN14:BO14) -> 2232 | BN14: =BN33+BN52 -> 1396 | BO14: =BO33+BO52 -> 836 | BP14: =SUM(BQ14:BR14) -> 421 | BQ14: =BQ33+BQ52 -> 284 | BR14: =BR33+BR52 -> 137
A15: 40-44 | B15: =SUM(C15:D15) -> 182381 | C15: =C34+C53 -> 95873 | D15: =D34+D53 -> 86508 | E15: =SUM(F15:G15) -> 38454 | F15: =F34+F53 -> 19870 | G15: =G34+G53 -> 18584 | H15: =SUM(I15:J15) -> 17122 | I15: =I34+I53 -> 9218 | J15: =J34+J53 -> 7904 | K15: =SUM(L15:M15) -> 9372 | L15: =L34+L53 -> 4922 | M15: =M34+M53 -> 4450 | N15: =SUM(O15:P15) -> 9643 | O15: =O34+O53 -> 4821 | P15: =P34+P53 -> 4822 | Q15: =SUM(R15:S15) -> 38058 | R15: =R34+R53 -> 19745 | S15: =S34+S53 -> 18313 | T15: =SUM(U15:V15) -> 5710 | U15: =U34+U53 -> 2911 | V15: =V34+V53 -> 2799 | W15: =SUM(X15:Y15) -> 5806 | X15: =X34+X53 -> 3275 | Y15: =Y34+Y53 -> 2531 | Z15: =SUM(AA15:AB15) -> 4955 | AA15: =AA34+AA53 -> 2595 | AB15: =AB34+AB53 -> 2360 | AC15: =SUM(AD15:AE15) -> 3655 | AD15: =AD34+AD53 -> 1893 | AE15: =AE34+AE53 -> 1762 | AF15: =SUM(AG15:AH15) -> 20337 | AG15: =AG34+AG53 -> 10596 | AH15: =AH34+AH53 -> 9741 | AI15: =SUM(AJ15:AK15) -> 1940 | AJ15: =AJ34+AJ53 -> 1123 | AK15: =AK34+AK53 -> 817 | AL15: =SUM(AM15:AN15) -> 980 | AM15: =AM34+AM53 -> 531 | AN15: =AN34+AN53 -> 449 | AO15: =SUM(AP15:AQ15) -> 664 | AP15: =AP34+AP53 -> 369 | AQ15: =AQ34+AQ53 -> 295 | AR15: =SUM(AS15:AT15) -> 1659 | AS15: =AS34+AS53 -> 937 | AT15: =AT34+AT53 -> 722 | AU15: =SUM(AV15:AW15) -> 1933 | AV15: =AV34+AV53 -> 1019 | AW15: =AW34+AW53 -> 914 | AX15: =SUM(AY15:AZ15) -> 1702 | AY15: =AY34+AY53 -> 991 | AZ15: =AZ34+AZ53 -> 711 | BA15: =SUM(BB15:BC15) -> 2112 | BB15: =BB34+BB53 -> 1242 | BC15: =BC34+BC53 -> 870 | BD15: =SUM(BE15:BF15) -> 9992 | BE15: =BE34+BE53 -> 5459 | BF15: =BF34+BF53 -> 4533 | BG15: =SUM(BH15:BI15) -> 3680 | BH15: =BH34+BH53 -> 1808 | BI15: =BI34+BI53 -> 1872 | BJ15: =SUM(BK15:BL15) -> 1254 | BK15: =BK34+BK53 -> 680 | BL15: =BL34+BL53 -> 574 | BM15: =SUM(BN15:BO15) -> 2785 | BN15: =BN34+BN53 -> 1514 | BO15: =BO34+BO53 -> 1271 | BP15: =SUM(BQ15:BR15) -> 568 | BQ15: =BQ34+BQ53 -> 354 | BR15: =BR34+BR53 -> 214
A16: 45-49 | B16: =SUM(C16:D16) -> 180805 | C16: =C35+C54 -> 94176 | D16: =D35+D54 -> 86629 | E16: =SUM(F16:G16) -> 36186 | F16: =F35+F54 -> 18389 | G16: =G35+G54 -> 17797 | H16: =SUM(I16:J16) -> 17361 | I16: =I35+I54 -> 9125 | J16: =J35+J54 -> 8236 | K16: =SUM(L16:M16) -> 9188 | L16: =L35+L54 -> 4828 | M16: =M35+M54 -> 4360 | N16: =SUM(O16:P16) -> 10592 | O16: =O35+O54 -> 5387 | P16: =P35+P54 -> 5205 | Q16: =SUM(R16:S16) -> 34269 | R16: =R35+R54 -> 17119 | S16: =S35+S54 -> 17150 | T16: =SUM(U16:V16) -> 6598 | U16: =U35+U54 -> 3345 | V16: =V35+V54 -> 3253 | W16: =SUM(X16:Y16) -> 6154 | X16: =X35+X54 -> 3434 | Y16: =Y35+Y54 -> 2720 | Z16: =SUM(AA16:AB16) -> 5524 | AA16: =AA35+AA54 -> 2908 | AB16: =AB35+AB54 -> 2616 | AC16: =SUM(AD16:AE16) -> 4180 | AD16: =AD35+AD54 -> 2201 | AE16: =AE35+AE54 -> 1979 | AF16: =SUM(AG16:AH16) -> 19847 | AG16: =AG35+AG54 -> 10194 | AH16: =AH35+AH54 -> 9653 | AI16: =SUM(AJ16:AK16) -> 2210 | AJ16: =AJ35+AJ54 -> 1317 | AK16: =AK35+AK54 -> 893 | AL16: =SUM(AM16:AN16) -> 1102 | AM16: =AM35+AM54 -> 618 | AN16: =AN35+AN54 -> 484 | AO16: =SUM(AP16:AQ16) -> 773 | AP16: =AP35+AP54 -> 457 | AQ16: =AQ35+AQ54 -> 316 | AR16: =SUM(AS16:AT16) -> 1792 | AS16: =AS35+AS54 -> 973 | AT16: =AT35+AT54 -> 819 | AU16: =SUM(AV16:AW16) -> 2068 | AV16: =AV35+AV54 -> 1193 | AW16: =AW35+AW54 -> 875 | AX16: =SUM(AY16:AZ16) -> 1842 | AY16: =AY35+AY54 -> 1041 | AZ16: =AZ35+AZ54 -> 801 | BA16: =SUM(BB16:BC16) -> 2298 | BB16: =BB35+BB54 -> 1390 | BC16: =BC35+BC54 -> 908 | BD16: =SUM(BE16:BF16) -> 10157 | BE16: =BE35+BE54 -> 5442 | BF16: =BF35+BF54 -> 4715 | BG16: =SUM(BH16:BI16) -> 3512 | BH16: =BH35+BH54 -> 1858 | BI16: =BI35+BI54 -> 1654 | BJ16: =SUM(BK16:BL16) -> 1496 | BK16: =BK35+BK54 -> 881 | BL16: =BL35+BL54 -> 615 | BM16: =SUM(BN16:BO16) -> 3022 | BN16: =BN35+BN54 -> 1674 | BO16: =BO35+BO54 -> 1348 | BP16: =SUM(BQ16:BR16) -> 634 | BQ16: =BQ35+BQ54 -> 402 | BR16: =BR35+BR54 -> 232
A17: 50-54 | B17: =SUM(C17:D17) -> 220702 | C17: =C36+C55 -> 114941 | D17: =D36+D55 -> 105761 | E17: =SUM(F17:G17) -> 43341 | F17: =F36+F55 -> 21628 | G17: =G36+G55 -> 21713 | H17: =SUM(I17:J17) -> 23003 | I17: =I36+I55 -> 11876 | J17: =J36+J55 -> 11127 | K17: =SUM(L17:M17) -> 11156 | L17: =L36+L55 -> 5809 | M17: =M36+M55 -> 5347 | N17: =SUM(O17:P17) -> 12827 | O17: =O36+O55 -> 6760 | P17: =P36+P55 -> 6067 | Q17: =SUM(R17:S17) -> 37550 | R17: =R36+R55 -> 18875 | S17: =S36+S55 -> 18675 | T17: =SUM(U17:V17) -> 8445 | U17: =U36+U55 -> 4470 | V17: =V36+V55 -> 3975 | W17: =SUM(X17:Y17) -> 8159 | X17: =X36+X55 -> 4419 | Y17: =Y36+Y55 -> 3740 | Z17: =SUM(AA17:AB17) -> 7277 | AA17: =AA36+AA55 -> 3913 | AB17: =AB36+AB55 -> 3364 | AC17: =SUM(AD17:AE17) -> 5255 | AD17: =AD36+AD55 -> 2797 | AE17: =AE36+AE55 -> 2458 | AF17: =SUM(AG17:AH17) -> 24142 | AG17: =AG36+AG55 -> 12013 | AH17: =AH36+AH55 -> 12129 | AI17: =SUM(AJ17:AK17) -> 3250 | AJ17: =AJ36+AJ55 -> 1855 | AK17: =AK36+AK55 -> 1395 | AL17: =SUM(AM17:AN17) -> 1688 | AM17: =AM36+AM55 -> 962 | AN17: =AN36+AN55 -> 726 | AO17: =SUM(AP17:AQ17) -> 1211 | AP17: =AP36+AP55 -> 732 | AQ17: =AQ36+AQ55 -> 479 | AR17: =SUM(AS17:AT17) -> 2630 | AS17: =AS36+AS55 -> 1520 | AT17: =AT36+AT55 -> 1110 | AU17: =SUM(AV17:AW17) -> 2984 | AV17: =AV36+AV55 -> 1621 | AW17: =AW36+AW55 -> 1363 | AX17: =SUM(AY17:AZ17) -> 2588 | AY17: =AY36+AY55 -> 1504 | AZ17: =AZ36+AZ55 -> 1084 | BA17: =SUM(BB17:BC17) -> 3268 | BB17: =BB36+BB55 -> 1931 | BC17: =BC36+BC55 -> 1337 | BD17: =SUM(BE17:BF17) -> 11190 | BE17: =BE36+BE55 -> 6130 | BF17: =BF36+BF55 -> 5060 | BG17: =SUM(BH17:BI17) -> 3722 | BH17: =BH36+BH55 -> 2100 | BI17: =BI36+BI55 -> 1622 | BJ17: =SUM(BK17:BL17) -> 2141 | BK17: =BK36+BK55 -> 1229 | BL17: =BL36+BL55 -> 912 | BM17: =SUM(BN17:BO17) -> 3979 | BN17: =BN36+BN55 -> 2245 | BO17: =BO36+BO55 -> 1734 | BP17: =SUM(BQ17:BR17) -> 896 | BQ17: =BQ36+BQ55 -> 552 | BR17: =BR36+BR55 -> 344
A18: 55-59 | B18: =SUM(C18:D18) -> 228740 | C18: =C37+C56 -> 117847 | D18: =D37+D56 -> 110893 | E18: =SUM(F18:G18) -> 43908 | F18: =F37+F56 -> 22047 | G18: =G37+G56 -> 21861 | H18: =SUM(I18:J18) -> 24003 | I18: =I37+I56 -> 12321 | J18: =J37+J56 -> 11682 | K18: =SUM(L18:M18) -> 12036 | L18: =L37+L56 -> 6221 | M18: =M37+M56 -> 5815 | N18: =SUM(O18:P18) -> 12921 | O18: =O37+O56 -> 6639 | P18: =P37+P56 -> 6282 | Q18: =SUM(R18:S18) -> 34587 | R18: =R37+R56 -> 17381 | S18: =S37+S56 -> 17206 | T18: =SUM(U18:V18) -> 8835 | U18: =U37+U56 -> 4515 | V18: =V37+V56 -> 4320 | W18: =SUM(X18:Y18) -> 9791 | X18: =X37+X56 -> 5263 | Y18: =Y37+Y56 -> 4528 | Z18: =SUM(AA18:AB18) -> 8364 | AA18: =AA37+AA56 -> 4345 | AB18: =AB37+AB56 -> 4019 | AC18: =SUM(AD18:AE18) -> 6044 | AD18: =AD37+AD56 -> 3116 | AE18: =AE37+AE56 -> 2928 | AF18: =SUM(AG18:AH18) -> 23188 | AG18: =AG37+AG56 -> 11630 | AH18: =AH37+AH56 -> 11558 | AI18: =SUM(AJ18:AK18) -> 4517 | AJ18: =AJ37+AJ56 -> 2506 | AK18: =AK37+AK56 -> 2011 | AL18: =SUM(AM18:AN18) -> 2390 | AM18: =AM37+AM56 -> 1267 | AN18: =AN37+AN56 -> 1123 | AO18: =SUM(AP18:AQ18) -> 1471 | AP18: =AP37+AP56 -> 824 | AQ18: =AQ37+AQ56 -> 647 | AR18: =SUM(AS18:AT18) -> 3095 | AS18: =AS37+AS56 -> 1641 | AT18: =AT37+AT56 -> 1454 | AU18: =SUM(AV18:AW18) -> 3845 | AV18: =AV37+AV56 -> 2047 | AW18: =AW37+AW56 -> 1798 | AX18: =SUM(AY18:AZ18) -> 3033 | AY18: =AY37+AY56 -> 1675 | AZ18: =AZ37+AZ56 -> 1358 | BA18: =SUM(BB18:BC18) -> 4377 | BB18: =BB37+BB56 -> 2361 | BC18: =BC37+BC56 -> 2016 | BD18: =SUM(BE18:BF18) -> 10212 | BE18: =BE37+BE56 -> 5501 | BF18: =BF37+BF56 -> 4711 | BG18: =SUM(BH18:BI18) -> 4074 | BH18: =BH37+BH56 -> 2105 | BI18: =BI37+BI56 -> 1969 | BJ18: =SUM(BK18:BL18) -> 2870 | BK18: =BK37+BK56 -> 1564 | BL18: =BL37+BL56 -> 1306 | BM18: =SUM(BN18:BO18) -> 4231 | BN18: =BN37+BN56 -> 2324 | BO18: =BO37+BO56 -> 1907 | BP18: =SUM(BQ18:BR18) -> 948 | BQ18: =BQ37+BQ56 -> 554 | BR18: =BR37+BR56 -> 394
... A23: 80세 이상 | B23: =SUM(C23:D23) -> 174820 | C23: =C42+C61 -> 56187 | D23: =D42+D61 -> 118633 | E23: =SUM(F23:G23) -> 21590 | F23: =F42+F61 -> 7277 | G23: =G42+G61 -> 14313 | H23: =SUM(I23:J23) -> 17205 | I23: =I42+I61 -> 5422 | J23: =J42+J61 -> 11783 | K23: =SUM(L23:M23) -> 10472 | L23: =L42+L61 -> 3279 | M23: =M42+M61 -> 7193 | N23: =SUM(O23:P23) -> 12724 | O23: =O42+O61 -> 4181 | P23: =P42+P61 -> 8543 | Q23: =SUM(R23:S23) -> 10906 | R23: =R42+R61 -> 3339 | S23: =S42+S61 -> 7567 | T23: =SUM(U23:V23) -> 9064 | U23: =U42+U61 -> 3090 | V23: =V42+V61 -> 5974 | W23: =SUM(X23:Y23) -> 9077 | X23: =X42+X61 -> 2913 | Y23: =Y42+Y61 -> 6164 | Z23: =SUM(AA23:AB23) -> 10723 | AA23: =AA42+AA61 -> 3260 | AB23: =AB42+AB61 -> 7463 | AC23: =SUM(AD23:AE23) -> 7188 | AD23: =AD42+AD61 -> 2221 | AE23: =AE42+AE61 -> 4967 | AF23: =SUM(AG23:AH23) -> 12847 | AG23: =AG42+AG61 -> 4371 | AH23: =AH42+AH61 -> 8476 | AI23: =SUM(AJ23:AK23) -> 7765 | AJ23: =AJ42+AJ61 -> 2503 | AK23: =AK42+AK61 -> 5262 | AL23: =SUM(AM23:AN23) -> 3281 | AM23: =AM42+AM61 -> 1076 | AN23: =AN42+AN61 -> 2205 | AO23: =SUM(AP23:AQ23) -> 2258 | AP23: =AP42+AP61 -> 708 | AQ23: =AQ42+AQ61 -> 1550 | AR23: =SUM(AS23:AT23) -> 4999 | AS23: =AS42+AS61 -> 1506 | AT23: =AT42+AT61 -> 3493 | AU23: =SUM(AV23:AW23) -> 5426 | AV23: =AV42+AV61 -> 1729 | AW23: =AW42+AW61 -> 3697 | AX23: =SUM(AY23:AZ23) -> 3316 | AY23: =AY42+AY61 -> 1061 | AZ23: =AZ42+AZ61 -> 2255 | BA23: =SUM(BB23:BC23) -> 4337 | BB23: =BB42+BB61 -> 1407 | BC23: =BC42+BC61 -> 2930 | BD23: =SUM(BE23:BF23) -> 5801 | BE23: =BE42+BE61 -> 1811 | BF23: =BF42+BF61 -> 3990 | BG23: =SUM(BH23:BI23) -> 6204 | BH23: =BH42+BH61 -> 2025 | BI23: =BI42+BI61 -> 4179 | BJ23: =SUM(BK23:BL23) -> 4118 | BK23: =BK42+BK61 -> 1368 | BL23: =BL42+BL61 -> 2750 | BM23: =SUM(BN23:BO23) -> 4886 | BN23: =BN42+BN61 -> 1404 | BO23: =BO42+BO61 -> 3482 | BP23: =SUM(BQ23:BR23) -> 633 | BQ23: =BQ42+BQ61 -> 236 | BR23: =BR42+BR61 -> 397
A24: ◎ 한국인
A25: 총계 | B25: =SUM(B26:B42) -> 2546960 | C25: =SUM(C26:C42) -> 1287412 | D25: =SUM(D26:D42) -> 1259548 | E25: =SUM(E26:E42) -> 492342 | F25: =SUM(F26:F42) -> 250023 | G25: =SUM(G26:G42) -> 242319 | H25: =SUM(H26:H42) -> 246371 | I25: =SUM(I26:I42) -> 123389 | ... BR25: =SUM(BR26:BR42) -> 4009
A26: 0-4 | B26: =C26+D26 -> 57921 | C26: ='2-2.시군 연령별 한국인(각세)'!C7 -> 29705 | D26: ='2-2.시군 연령별 한국인(각세)'!D7 -> 28216 | E26: =F26+G26 -> 11863 | F26: ='2-2.시군 연령별 한국인(각세)'!F7 -> 6116 | G26: ='2-2.시군 연령별 한국인(각세)'!G7 -> 5747 | H26: =I26+J26 -> 5191 | I26: ='2-2.시군 연령별 한국인(각세)'!I7 -> 2683 | J26: ='2-2.시군 연령별 한국인(각세)'!J7 -> 2508 | K26: =L26+M26 -> 3471 | L26: ='2-2.시군 연령별 한국인(각세)'!L7 -> 1824 | M26: ='2-2.시군 연령별 한국인(각세)'!M7 -> 1647 | N26: =O26+P26 -> 3295 | O26: ='2-2.시군 연령별 한국인(각세)'!O7 -> 1670 | P26: ='2-2.시군 연령별 한국인(각세)'!P7 -> 1625 | Q26: =R26+S26 -> 11790 | R26: ='2-2.시군 연령별 한국인(각세)'!R7 -> 6065 | S26: ='2-2.시군 연령별 한국인(각세)'!S7 -> 5725 | T26: =U26+V26 -> 1758 | U26: ='2-2.시군 연령별 한국인(각세)'!U7 -> 906 | V26: ='2-2.시군 연령별 한국인(각세)'!V7 -> 852 | W26: =X26+Y26 -> 2316 | X26: ='2-2.시군 연령별 한국인(각세)'!X7 -> 1163 | Y26: ='2-2.시군 연령별 한국인(각세)'!Y7 -> 1153 | Z26: =AA26+AB26 -> 1681 | AA26: ='2-2.시군 연령별 한국인(각세)'!AA7 -> 846 | AB26: ='2-2.시군 연령별 한국인(각세)'!AB7 -> 835 | AC26: =AD26+AE26 -> 1321 | AD26: ='2-2.시군 연령별 한국인(각세)'!AD7 -> 690 | AE26: ='2-2.시군 연령별 한국인(각세)'!AE7 -> 631 | AF26: =AG26+AH26 -> 6410 | AG26: ='2-2.시군 연령별 한국인(각세)'!AG7 -> 3265 | AH26: ='2-2.시군 연령별 한국인(각세)'!AH7 -> 3145 | AI26: =AJ26+AK26 -> 786 | AJ26: ='2-2.시군 연령별 한국인(각세)'!AJ7 -> 423 | AK26: ='2-2.시군 연령별 한국인(각세)'!AK7 -> 363 | AL26: =AM26+AN26 -> 377 | AM26: ='2-2.시군 연령별 한국인(각세)'!AM7 -> 199 | AN26: ='2-2.시군 연령별 한국인(각세)'!AN7 -> 178 | AO26: =AP26+AQ26 -> 198 | AP26: ='2-2.시군 연령별 한국인(각세)'!AP7 -> 90 | AQ26: ='2-2.시군 연령별 한국인(각세)'!AQ7 -> 108 | AR26: =AS26+AT26 -> 473 | AS26: ='2-2.시군 연령별 한국인(각세)'!AS7 -> 249 | AT26: ='2-2.시군 연령별 한국인(각세)'!AT7 -> 224 | AU26: =AV26+AW26 -> 524 | AV26: ='2-2.시군 연령별 한국인(각세)'!AV7 -> 262 | AW26: ='2-2.시군 연령별 한국인(각세)'!AW7 -> 262 | AX26: =AY26+AZ26 -> 437 | AY26: ='2-2.시군 연령별 한국인(각세)'!AY7 -> 213 | AZ26: ='2-2.시군 연령별 한국인(각세)'!AZ7 -> 224 | BA26: =BB26+BC26 -> 732 | BB26: ='2-2.시군 연령별 한국인(각세)'!BB7 -> 361 | BC26: ='2-2.시군 연령별 한국인(각세)'!BC7 -> 371 | BD26: =BE26+BF26 -> 2149 | BE26: ='2-2.시군 연령별 한국인(각세)'!BE7 -> 1066 | BF26: ='2-2.시군 연령별 한국인(각세)'!BF7 -> 1083 | BG26: =BH26+BI26 -> 1633 | BH26: ='2-2.시군 연령별 한국인(각세)'!BH7 -> 816 | BI26: ='2-2.시군 연령별 한국인(각세)'!BI7 -> 817 | BJ26: =BK26+BL26 -> 381 | BK26: ='2-2.시군 연령별 한국인(각세)'!BK7 -> 195 | BL26: ='2-2.시군 연령별 한국인(각세)'!BL7 -> 186 | BM26: =BN26+BO26 -> 1001 | BN26: ='2-2.시군 연령별 한국인(각세)'!BN7 -> 533 | BO26: ='2-2.시군 연령별 한국인(각세)'!BO7 -> 468 | BP26: =BQ26+BR26 -> 134 | BQ26: ='2-2.시군 연령별 한국인(각세)'!BQ7 -> 70 | BR26: ='2-2.시군 연령별 한국인(각세)'!BR7 -> 64
A27: 5-9 | B27: =C27+D27 -> 90479 | C27: ='2-2.시군 연령별 한국인(각세)'!C13 -> 46613 | D27: ='2-2.시군 연령별 한국인(각세)'!D13 -> 43866 | E27: =F27+G27 -> 19750 | F27: ='2-2.시군 연령별 한국인(각세)'!F13 -> 10289 | G27: ='2-2.시군 연령별 한국인(각세)'!G13 -> 9461 | H27: =I27+J27 -> 7859 | I27: ='2-2.시군 연령별 한국인(각세)'!I13 -> 4012 | J27: ='2-2.시군 연령별 한국인(각세)'!J13 -> 3847 | K27: =L27+M27 -> 4940 | L27: ='2-2.시군 연령별 한국인(각세)'!L13 -> 2548 | M27: ='2-2.시군 연령별 한국인(각세)'!M13 -> 2392 | N27: =O27+P27 -> 4972 | O27: ='2-2.시군 연령별 한국인(각세)'!O13 -> 2589 | P27: ='2-2.시군 연령별 한국인(각세)'!P13 -> 2383 | Q27: =R27+S27 -> 20117 | R27: ='2-2.시군 연령별 한국인(각세)'!R13 -> 10268 | S27: ='2-2.시군 연령별 한국인(각세)'!S13 -> 9849 | T27: =U27+V27 -> 2992 | U27: ='2-2.시군 연령별 한국인(각세)'!U13 -> 1564 | V27: ='2-2.시군 연령별 한국인(각세)'!V13 -> 1428 | W27: =X27+Y27 -> 2570 | X27: ='2-2.시군 연령별 한국인(각세)'!X13 -> 1314 | Y27: ='2-2.시군 연령별 한국인(각세)'!Y13 -> 1256 | Z27: =AA27+AB27 -> 2510 | AA27: ='2-2.시군 연령별 한국인(각세)'!AA13 -> 1313 | AB27: ='2-2.시군 연령별 한국인(각세)'!AB13 -> 1197 | AC27: =AD27+AE27 -> 1824 | AD27: ='2-2.시군 연령별 한국인(각세)'!AD13 -> 935 | AE27: ='2-2.시군 연령별 한국인(각세)'!AE13 -> 889 | AF27: =AG27+AH27 -> 9971 | AG27: ='2-2.시군 연령별 한국인(각세)'!AG13 -> 5094 | AH27: ='2-2.시군 연령별 한국인(각세)'!AH13 -> 4877 | AI27: =AJ27+AK27 -> 799 | AJ27: ='2-2.시군 연령별 한국인(각세)'!AJ13 -> 406 | AK27: ='2-2.시군 연령별 한국인(각세)'!AK13 -> 393 | AL27: =AM27+AN27 -> 428 | AM27: ='2-2.시군 연령별 한국인(각세)'!AM13 -> 221 | AN27: ='2-2.시군 연령별 한국인(각세)'!AN13 -> 207 | AO27: =AP27+AQ27 -> 319 | AP27: ='2-2.시군 연령별 한국인(각세)'!AP13 -> 170 | AQ27: ='2-2.시군 연령별 한국인(각세)'!AQ13 -> 149 | AR27: =AS27+AT27 -> 708 | AS27: ='2-2.시군 연령별 한국인(각세)'!AS13 -> 339 | AT27: ='2-2.시군 연령별 한국인(각세)'!AT13 -> 369 | AU27: =AV27+AW27 -> 687 | AV27: ='2-2.시군 연령별 한국인(각세)'!AV13 -> 359 | AW27: ='2-2.시군 연령별 한국인(각세)'!AW13 -> 328 | AX27: =AY27+AZ27 -> 601 | AY27: ='2-2.시군 연령별 한국인(각세)'!AY13 -> 318 | AZ27: ='2-2.시군 연령별 한국인(각세)'!AZ13 -> 283 | BA27: =BB27+BC27 -> 741 | BB27: ='2-2.시군 연령별 한국인(각세)'!BB13 -> 382 | BC27: ='2-2.시군 연령별 한국인(각세)'!BC13 -> 359 | BD27: =BE27+BF27 -> 4403 | BE27: ='2-2.시군 연령별 한국인(각세)'!BE13 -> 2293 | BF27: ='2-2.시군 연령별 한국인(각세)'!BF13 -> 2110 | BG27: =BH27+BI27 -> 2256 | BH27: ='2-2.시군 연령별 한국인(각세)'!BH13 -> 1122 | BI27: ='2-2.시군 연령별 한국인(각세)'!BI13 -> 1134 | BJ27: =BK27+BL27 -> 550 | BK27: ='2-2.시군 연령별 한국인(각세)'!BK13 -> 318 | BL27: ='2-2.시군 연령별 한국인(각세)'!BL13 -> 232 | BM27: =BN27+BO27 -> 1326 | BN27: ='2-2.시군 연령별 한국인(각세)'!BN13 -> 671 | BO27: ='2-2.시군 연령별 한국인(각세)'!BO13 -> 655 | BP27: =BQ27+BR27 -> 156 | BQ27: ='2-2.시군 연령별 한국인(각세)'!BQ13 -> 88 | BR27: ='2-2.시군 연령별 한국인(각세)'!BR13 -> 68
A28: 10-14 | B28: =C28+D28 -> 108631 | C28: ='2-2.시군 연령별 한국인(각세)'!C19 -> 56361 | D28: ='2-2.시군 연령별 한국인(각세)'!D19 -> 52270 | E28: =F28+G28 -> 23767 | F28: ='2-2.시군 연령별 한국인(각세)'!F19 -> 12394 | G28: ='2-2.시군 연령별 한국인(각세)'!G19 -> 11373 | H28: =I28+J28 -> 9573 | I28: ='2-2.시군 연령별 한국인(각세)'!I19 -> 4908 | J28: ='2-2.시군 연령별 한국인(각세)'!J19 -> 4665 | K28: =L28+M28 -> 5823 | L28: ='2-2.시군 연령별 한국인(각세)'!L19 -> 3020 | M28: ='2-2.시군 연령별 한국인(각세)'!M19 -> 2803 | N28: =O28+P28 -> 6323 | O28: ='2-2.시군 연령별 한국인(각세)'!O19 -> 3374 | P28: ='2-2.시군 연령별 한국인(각세)'!P19 -> 2949 | Q28: =R28+S28 -> 22748 | R28: ='2-2.시군 연령별 한국인(각세)'!R19 -> 11852 | S28: ='2-2.시군 연령별 한국인(각세)'!S19 -> 10896 | T28: =U28+V28 -> 4083 | U28: ='2-2.시군 연령별 한국인(각세)'!U19 -> 2103 | V28: ='2-2.시군 연령별 한국인(각세)'!V19 -> 1980 | W28: =X28+Y28 -> 2979 | X28: ='2-2.시군 연령별 한국인(각세)'!X19 -> 1561 | Y28: ='2-2.시군 연령별 한국인(각세)'!Y19 -> 1418 | Z28: =AA28+AB28 -> 3285 | AA28: ='2-2.시군 연령별 한국인(각세)'!AA19 -> 1750 | AB28: ='2-2.시군 연령별 한국인(각세)'!AB19 -> 1535 | AC28: =AD28+AE28 -> 2400 | AD28: ='2-2.시군 연령별 한국인(각세)'!AD19 -> 1273 | AE28: ='2-2.시군 연령별 한국인(각세)'!AE19 -> 1127 | AF28: =AG28+AH28 -> 11547 | AG28: ='2-2.시군 연령별 한국인(각세)'!AG19 -> 5865 | AH28: ='2-2.시군 연령별 한국인(각세)'!AH19 -> 5682 | AI28: =AJ28+AK28 -> 924 | AJ28: ='2-2.시군 연령별 한국인(각세)'!AJ19 -> 470 | AK28: ='2-2.시군 연령별 한국인(각세)'!AK19 -> 454 | AL28: =AM28+AN28 -> 517 | AM28: ='2-2.시군 연령별 한국인(각세)'!AM19 -> 261 | AN28: ='2-2.시군 연령별 한국인(각세)'!AN19 -> 256 | AO28: =AP28+AQ28 -> 386 | AP28: ='2-2.시군 연령별 한국인(각세)'!AP19 -> 216 | AQ28: ='2-2.시군 연령별 한국인(각세)'!AQ19 -> 170 | AR28: =AS28+AT28 -> 905 | AS28: ='2-2.시군 연령별 한국인(각세)'!AS19 -> 470 | AT28: ='2-2.시군 연령별 한국인(각세)'!AT19 -> 435 | AU28: =AV28+AW28 -> 964 | AV28: ='2-2.시군 연령별 한국인(각세)'!AV19 -> 489 | AW28: ='2-2.시군 연령별 한국인(각세)'!AW19 -> 475 | AX28: =AY28+AZ28 -> 807 | AY28: ='2-2.시군 연령별 한국인(각세)'!AY19 -> 414 | AZ28: ='2-2.시군 연령별 한국인(각세)'!AZ19 -> 393 | BA28: =BB28+BC28 -> 992 | BB28: ='2-2.시군 연령별 한국인(각세)'!BB19 -> 481 | BC28: ='2-2.시군 연령별 한국인(각세)'!BC19 -> 511 | BD28: =BE28+BF28 -> 5491 | BE28: ='2-2.시군 연령별 한국인(각세)'!BE19 -> 2813 | BF28: ='2-2.시군 연령별 한국인(각세)'!BF19 -> 2678 | BG28: =BH28+BI28 -> 2580 | BH28: ='2-2.시군 연령별 한국인(각세)'!BH19 -> 1316 | BI28: ='2-2.시군 연령별 한국인(각세)'!BI19 -> 1264 | BJ28: =BK28+BL28 -> 770 | BK28: ='2-2.시군 연령별 한국인(각세)'!BK19 -> 401 | BL28: ='2-2.시군 연령별 한국인(각세)'!BL19 -> 369 | BM28: =BN28+BO28 -> 1552 | BN28: ='2-2.시군 연령별 한국인(각세)'!BN19 -> 819 | BO28: ='2-2.시군 연령별 한국인(각세)'!BO19 -> 733 | BP28: =BQ28+BR28 -> 215 | BQ28: ='2-2.시군 연령별 한국인(각세)'!BQ19 -> 111 | BR28: ='2-2.시군 연령별 한국인(각세)'!BR19 -> 104
A29: 15-19 | B29: =C29+D29 -> 108141 | C29: ='2-2.시군 연령별 한국인(각세)'!C25 -> 57228 | D29: ='2-2.시군 연령별 한국인(각세)'!D25 -> 50913 | E29: =F29+G29 -> 21788 | F29: ='2-2.시군 연령별 한국인(각세)'!F25 -> 11483 | G29: ='2-2.시군 연령별 한국인(각세)'!G25 -> 10305 | H29: =I29+J29 -> 9818 | I29: ='2-2.시군 연령별 한국인(각세)'!I25 -> 5194 | J29: ='2-2.시군 연령별 한국인(각세)'!J25 -> 4624 | K29: =L29+M29 -> 6300 | L29: ='2-2.시군 연령별 한국인(각세)'!L25 -> 3548 | M29: ='2-2.시군 연령별 한국인(각세)'!M25 -> 2752 | N29: =O29+P29 -> 6581 | O29: ='2-2.시군 연령별 한국인(각세)'!O25 -> 3468 | P29: ='2-2.시군 연령별 한국인(각세)'!P25 -> 3113 | Q29: =R29+S29 -> 20871 | R29: ='2-2.시군 연령별 한국인(각세)'!R25 -> 10849 | S29: ='2-2.시군 연령별 한국인(각세)'!S25 -> 10022 | T29: =U29+V29 -> 4908 | U29: ='2-2.시군 연령별 한국인(각세)'!U25 -> 2696 | V29: ='2-2.시군 연령별 한국인(각세)'!V25 -> 2212 | W29: =X29+Y29 -> 3308 | X29: ='2-2.시군 연령별 한국인(각세)'!X25 -> 1755 | Y29: ='2-2.시군 연령별 한국인(각세)'!Y25 -> 1553 | Z29: =AA29+AB29 -> 3998 | AA29: ='2-2.시군 연령별 한국인(각세)'!AA25 -> 2098 | AB29: ='2-2.시군 연령별 한국인(각세)'!AB25 -> 1900 | AC29: =AD29+AE29 -> 2721 | AD29: ='2-2.시군 연령별 한국인(각세)'!AD25 -> 1505 | AE29: ='2-2.시군 연령별 한국인(각세)'!AE25 -> 1216 | AF29: =AG29+AH29 -> 11361 | AG29: ='2-2.시군 연령별 한국인(각세)'!AG25 -> 5796 | AH29: ='2-2.시군 연령별 한국인(각세)'!AH25 -> 5565 | AI29: =AJ29+AK29 -> 1180 | AJ29: ='2-2.시군 연령별 한국인(각세)'!AJ25 -> 662 | AK29: ='2-2.시군 연령별 한국인(각세)'!AK25 -> 518 | AL29: =AM29+AN29 -> 514 | AM29: ='2-2.시군 연령별 한국인(각세)'!AM25 -> 269 | AN29: ='2-2.시군 연령별 한국인(각세)'!AN25 -> 245 | AO29: =AP29+AQ29 -> 462 | AP29: ='2-2.시군 연령별 한국인(각세)'!AP25 -> 230 | AQ29: ='2-2.시군 연령별 한국인(각세)'!AQ25 -> 232 | AR29: =AS29+AT29 -> 938 | AS29: ='2-2.시군 연령별 한국인(각세)'!AS25 -> 484 | AT29: ='2-2.시군 연령별 한국인(각세)'!AT25 -> 454 | AU29: =AV29+AW29 -> 1133 | AV29: ='2-2.시군 연령별 한국인(각세)'!AV25 -> 571 | AW29: ='2-2.시군 연령별 한국인(각세)'!AW25 -> 562 | AX29: =AY29+AZ29 -> 947 | AY29: ='2-2.시군 연령별 한국인(각세)'!AY25 -> 537 | AZ29: ='2-2.시군 연령별 한국인(각세)'!AZ25 -> 410 | BA29: =BB29+BC29 -> 1150 | BB29: ='2-2.시군 연령별 한국인(각세)'!BB25 -> 655 | BC29: ='2-2.시군 연령별 한국인(각세)'!BC25 -> 495 | BD29: =BE29+BF29 -> 5317 | BE29: ='2-2.시군 연령별 한국인(각세)'!BE25 -> 2870 | BF29: ='2-2.시군 연령별 한국인(각세)'!BF25 -> 2447 | BG29: =BH29+BI29 -> 2065 | BH29: ='2-2.시군 연령별 한국인(각세)'!BH25 -> 1094 | BI29: ='2-2.시군 연령별 한국인(각세)'!BI25 -> 971 | BJ29: =BK29+BL29 -> 858 | BK29: ='2-2.시군 연령별 한국인(각세)'!BK25 -> 424 | BL29: ='2-2.시군 연령별 한국인(각세)'!BL25 -> 434 | BM29: =BN29+BO29 -> 1704 | BN29: ='2-2.시군 연령별 한국인(각세)'!BN25 -> 938 | BO29: ='2-2.시군 연령별 한국인(각세)'!BO25 -> 766 | BP29: =BQ29+BR29 -> 219 | BQ29: ='2-2.시군 연령별 한국인(각세)'!BQ25 -> 102 | BR29: ='2-2.시군 연령별 한국인(각세)'!BR25 -> 117
A30: 20-24 | B30: =C30+D30 -> 117111 | C30: ='2-2.시군 연령별 한국인(각세)'!C31 -> 66885 | D30: ='2-2.시군 연령별 한국인(각세)'!D31 -> 50226 | E30: =F30+G30 -> 22330 | F30: ='2-2.시군 연령별 한국인(각세)'!F31 -> 12940 | G30: ='2-2.시군 연령별 한국인(각세)'!G31 -> 9390 | H30: =I30+J30 -> 10795 | I30: ='2-2.시군 연령별 한국인(각세)'!I31 -> 6040 | J30: ='2-2.시군 연령별 한국인(각세)'!J31 -> 4755 | K30: =L30+M30 -> 5859 | L30: ='2-2.시군 연령별 한국인(각세)'!L31 -> 3305 | M30: ='2-2.시군 연령별 한국인(각세)'!M31 -> 2554 | N30: =O30+P30 -> 7424 | O30: ='2-2.시군 연령별 한국인(각세)'!O31 -> 4017 | P30: ='2-2.시군 연령별 한국인(각세)'!P31 -> 3407 | Q30: =R30+S30 -> 22493 | R30: ='2-2.시군 연령별 한국인(각세)'!R31 -> 13129 | S30: ='2-2.시군 연령별 한국인(각세)'!S31 -> 9364 | T30: =U30+V30 -> 4644 | U30: ='2-2.시군 연령별 한국인(각세)'!U31 -> 2642 | V30: ='2-2.시군 연령별 한국인(각세)'!V31 -> 2002 | W30: =X30+Y30 -> 3885 | X30: ='2-2.시군 연령별 한국인(각세)'!X31 -> 2426 | Y30: ='2-2.시군 연령별 한국인(각세)'!Y31 -> 1459 | Z30: =AA30+AB30 -> 3532 | AA30: ='2-2.시군 연령별 한국인(각세)'!AA31 -> 2089 | AB30: ='2-2.시군 연령별 한국인(각세)'!AB31 -> 1443 | AC30: =AD30+AE30 -> 2714 | AD30: ='2-2.시군 연령별 한국인(각세)'!AD31 -> 1518 | AE30: ='2-2.시군 연령별 한국인(각세)'!AE31 -> 1196 | AF30: =AG30+AH30 -> 17744 | AG30: ='2-2.시군 연령별 한국인(각세)'!AG31 -> 9536 | AH30: ='2-2.시군 연령별 한국인(각세)'!AH31 -> 8208 | AI30: =AJ30+AK30 -> 1134 | AJ30: ='2-2.시군 연령별 한국인(각세)'!AJ31 -> 655 | AK30: ='2-2.시군 연령별 한국인(각세)'!AK31 -> 479 | AL30: =AM30+AN30 -> 618 | AM30: ='2-2.시군 연령별 한국인(각세)'!AM31 -> 356 | AN30: ='2-2.시군 연령별 한국인(각세)'!AN31 -> 262 | AO30: =AP30+AQ30 -> 429 | AP30: ='2-2.시군 연령별 한국인(각세)'!AP31 -> 254 | AQ30: ='2-2.시군 연령별 한국인(각세)'!AQ31 -> 175 | AR30: =AS30+AT30 -> 897 | AS30: ='2-2.시군 연령별 한국인(각세)'!AS31 -> 532 | AT30: ='2-2.시군 연령별 한국인(각세)'!AT31 -> 365 | AU30: =AV30+AW30 -> 1060 | AV30: ='2-2.시군 연령별 한국인(각세)'!AV31 -> 608 | AW30: ='2-2.시군 연령별 한국인(각세)'!AW31 -> 452 | AX30: =AY30+AZ30 -> 937 | AY30: ='2-2.시군 연령별 한국인(각세)'!AY31 -> 556 | AZ30: ='2-2.시군 연령별 한국인(각세)'!AZ31 -> 381 | BA30: =BB30+BC30 -> 1146 | BB30: ='2-2.시군 연령별 한국인(각세)'!BB31 -> 695 | BC30: ='2-2.시군 연령별 한국인(각세)'!BC31 -> 451 | BD30: =BE30+BF30 -> 4832 | BE30: ='2-2.시군 연령별 한국인(각세)'!BE31 -> 2885 | BF30: ='2-2.시군 연령별 한국인(각세)'!BF31 -> 1947 | BG30: =BH30+BI30 -> 1791 | BH30: ='2-2.시군 연령별 한국인(각세)'!BH31 -> 1024 | BI30: ='2-2.시군 연령별 한국인(각세)'!BI31 -> 767 | BJ30: =BK30+BL30 -> 804 | BK30: ='2-2.시군 연령별 한국인(각세)'!BK31 -> 497 | BL30: ='2-2.시군 연령별 한국인(각세)'!BL31 -> 307 | BM30: =BN30+BO30 -> 1711 | BN30: ='2-2.시군 연령별 한국인(각세)'!BN31 -> 989 | BO30: ='2-2.시군 연령별 한국인(각세)'!BO31 -> 722 | BP30: =BQ30+BR30 -> 332 | BQ30: ='2-2.시군 연령별 한국인(각세)'!BQ31 -> 192 | BR30: ='2-2.시군 연령별 한국인(각세)'!BR31 -> 140
A31: 25-29 | B31: =C31+D31 -> 126341 | C31: ='2-2.시군 연령별 한국인(각세)'!C37 -> 72721 | D31: ='2-2.시군 연령별 한국인(각세)'!D37 -> 53620 | E31: =F31+G31 -> 26915 | F31: ='2-2.시군 연령별 한국인(각세)'!F37 -> 15873 | G31: ='2-2.시군 연령별 한국인(각세)'!G37 -> 11042 | H31: =I31+J31 -> 11456 | I31: ='2-2.시군 연령별 한국인(각세)'!I37 -> 6482 | J31: ='2-2.시군 연령별 한국인(각세)'!J37 -> 4974 | K31: =L31+M31 -> 6295 | L31: ='2-2.시군 연령별 한국인(각세)'!L37 -> 3555 | M31: ='2-2.시군 연령별 한국인(각세)'!M37 -> 2740 | N31: =O31+P31 -> 7488 | O31: ='2-2.시군 연령별 한국인(각세)'!O37 -> 4007 | P31: ='2-2.시군 연령별 한국인(각세)'!P37 -> 3481 | Q31: =R31+S31 -> 25948 | R31: ='2-2.시군 연령별 한국인(각세)'!R37 -> 14995 | S31: ='2-2.시군 연령별 한국인(각세)'!S37 -> 10953 | T31: =U31+V31 -> 4149 | U31: ='2-2.시군 연령별 한국인(각세)'!U37 -> 2385 | V31: ='2-2.시군 연령별 한국인(각세)'!V37 -> 1764 | W31: =X31+Y31 -> 4292 | X31: ='2-2.시군 연령별 한국인(각세)'!X37 -> 2488 | Y31: ='2-2.시군 연령별 한국인(각세)'!Y37 -> 1804 | Z31: =AA31+AB31 -> 3178 | AA31: ='2-2.시군 연령별 한국인(각세)'!AA37 -> 1805 | AB31: ='2-2.시군 연령별 한국인(각세)'!AB37 -> 1373 | AC31: =AD31+AE31 -> 2524 | AD31: ='2-2.시군 연령별 한국인(각세)'!AD37 -> 1434 | AE31: ='2-2.시군 연령별 한국인(각세)'!AE37 -> 1090 | AF31: =AG31+AH31 -> 17035 | AG31: ='2-2.시군 연령별 한국인(각세)'!AG37 -> 9573 | AH31: ='2-2.시군 연령별 한국인(각세)'!AH37 -> 7462 | AI31: =AJ31+AK31 -> 1255 | AJ31: ='2-2.시군 연령별 한국인(각세)'!AJ37 -> 728 | AK31: ='2-2.시군 연령별 한국인(각세)'!AK37 -> 527 | AL31: =AM31+AN31 -> 717 | AM31: ='2-2.시군 연령별 한국인(각세)'!AM37 -> 448 | AN31: ='2-2.시군 연령별 한국인(각세)'!AN37 -> 269 | AO31: =AP31+AQ31 -> 412 | AP31: ='2-2.시군 연령별 한국인(각세)'!AP37 -> 236 | AQ31: ='2-2.시군 연령별 한국인(각세)'!AQ37 -> 176 | AR31: =AS31+AT31 -> 954 | AS31: ='2-2.시군 연령별 한국인(각세)'!AS37 -> 560 | AT31: ='2-2.시군 연령별 한국인(각세)'!AT37 -> 394 | AU31: =AV31+AW31 -> 1072 | AV31: ='2-2.시군 연령별 한국인(각세)'!AV37 -> 616 | AW31: ='2-2.시군 연령별 한국인(각세)'!AW37 -> 456 | AX31: =AY31+AZ31 -> 1057 | AY31: ='2-2.시군 연령별 한국인(각세)'!AY37 -> 616 | AZ31: ='2-2.시군 연령별 한국인(각세)'!AZ37 -> 441 | BA31: =BB31+BC31 -> 1348 | BB31: ='2-2.시군 연령별 한국인(각세)'!BB37 -> 824 | BC31: ='2-2.시군 연령별 한국인(각세)'!BC37 -> 524 | BD31: =BE31+BF31 -> 4982 | BE31: ='2-2.시군 연령별 한국인(각세)'!BE37 -> 2943 | BF31: ='2-2.시군 연령별 한국인(각세)'!BF37 -> 2039 | BG31: =BH31+BI31 -> 1955 | BH31: ='2-2.시군 연령별 한국인(각세)'!BH37 -> 1058 | BI31: ='2-2.시군 연령별 한국인(각세)'!BI37 -> 897 | BJ31: =BK31+BL31 -> 724 | BK31: ='2-2.시군 연령별 한국인(각세)'!BK37 -> 437 | BL31: ='2-2.시군 연령별 한국인(각세)'!BL37 -> 287 | BM31: =BN31+BO31 -> 2129 | BN31: ='2-2.시군 연령별 한국인(각세)'!BN37 -> 1349 | BO31: ='2-2.시군 연령별 한국인(각세)'!BO37 -> 780 | BP31: =BQ31+BR31 -> 456 | BQ31: ='2-2.시군 연령별 한국인(각세)'!BQ37 -> 309 | BR31: ='2-2.시군 연령별 한국인(각세)'!BR37 -> 147
A32: 30-34 | B32: =C32+D32 -> 128315 | C32: ='2-2.시군 연령별 한국인(각세)'!C43 -> 71365 | D32: ='2-2.시군 연령별 한국인(각세)'!D43 -> 56950 | E32: =F32+G32 -> 27230 | F32: ='2-2.시군 연령별 한국인(각세)'!F43 -> 15480 | G32: ='2-2.시군 연령별 한국인(각세)'!G43 -> 11750 | H32: =I32+J32 -> 11641 | I32: ='2-2.시군 연령별 한국인(각세)'!I43 -> 6480 | J32: ='2-2.시군 연령별 한국인(각세)'!J43 -> 5161 | K32: =L32+M32 -> 6812 | L32: ='2-2.시군 연령별 한국인(각세)'!L43 -> 3730 | M32: ='2-2.시군 연령별 한국인(각세)'!M43 -> 3082 | N32: =O32+P32 -> 7076 | O32: ='2-2.시군 연령별 한국인(각세)'!O43 -> 3866 | P32: ='2-2.시군 연령별 한국인(각세)'!P43 -> 3210 | Q32: =R32+S32 -> 28585 | R32: ='2-2.시군 연령별 한국인(각세)'!R43 -> 15619 | S32: ='2-2.시군 연령별 한국인(각세)'!S43 -> 12966 | T32: =U32+V32 -> 3801 | U32: ='2-2.시군 연령별 한국인(각세)'!U43 -> 2196 | V32: ='2-2.시군 연령별 한국인(각세)'!V43 -> 1605 | W32: =X32+Y32 -> 4288 | X32: ='2-2.시군 연령별 한국인(각세)'!X43 -> 2383 | Y32: ='2-2.시군 연령별 한국인(각세)'!Y43 -> 1905 | Z32: =AA32+AB32 -> 3007 | AA32: ='2-2.시군 연령별 한국인(각세)'!AA43 -> 1625 | AB32: ='2-2.시군 연령별 한국인(각세)'!AB43 -> 1382 | AC32: =AD32+AE32 -> 2269 | AD32: ='2-2.시군 연령별 한국인(각세)'!AD43 -> 1225 | AE32: ='2-2.시군 연령별 한국인(각세)'!AE43 -> 1044 | AF32: =AG32+AH32 -> 16020 | AG32: ='2-2.시군 연령별 한국인(각세)'!AG43 -> 8936 | AH32: ='2-2.시군 연령별 한국인(각세)'!AH43 -> 7084 | AI32: =AJ32+AK32 -> 1407 | AJ32: ='2-2.시군 연령별 한국인(각세)'!AJ43 -> 779 | AK32: ='2-2.시군 연령별 한국인(각세)'!AK43 -> 628 | AL32: =AM32+AN32 -> 740 | AM32: ='2-2.시군 연령별 한국인(각세)'!AM43 -> 470 | AN32: ='2-2.시군 연령별 한국인(각세)'!AN43 -> 270 | AO32: =AP32+AQ32 -> 433 | AP32: ='2-2.시군 연령별 한국인(각세)'!AP43 -> 241 | AQ32: ='2-2.시군 연령별 한국인(각세)'!AQ43 -> 192 | AR32: =AS32+AT32 -> 966 | AS32: ='2-2.시군 연령별 한국인(각세)'!AS43 -> 544 | AT32: ='2-2.시군 연령별 한국인(각세)'!AT43 -> 422 | AU32: =AV32+AW32 -> 1106 | AV32: ='2-2.시군 연령별 한국인(각세)'!AV43 -> 607 | AW32: ='2-2.시군 연령별 한국인(각세)'!AW43 -> 499 | AX32: =AY32+AZ32 -> 922 | AY32: ='2-2.시군 연령별 한국인(각세)'!AY43 -> 508 | AZ32: ='2-2.시군 연령별 한국인(각세)'!AZ43 -> 414 | BA32: =BB32+BC32 -> 1466 | BB32: ='2-2.시군 연령별 한국인(각세)'!BB43 -> 862 | BC32: ='2-2.시군 연령별 한국인(각세)'!BC43 -> 604 | BD32: =BE32+BF32 -> 5239 | BE32: ='2-2.시군 연령별 한국인(각세)'!BE43 -> 2912 | BF32: ='2-2.시군 연령별 한국인(각세)'!BF43 -> 2327 | BG32: =BH32+BI32 -> 2307 | BH32: ='2-2.시군 연령별 한국인(각세)'!BH43 -> 1169 | BI32: ='2-2.시군 연령별 한국인(각세)'!BI43 -> 1138 | BJ32: =BK32+BL32 -> 676 | BK32: ='2-2.시군 연령별 한국인(각세)'!BK43 -> 393 | BL32: ='2-2.시군 연령별 한국인(각세)'!BL43 -> 283 | BM32: =BN32+BO32 -> 1908 | BN32: ='2-2.시군 연령별 한국인(각세)'!BN43 -> 1083 | BO32: ='2-2.시군 연령별 한국인(각세)'!BO43 -> 825 | BP32: =BQ32+BR32 -> 416 | BQ32: ='2-2.시군 연령별 한국인(각세)'!BQ43 -> 257 | BR32: ='2-2.시군 연령별 한국인(각세)'!BR43 -> 159
A33: 35-39 | B33: =C33+D33 -> 129016 | C33: ='2-2.시군 연령별 한국인(각세)'!C49 -> 68838 | D33: ='2-2.시군 연령별 한국인(각세)'!D49 -> 60178 | E33: =F33+G33 -> 26529 | F33: ='2-2.시군 연령별 한국인(각세)'!F49 -> 13916 | G33: ='2-2.시군 연령별 한국인(각세)'!G49 -> 12613 | H33: =I33+J33 -> 11180 | I33: ='2-2.시군 연령별 한국인(각세)'!I49 -> 5898 | J33: ='2-2.시군 연령별 한국인(각세)'!J49 -> 5282 | K33: =L33+M33 -> 6680 | L33: ='2-2.시군 연령별 한국인(각세)'!L49 -> 3470 | M33: ='2-2.시군 연령별 한국인(각세)'!M49 -> 3210 | N33: =O33+P33 -> 6792 | O33: ='2-2.시군 연령별 한국인(각세)'!O49 -> 3569 | P33: ='2-2.시군 연령별 한국인(각세)'!P49 -> 3223 | Q33: =R33+S33 -> 30058 | R33: ='2-2.시군 연령별 한국인(각세)'!R49 -> 16146 | S33: ='2-2.시군 연령별 한국인(각세)'!S49 -> 13912 | T33: =U33+V33 -> 3725 | U33: ='2-2.시군 연령별 한국인(각세)'!U49 -> 1981 | V33: ='2-2.시군 연령별 한국인(각세)'!V49 -> 1744 | W33: =X33+Y33 -> 4274 | X33: ='2-2.시군 연령별 한국인(각세)'!X49 -> 2310 | Y33: ='2-2.시군 연령별 한국인(각세)'!Y49 -> 1964 | Z33: =AA33+AB33 -> 3377 | AA33: ='2-2.시군 연령별 한국인(각세)'!AA49 -> 1784 | AB33: ='2-2.시군 연령별 한국인(각세)'!AB49 -> 1593 | AC33: =AD33+AE33 -> 2561 | AD33: ='2-2.시군 연령별 한국인(각세)'!AD49 -> 1356 | AE33: ='2-2.시군 연령별 한국인(각세)'!AE49 -> 1205 | AF33: =AG33+AH33 -> 14738 | AG33: ='2-2.시군 연령별 한국인(각세)'!AG49 -> 7936 | AH33: ='2-2.시군 연령별 한국인(각세)'!AH49 -> 6802 | AI33: =AJ33+AK33 -> 1452 | AJ33: ='2-2.시군 연령별 한국인(각세)'!AJ49 -> 831 | AK33: ='2-2.시군 연령별 한국인(각세)'!AK49 -> 621 | AL33: =AM33+AN33 -> 741 | AM33: ='2-2.시군 연령별 한국인(각세)'!AM49 -> 434 | AN33: ='2-2.시군 연령별 한국인(각세)'!AN49 -> 307 | AO33: =AP33+AQ33 -> 442 | AP33: ='2-2.시군 연령별 한국인(각세)'!AP49 -> 240 | AQ33: ='2-2.시군 연령별 한국인(각세)'!AQ49 -> 202 | AR33: =AS33+AT33 -> 977 | AS33: ='2-2.시군 연령별 한국인(각세)'!AS49 -> 488 | AT33: ='2-2.시군 연령별 한국인(각세)'!AT49 -> 489 | AU33: =AV33+AW33 -> 1142 | AV33: ='2-2.시군 연령별 한국인(각세)'!AV49 -> 625 | AW33: ='2-2.시군 연령별 한국인(각세)'!AW49 -> 517 | AX33: =AY33+AZ33 -> 925 | AY33: ='2-2.시군 연령별 한국인(각세)'!AY49 -> 501 | AZ33: ='2-2.시군 연령별 한국인(각세)'!AZ49 -> 424 | BA33: =BB33+BC33 -> 1469 | BB33: ='2-2.시군 연령별 한국인(각세)'!BB49 -> 820 | BC33: ='2-2.시군 연령별 한국인(각세)'!BC49 -> 649 | BD33: =BE33+BF33 -> 6266 | BE33: ='2-2.시군 연령별 한국인(각세)'!BE49 -> 3417 | BF33: ='2-2.시군 연령별 한국인(각세)'!BF49 -> 2849 | BG33: =BH33+BI33 -> 2695 | BH33: ='2-2.시군 연령별 한국인(각세)'!BH49 -> 1398 | BI33: ='2-2.시군 연령별 한국인(각세)'!BI49 -> 1297 | BJ33: =BK33+BL33 -> 778 | BK33: ='2-2.시군 연령별 한국인(각세)'!BK49 -> 442 | BL33: ='2-2.시군 연령별 한국인(각세)'!BL49 -> 336 | BM33: =BN33+BO33 -> 1831 | BN33: ='2-2.시군 연령별 한국인(각세)'!BN49 -> 1025 | BO33: ='2-2.시군 연령별 한국인(각세)'!BO49 -> 806 | BP33: =BQ33+BR33 -> 384 | BQ33: ='2-2.시군 연령별 한국인(각세)'!BQ49 -> 251 | BR33: ='2-2.시군 연령별 한국인(각세)'!BR49 -> 133
A34: 40-44 | B34: =C34+D34 -> 176154 | C34: ='2-2.시군 연령별 한국인(각세)'!C55 -> 91746 | D34: ='2-2.시군 연령별 한국인(각세)'!D55 -> 84408 | E34: =F34+G34 -> 37677 | F34: ='2-2.시군 연령별 한국인(각세)'!F55 -> 19363 | G34: ='2-2.시군 연령별 한국인(각세)'!G55 -> 18314 | H34: =I34+J34 -> 15961 | I34: ='2-2.시군 연령별 한국인(각세)'!I55 -> 8394 | J34: ='2-2.시군 연령별 한국인(각세)'!J55 -> 7567 | K34: =L34+M34 -> 9141 | L34: ='2-2.시군 연령별 한국인(각세)'!L55 -> 4784 | M34: ='2-2.시군 연령별 한국인(각세)'!M55 -> 4357 | N34: =O34+P34 -> 9499 | O34: ='2-2.시군 연령별 한국인(각세)'!O55 -> 4759 | P34: ='2-2.시군 연령별 한국인(각세)'!P55 -> 4740 | Q34: =R34+S34 -> 37409 | R34: ='2-2.시군 연령별 한국인(각세)'!R55 -> 19370 | S34: ='2-2.시군 연령별 한국인(각세)'!S55 -> 18039 | T34: =U34+V34 -> 5598 | U34: ='2-2.시군 연령별 한국인(각세)'!U55 -> 2851 | V34: ='2-2.시군 연령별 한국인(각세)'!V55 -> 2747 | W34: =X34+Y34 -> 5443 | X34: ='2-2.시군 연령별 한국인(각세)'!X55 -> 3000 | Y34: ='2-2.시군 연령별 한국인(각세)'!Y55 -> 2443 | Z34: =AA34+AB34 -> 4746 | AA34: ='2-2.시군 연령별 한국인(각세)'!AA55 -> 2496 | AB34: ='2-2.시군 연령별 한국인(각세)'!AB55 -> 2250 | AC34: =AD34+AE34 -> 3565 | AD34: ='2-2.시군 연령별 한국인(각세)'!AD55 -> 1850 | AE34: ='2-2.시군 연령별 한국인(각세)'!AE55 -> 1715 | AF34: =AG34+AH34 -> 19604 | AG34: ='2-2.시군 연령별 한국인(각세)'!AG55 -> 10082 | AH34: ='2-2.시군 연령별 한국인(각세)'!AH55 -> 9522 | AI34: =AJ34+AK34 -> 1865 | AJ34: ='2-2.시군 연령별 한국인(각세)'!AJ55 -> 1072 | AK34: ='2-2.시군 연령별 한국인(각세)'!AK55 -> 793 | AL34: =AM34+AN34 -> 951 | AM34: ='2-2.시군 연령별 한국인(각세)'!AM55 -> 522 | AN34: ='2-2.시군 연령별 한국인(각세)'!AN55 -> 429 | AO34: =AP34+AQ34 -> 612 | AP34: ='2-2.시군 연령별 한국인(각세)'!AP55 -> 341 | AQ34: ='2-2.시군 연령별 한국인(각세)'!AQ55 -> 271 | AR34: =AS34+AT34 -> 1484 | AS34: ='2-2.시군 연령별 한국인(각세)'!AS55 -> 785 | AT34: ='2-2.시군 연령별 한국인(각세)'!AT55 -> 699 | AU34: =AV34+AW34 -> 1855 | AV34: ='2-2.시군 연령별 한국인(각세)'!AV55 -> 982 | AW34: ='2-2.시군 연령별 한국인(각세)'!AW55 -> 873 | AX34: =AY34+AZ34 -> 1462 | AY34: ='2-2.시군 연령별 한국인(각세)'!AY55 -> 806 | AZ34: ='2-2.시군 연령별 한국인(각세)'!AZ55 -> 656 | BA34: =BB34+BC34 -> 1923 | BB34: ='2-2.시군 연령별 한국인(각세)'!BB55 -> 1098 | BC34: ='2-2.시군 연령별 한국인(각세)'!BC55 -> 825 | BD34: =BE34+BF34 -> 9432 | BE34: ='2-2.시군 연령별 한국인(각세)'!BE55 -> 5106 | BF34: ='2-2.시군 연령별 한국인(각세)'!BF55 -> 4326 | BG34: =BH34+BI34 -> 3612 | BH34: ='2-2.시군 연령별 한국인(각세)'!BH55 -> 1778 | BI34: ='2-2.시군 연령별 한국인(각세)'!BI55 -> 1834 | BJ34: =BK34+BL34 -> 1203 | BK34: ='2-2.시군 연령별 한국인(각세)'!BK55 -> 660 | BL34: ='2-2.시군 연령별 한국인(각세)'!BL55 -> 543 | BM34: =BN34+BO34 -> 2561 | BN34: ='2-2.시군 연령별 한국인(각세)'!BN55 -> 1309 | BO34: ='2-2.시군 연령별 한국인(각세)'!BO55 -> 1252 | BP34: =BQ34+BR34 -> 551 | BQ34: ='2-2.시군 연령별 한국인(각세)'!BQ55 -> 338 | BR34: ='2-2.시군 연령별 한국인(각세)'!BR55 -> 213
A35: 45-49 | B35: =C35+D35 -> 177461 | C35: ='2-2.시군 연령별 한국인(각세)'!C61 -> 92262 | D35: ='2-2.시군 연령별 한국인(각세)'!D61 -> 85199 | E35: =F35+G35 -> 35780 | F35: ='2-2.시군 연령별 한국인(각세)'!F61 -> 18146 | G35: ='2-2.시군 연령별 한국인(각세)'!G61 -> 17634 | H35: =I35+J35 -> 16733 | I35: ='2-2.시군 연령별 한국인(각세)'!I61 -> 8737 | J35: ='2-2.시군 연령별 한국인(각세)'!J61 -> 7996 | K35: =L35+M35 -> 9050 | L35: ='2-2.시군 연령별 한국인(각세)'!L61 -> 4745 | M35: ='2-2.시군 연령별 한국인(각세)'!M61 -> 4305 | N35: =O35+P35 -> 10498 | O35: ='2-2.시군 연령별 한국인(각세)'!O61 -> 5351 | P35: ='2-2.시군 연령별 한국인(각세)'!P61 -> 5147 | Q35: =R35+S35 -> 33891 | R35: ='2-2.시군 연령별 한국인(각세)'!R61 -> 16935 | S35: ='2-2.시군 연령별 한국인(각세)'!S61 -> 16956 | T35: =U35+V35 -> 6533 | U35: ='2-2.시군 연령별 한국인(각세)'!U61 -> 3319 | V35: ='2-2.시군 연령별 한국인(각세)'!V61 -> 3214 | W35: =X35+Y35 -> 5969 | X35: ='2-2.시군 연령별 한국인(각세)'!X61 -> 3319 | Y35: ='2-2.시군 연령별 한국인(각세)'!Y61 -> 2650 | Z35: =AA35+AB35 -> 5398 | AA35: ='2-2.시군 연령별 한국인(각세)'!AA61 -> 2858 | AB35: ='2-2.시군 연령별 한국인(각세)'!AB61 -> 2540 | AC35: =AD35+AE35 -> 4127 | AD35: ='2-2.시군 연령별 한국인(각세)'!AD61 -> 2184 | AE35: ='2-2.시군 연령별 한국인(각세)'!AE61 -> 1943 | AF35: =AG35+AH35 -> 19476 | AG35: ='2-2.시군 연령별 한국인(각세)'!AG61 -> 9973 | AH35: ='2-2.시군 연령별 한국인(각세)'!AH61 -> 9503 | AI35: =AJ35+AK35 -> 2168 | AJ35: ='2-2.시군 연령별 한국인(각세)'!AJ61 -> 1297 | AK35: ='2-2.시군 연령별 한국인(각세)'!AK61 -> 871 | AL35: =AM35+AN35 -> 1082 | AM35: ='2-2.시군 연령별 한국인(각세)'!AM61 -> 611 | AN35: ='2-2.시군 연령별 한국인(각세)'!AN61 -> 471 | AO35: =AP35+AQ35 -> 756 | AP35: ='2-2.시군 연령별 한국인(각세)'!AP61 -> 449 | AQ35: ='2-2.시군 연령별 한국인(각세)'!AQ61 -> 307 | AR35: =AS35+AT35 -> 1707 | AS35: ='2-2.시군 연령별 한국인(각세)'!AS61 -> 905 | AT35: ='2-2.시군 연령별 한국인(각세)'!AT61 -> 802 | AU35: =AV35+AW35 -> 2025 | AV35: ='2-2.시군 연령별 한국인(각세)'!AV61 -> 1174 | AW35: ='2-2.시군 연령별 한국인(각세)'!AW61 -> 851 | AX35: =AY35+AZ35 -> 1736 | AY35: ='2-2.시군 연령별 한국인(각세)'!AY61 -> 967 | AZ35: ='2-2.시군 연령별 한국인(각세)'!AZ61 -> 769 | BA35: =BB35+BC35 -> 2200 | BB35: ='2-2.시군 연령별 한국인(각세)'!BB61 -> 1323 | BC35: ='2-2.시군 연령별 한국인(각세)'!BC61 -> 877 | BD35: =BE35+BF35 -> 9847 | BE35: ='2-2.시군 연령별 한국인(각세)'!BE61 -> 5270 | BF35: ='2-2.시군 연령별 한국인(각세)'!BF61 -> 4577 | BG35: =BH35+BI35 -> 3475 | BH35: ='2-2.시군 연령별 한국인(각세)'!BH61 -> 1847 | BI35: ='2-2.시군 연령별 한국인(각세)'!BI61 -> 1628 | BJ35: =BK35+BL35 -> 1466 | BK35: ='2-2.시군 연령별 한국인(각세)'!BK61 -> 868 | BL35: ='2-2.시군 연령별 한국인(각세)'!BL61 -> 598 | BM35: =BN35+BO35 -> 2918 | BN35: ='2-2.시군 연령별 한국인(각세)'!BN61 -> 1586 | BO35: ='2-2.시군 연령별 한국인(각세)'!BO61 -> 1332 | BP35: =BQ35+BR35 -> 626 | BQ35: ='2-2.시군 연령별 한국인(각세)'!BQ61 -> 398 | BR35: ='2-2.시군 연령별 한국인(각세)'!BR61 -> 228
A36: 50-54 | B36: =C36+D36 -> 218225 | C36: ='2-2.시군 연령별 한국인(각세)'!C67 -> 113710 | D36: ='2-2.시군 연령별 한국인(각세)'!D67 -> 104515 | E36: =F36+G36 -> 43023 | F36: ='2-2.시군 연령별 한국인(각세)'!F67 -> 21463 | G36: ='2-2.시군 연령별 한국인(각세)'!G67 -> 21560 | H36: =I36+J36 -> 22503 | I36: ='2-2.시군 연령별 한국인(각세)'!I67 -> 11609 | J36: ='2-2.시군 연령별 한국인(각세)'!J67 -> 10894 | K36: =L36+M36 -> 11055 | L36: ='2-2.시군 연령별 한국인(각세)'!L67 -> 5753 | M36: ='2-2.시군 연령별 한국인(각세)'!M67 -> 5302 | N36: =O36+P36 -> 12754 | O36: ='2-2.시군 연령별 한국인(각세)'!O67 -> 6737 | P36: ='2-2.시군 연령별 한국인(각세)'!P67 -> 6017 | Q36: =R36+S36 -> 37242 | R36: ='2-2.시군 연령별 한국인(각세)'!R67 -> 18731 | S36: ='2-2.시군 연령별 한국인(각세)'!S67 -> 18511 | T36: =U36+V36 -> 8380 | U36: ='2-2.시군 연령별 한국인(각세)'!U67 -> 4451 | V36: ='2-2.시군 연령별 한국인(각세)'!V67 -> 3929 | W36: =X36+Y36 -> 8039 | X36: ='2-2.시군 연령별 한국인(각세)'!X67 -> 4360 | Y36: ='2-2.시군 연령별 한국인(각세)'!Y67 -> 3679 | Z36: =AA36+AB36 -> 7169 | AA36: ='2-2.시군 연령별 한국인(각세)'!AA67 -> 3868 | AB36: ='2-2.시군 연령별 한국인(각세)'!AB67 -> 3301 | AC36: =AD36+AE36 -> 5200 | AD36: ='2-2.시군 연령별 한국인(각세)'!AD67 -> 2774 | AE36: ='2-2.시군 연령별 한국인(각세)'!AE67 -> 2426 | AF36: =AG36+AH36 -> 23896 | AG36: ='2-2.시군 연령별 한국인(각세)'!AG67 -> 11891 | AH36: ='2-2.시군 연령별 한국인(각세)'!AH67 -> 12005 | AI36: =AJ36+AK36 -> 3209 | AJ36: ='2-2.시군 연령별 한국인(각세)'!AJ67 -> 1840 | AK36: ='2-2.시군 연령별 한국인(각세)'!AK67 -> 1369 | AL36: =AM36+AN36 -> 1674 | AM36: ='2-2.시군 연령별 한국인(각세)'!AM67 -> 956 | AN36: ='2-2.시군 연령별 한국인(각세)'!AN67 -> 718 | AO36: =AP36+AQ36 -> 1197 | AP36: ='2-2.시군 연령별 한국인(각세)'!AP67 -> 728 | AQ36: ='2-2.시군 연령별 한국인(각세)'!AQ67 -> 469 | AR36: =AS36+AT36 -> 2585 | AS36: ='2-2.시군 연령별 한국인(각세)'!AS67 -> 1489 | AT36: ='2-2.시군 연령별 한국인(각세)'!AT67 -> 1096 | AU36: =AV36+AW36 -> 2960 | AV36: ='2-2.시군 연령별 한국인(각세)'!AV67 -> 1610 | AW36: ='2-2.시군 연령별 한국인(각세)'!AW67 -> 1350 | AX36: =AY36+AZ36 -> 2528 | AY36: ='2-2.시군 연령별 한국인(각세)'!AY67 -> 1469 | AZ36: ='2-2.시군 연령별 한국인(각세)'!AZ67 -> 1059 | BA36: =BB36+BC36 -> 3192 | BB36: ='2-2.시군 연령별 한국인(각세)'!BB67 -> 1889 | BC36: ='2-2.시군 연령별 한국인(각세)'!BC67 -> 1303 | BD36: =BE36+BF36 -> 11007 | BE36: ='2-2.시군 연령별 한국인(각세)'!BE67 -> 6029 | BF36: ='2-2.시군 연령별 한국인(각세)'!BF67 -> 4978 | BG36: =BH36+BI36 -> 3684 | BH36: ='2-2.시군 연령별 한국인(각세)'!BH67 -> 2087 | BI36: ='2-2.시군 연령별 한국인(각세)'!BI67 -> 1597 | BJ36: =BK36+BL36 -> 2110 | BK36: ='2-2.시군 연령별 한국인(각세)'!BK67 -> 1215 | BL36: ='2-2.시군 연령별 한국인(각세)'!BL67 -> 895 | BM36: =BN36+BO36 -> 3929 | BN36: ='2-2.시군 연령별 한국인(각세)'!BN67 -> 2213 | BO36: ='2-2.시군 연령별 한국인(각세)'!BO67 -> 1716 | BP36: =BQ36+BR36 -> 889 | BQ36: ='2-2.시군 연령별 한국인(각세)'!BQ67 -> 548 | BR36: ='2-2.시군 연령별 한국인(각세)'!BR67 -> 341
A37: 55-59 | B37: =C37+D37 -> 226676 | C37: ='2-2.시군 연령별 한국인(각세)'!C73 -> 116950 | D37: ='2-2.시군 연령별 한국인(각세)'!D73 -> 109726 | E37: =F37+G37 -> 43688 | F37: ='2-2.시군 연령별 한국인(각세)'!F73 -> 21957 | G37: ='2-2.시군 연령별 한국인(각세)'!G73 -> 21731 | H37: =I37+J37 -> 23605 | I37: ='2-2.시군 연령별 한국인(각세)'!I73 -> 12123 | J37: ='2-2.시군 연령별 한국인(각세)'!J73 -> 11482 | K37: =L37+M37 -> 11934 | L37: ='2-2.시군 연령별 한국인(각세)'!L73 -> 6176 | M37: ='2-2.시군 연령별 한국인(각세)'!M73 -> 5758 | N37: =O37+P37 -> 12827 | O37: ='2-2.시군 연령별 한국인(각세)'!O73 -> 6609 | P37: ='2-2.시군 연령별 한국인(각세)'!P73 -> 6218 | Q37: =R37+S37 -> 34347 | R37: ='2-2.시군 연령별 한국인(각세)'!R73 -> 17271 | S37: ='2-2.시군 연령별 한국인(각세)'!S73 -> 17076 | T37: =U37+V37 -> 8776 | U37: ='2-2.시군 연령별 한국인(각세)'!U73 -> 4491 | V37: ='2-2.시군 연령별 한국인(각세)'!V73 -> 4285 | W37: =X37+Y37 -> 9678 | X37: ='2-2.시군 연령별 한국인(각세)'!X73 -> 5210 | Y37: ='2-2.시군 연령별 한국인(각세)'!Y73 -> 4468 | Z37: =AA37+AB37 -> 8281 | AA37: ='2-2.시군 연령별 한국인(각세)'!AA73 -> 4315 | AB37: ='2-2.시군 연령별 한국인(각세)'!AB73 -> 3966 | AC37: =AD37+AE37 -> 6002 | AD37: ='2-2.시군 연령별 한국인(각세)'!AD73 -> 3099 | AE37: ='2-2.시군 연령별 한국인(각세)'!AE73 -> 2903 | AF37: =AG37+AH37 -> 22980 | AG37: ='2-2.시군 연령별 한국인(각세)'!AG73 -> 11541 | AH37: ='2-2.시군 연령별 한국인(각세)'!AH73 -> 11439 | AI37: =AJ37+AK37 -> 4478 | AJ37: ='2-2.시군 연령별 한국인(각세)'!AJ73 -> 2497 | AK37: ='2-2.시군 연령별 한국인(각세)'!AK73 -> 1981 | AL37: =AM37+AN37 -> 2369 | AM37: ='2-2.시군 연령별 한국인(각세)'!AM73 -> 1261 | AN37: ='2-2.시군 연령별 한국인(각세)'!AN73 -> 1108 | AO37: =AP37+AQ37 -> 1451 | AP37: ='2-2.시군 연령별 한국인(각세)'!AP73 -> 817 | AQ37: ='2-2.시군 연령별 한국인(각세)'!AQ73 -> 634 | AR37: =AS37+AT37 -> 3066 | AS37: ='2-2.시군 연령별 한국인(각세)'!AS73 -> 1634 | AT37: ='2-2.시군 연령별 한국인(각세)'!AT73 -> 1432 | AU37: =AV37+AW37 -> 3817 | AV37: ='2-2.시군 연령별 한국인(각세)'!AV73 -> 2036 | AW37: ='2-2.시군 연령별 한국인(각세)'!AW73 -> 1781 | AX37: =AY37+AZ37 -> 2991 | AY37: ='2-2.시군 연령별 한국인(각세)'!AY73 -> 1656 | AZ37: ='2-2.시군 연령별 한국인(각세)'!AZ73 -> 1335 | BA37: =BB37+BC37 -> 4341 | BB37: ='2-2.시군 연령별 한국인(각세)'!BB73 -> 2346 | BC37: ='2-2.시군 연령별 한국인(각세)'!BC73 -> 1995 | BD37: =BE37+BF37 -> 10048 | BE37: ='2-2.시군 연령별 한국인(각세)'!BE73 -> 5412 | BF37: ='2-2.시군 연령별 한국인(각세)'!BF73 -> 4636 | BG37: =BH37+BI37 -> 4031 | BH37: ='2-2.시군 연령별 한국인(각세)'!BH73 -> 2091 | BI37: ='2-2.시군 연령별 한국인(각세)'!BI73 -> 1940 | BJ37: =BK37+BL37 -> 2833 | BK37: ='2-2.시군 연령별 한국인(각세)'!BK73 -> 1553 | BL37: ='2-2.시군 연령별 한국인(각세)'!BL73 -> 1280 | BM37: =BN37+BO37 -> 4193 | BN37: ='2-2.시군 연령별 한국인(각세)'!BN73 -> 2304 | BO37: ='2-2.시군 연령별 한국인(각세)'!BO73 -> 1889 | BP37: =BQ37+BR37 -> 940 | BQ37: ='2-2.시군 연령별 한국인(각세)'!BQ73 -> 551 | BR37: ='2-2.시군 연령별 한국인(각세)'!BR73 -> 389
