Workbook

Sheet 홍보용(요약)
A1: 2022년 봉화군 과수분야 지원사업
A2: 부서명 | B2: 담당자 | C2: 사업명 | D2: 사업량 | E2: 사업비(천원) | F2: 보조비율(%) | G2: 지원대상 | H2: 추진시기 | I2: 지원내용 | J2: 접수처 | K2: 비고
A3: 계 | C3: =COUNTA(C4:C26) -> 23 | E3: =SUM(E4:E26) -> 7007310
A4: 과수기술팀 | B4: 김대호 | C4: 농작물 병해충 방제비 지원(검역병해충) | D4: 1,800ha | E4: 1240000 | F4: 1 | G4: 과수재배 농업인 | H4: 1월 ~ 12월 | I4: 화상병 방제비 지원 700천원/ha | J4: 읍·면 농 협
A5: 과수기술팀 | B5: 김귀영 | C5: 원격 병해충 방제 생력화체계 구축 시범사업 | D5: 1개 단체 | E5: 142860 | F5: 0.7 | G5: 과수재배 농업인 | H5: 1월 ~ 12월 | I5: 원격, 무인 방제체계 구축 기자재 지원 -스프링클러 : 37,500천원/0.3ha -에어 포그 : 6,000천원/0.5ha | J5: 농업기술센터 과수기술팀
A6: 과수기술팀 | B6: 김귀영 | C6: 과수분야 스마트팜 확산사업 | D6: 2개소 | E6: 40000 | F6: 0.65 | G6: 물야면 2개소 | H6: 1월 ~ 12월 | I6: 노지 과수 스마트팜 기자재지원 | J6: 기 선정 (공모)
A7: 과수기술팀 | B7: 김귀영 | C7: 다목적 농가형 저온저장고 설치 지원사업 | D7: 891㎡ (10평형 - 26동) | E7: 665000 | F7: 0.5 | G7: 농업인, 농업단체 | H7: 1월 ~ 12월 | I7: (신규) 10평이상 25,000천원/동 (개·보수) 개소당 1,250천원/3.3㎡ | J7: 읍·면
A8: 과수기술팀 | B8: 김귀영 | C8: 과수 생력화 장비 지원사업 | D8: 71대 | E8: 889000 | F8: 25%(SS기) 50%(그외) | G8: 과수재배 농업인, 단체 | H8: 1월 ~ 12월 | I8: SS기 20,000천원 /5.000천원 지원 승용예초기 9,000천원/4,500지원 고소작업차 9,000천원/4,500지원 동력분무기 6,000천원/3,000지원 | J8: 읍·면
A9: 과수기술팀 | B9: 김귀영 | C9: 과실 생산비 절감 및 품질제고 지원사업 | D9: 9,520㎡ | E9: 514780 | F9: 0.5 | G9: 과수재배 농업인, 단체 | H9: 1월 ~ 12월 | I9: 친환경 사과적화제 280천원/ha 과실 장기저장제 75천원/3.3㎡당 농업용수처리기 6,000천원/대 비파괴당도측정기 3,300천원/대 신선도유지기 2,500천원/대 | J9: 읍·면 농 협 (적화제 장기저장제)
A10: 과수기술팀 | B10: 김귀영 | C10: FTA대응 대체과수 명품사업 | D10: 10ha | E10: 65000 | F10: 0.5 | G10: 대체과수과수재배 농업인 및 단체 | H10: 1월 ~ 12월 | I10: 대체과수 과원조성 및 기자재 지원 | J10: 읍·면
A11: 과수기술팀 | B11: 김귀영 | C11: 저품위사과 시장격리 수매 지원사업 | D11: 43,000상자 | E11: 344000 | F11: 상자당 8,000원 | G11: 사과재배 농가 | H11: 1월 ~ 12월 | I11: 사전 수요조사 신청必 1상자 20kg/8천원 | J11: 읍·면
A12: 과수기술팀 | B12: 우인덕 | C12: 골든애플단지 조성 시범사업 | D12: 15ha | E12: 835000 | F12: 0.6 | G12: 과수재배 농업인 | H12: 1월 ~ 12월 | I12: 지주, 관수, 묘목비 등 지원 토양정비(배수선택) 사업단가 : 33,500/0.5ha (재식거리 3X1m 이하 기준) | J12: 농업기술센터 과수기술팀
A13: 과수기술팀 | B13: 우인덕 | C13: 지역특화시범사업(친환경 유기사과) | D13: 1개소 | E13: 60000 | F13: 0.8 | G13: 백천사과작목반 | H13: 1월 ~ 12월 | I13: 친환경 컨설팅 및 기자재 등 | J13: 기 선정 (공모)
A14: 과수기술팀 | B14: 이재융 | C14: 우리품종 전문생산단지 조성 시범사업 | D14: 4ha | E14: 140000 | F14: 0.6 | G14: 과수재배 농업인 | H14: 1월 ~ 12월 | I14: 지주, 관설, 묘목비 지원 등 사업단가 : 22,500천원/0.5ha (재식거리 4X2m 기준) | J14: 농업기술센터 과수기술팀
A15: 과수기술팀 | B15: 이재융 | C15: 사과 가정용 소형선별기 지원사업 | D15: 10대 | E15: 70000 | F15: 0.5 | G15: 사과 개인농가 및 단체 | H15: 1월 ~ 6월 | I15: 사과 소형 선별기 지원 단가 : 7,000천원 직거래실적에 따라 우선지원 | J15: 읍·면
A16: 과수기술팀 | B16: 김대호 | C16: 과수 수세안정화 기자재 지원사업 | D16: 2개사업 | E16: 200000 | F16: 0.5 | G16: 과수재배 농업인 | H16: 1월 ~ 12월 | I16: 원형가지유인기, 가지유인 기자재 지원 | J16: 읍·면 농 협
A17: 과수기술팀 | B17: 김대호 | C17: 사과 수출단지 병해충 예찰 시범사업 | D17: 140ha | E17: 50000 | F17: 1 | G17: 해외 사과 수출단체 | H17: 1월 ~ 12월 | I17: 병해충 예찰 컨설팅, 예찰트랩, 품질향상 기자재 지원 | J17: 지정 수출선과장 신청
A18: 과수기술팀 | B18: 김대호 | C18: 글로벌 GAP 인증단체 육성 시범사업 | D18: 1개소 | E18: 50000 | F18: 1 | G18: 글로벌GAP인증단체 | H18: 1월 ~ 12월 | I18: 글로벌 GAP인증 획득을 위한 일괄 컨설팅 및 교육비 등 지원 | J18: 농업기술센터 과수기술팀
A19: 과수기술팀 | B19: 이재융 | C19: 과수 우량묘목 지원사업 | D19: 40,000주 | E19: 400000 | F19: 0.5 | G19: 과수재배 농업인 | H19: 1월 ~ 12월 | I19: 우량 묘목비 지원 단가 : 1주당 10,000원 (묘목계약서 첨부必) | J19: 읍·면
A20: 과수기술팀 | B20: 이재융 | C20: 사과원 고품질 과실 생산기술 컨설팅 시범사업 | D20: 5개소 | E20: 310000 | F20: 0.5 | G20: 사과 재배단체 | H20: 1월 ~ 12월 | I20: 재배기술컨설팅, 친환경자재비 지원 (단체별 기본3년+2년연장 추진) | J20: 농업기술센터 과수기술팀
A21: 과수기술팀 | B21: 이재융 | C21: 과수 결실향상 지원사업 | D21: 60ha | E21: 30000 | F21: 0.5 | G21: 과수재배 농업인 | H21: 1월 ~ 6월 | I21: 인공수분 기자재 지원 (꽃가루, 수정벌, 디스펜서 ) | J21: 읍·면
A22: 과수기술팀 | B22: 김대호 | C22: 기후변화 대응 돌발 병해충 예찰 시범사업 | D22: 40개소 | E22: 50000 | F22: 0.6 | G22: 과수 재배단체 | H22: 1월 ~ 12월 | I22: 나무좀, 노린재 예찰 지원 | J22: 읍·면
A23: 과수기술팀 | B23: 이재융 | C23: 과수 착색향상 기자재 보급 지원사업 | D23: 1,260ha | E23: 630000 | F23: 0.5 | G23: 과수재배 농업인 | H23: 1월 ~ 12월 | I23: 반사필름, 착색제, 친환경반사시트지원 반사필름 단가 : 90,000원/롤 착색제 : 60,000원/2병 친환경시트 : 103,400원~155,100원 | J23: 읍·면 농 협
... A26: 과수기술팀 | B26: 김귀영 | C26: 미래형 사과 다축과원 조성 시범사업 | D26: 3개소 | E26: 116670 | F26: 0.6 | G26: 과수재배 농업인 | H26: 1월 ~ 12월 | I26: 지주, 관수, 묘목비 등 지원 배수시설(선택) 사업단가 : 33,500천원/0.5ha (재식거리 3X1m 이하 기준) | J26: 농업기술센터 과수기술팀

Sheet 홈페이지 게시용
A1: 2022년 봉화군 과수분야 지원사업
A2: 연번 | B2: 사업명 | C2: 사업량 | D2: 사업비 (천원) | E2: 보조비율 (%) | F2: 지원대상 | G2: 지원내용 | H2: 접수처 | I2: 비고
A3: 1 | B3: ='홍보용(요약)'!C4 -> 농작물 병해충 방제비 지원(검역병해충) | C3: ='홍보용(요약)'!D4 -> 1,800ha | D3: ='홍보용(요약)'!E4 -> 1240000 | E3: ='홍보용(요약)'!F4 -> 1 | F3: ='홍보용(요약)'!G4 -> 과수재배 농업인 | G3: ='홍보용(요약)'!I4 -> 화상병 방제비 지원 700천원/ha | H3: 읍·면 농 협
A4: 2 | B4: ='홍보용(요약)'!C5 -> 원격 병해충 방제 생력화체계 구축 시범사업 | C4: ='홍보용(요약)'!D5 -> 1개 단체 | D4: ='홍보용(요약)'!E5 -> 142860 | E4: ='홍보용(요약)'!F5 -> 0.7 | F4: ='홍보용(요약)'!G5 -> 과수재배 농업인 | G4: ='홍보용(요약)'!I5 -> 원격, 무인 방제체계 구축 기자재 지원 -스프링클러 : 37,500천원/0.3ha -에어 포그 : 6,000천원/0.5ha | H4: 농업기술센터 과수기술팀
A5: 3 | B5: ='홍보용(요약)'!C6 -> 과수분야 스마트팜 확산사업 | C5: ='홍보용(요약)'!D6 -> 2개소 | D5: ='홍보용(요약)'!E6 -> 40000 | E5: ='홍보용(요약)'!F6 -> 0.65 | F5: ='홍보용(요약)'!G6 -> 물야면 2개소 | G5: ='홍보용(요약)'!I6 -> 노지 과수 스마트팜 기자재지원 | H5: 기 선정 (공모)
A6: 4 | B6: ='홍보용(요약)'!C7 -> 다목적 농가형 저온저장고 설치 지원사업 | C6: ='홍보용(요약)'!D7 -> 891㎡ (10평형 - 26동) | D6: ='홍보용(요약)'!E7 -> 665000 | E6: ='홍보용(요약)'!F7 -> 0.5 | F6: ='홍보용(요약)'!G7 -> 농업인, 농업단체 | G6: ='홍보용(요약)'!I7 -> (신규) 10평이상 25,000천원/동 (개·보수) 개소당 1,250천원/3.3㎡ | H6: 읍·면
A7: 5 | B7: ='홍보용(요약)'!C8 -> 과수 생력화 장비 지원사업 | C7: ='홍보용(요약)'!D8 -> 71대 | D7: ='홍보용(요약)'!E8 -> 889000 | E7: ='홍보용(요약)'!F8 -> 25%(SS기) 50%(그외) | F7: ='홍보용(요약)'!G8 -> 과수재배 농업인, 단체 | G7: ='홍보용(요약)'!I8 -> SS기 20,000천원 /5.000천원 지원 승용예초기 9,000천원/4,500지원 고소작업차 9,000천원/4,500지원 동력분무기 6,000천원/3,000지원 | H7: 읍·면
A8: 6 | B8: ='홍보용(요약)'!C9 -> 과실 생산비 절감 및 품질제고 지원사업 | C8: ='홍보용(요약)'!D9 -> 9,520㎡ | D8: ='홍보용(요약)'!E9 -> 514780 | E8: ='홍보용(요약)'!F9 -> 0.5 | F8: ='홍보용(요약)'!G9 -> 과수재배 농업인, 단체 | G8: ='홍보용(요약)'!I9 -> 친환경 사과적화제 280천원/ha 과실 장기저장제 75천원/3.3㎡당 농업용수처리기 6,000천원/대 비파괴당도측정기 3,300천원/대 신선도유지기 2,500천원/대 | H8: 읍·면 농 협 (적화제 장기저장제)
A9: 7 | B9: ='홍보용(요약)'!C10 -> FTA대응 대체과수 명품사업 | C9: ='홍보용(요약)'!D10 -> 10ha | D9: ='홍보용(요약)'!E10 -> 65000 | E9: ='홍보용(요약)'!F10 -> 0.5 | F9: ='홍보용(요약)'!G10 -> 대체과수과수재배 농업인 및 단체 | G9: ='홍보용(요약)'!I10 -> 대체과수 과원조성 및 기자재 지원 | H9: 읍·면
A10: 8 | B10: ='홍보용(요약)'!C11 -> 저품위사과 시장격리 수매 지원사업 | C10: ='홍보용(요약)'!D11 -> 43,000상자 | D10: ='홍보용(요약)'!E11 -> 344000 | E10: ='홍보용(요약)'!F11 -> 상자당 8,000원 | F10: ='홍보용(요약)'!G11 -> 사과재배 농가 | G10: ='홍보용(요약)'!I11 -> 사전 수요조사 신청必 1상자 20kg/8천원 | H10: 읍·면
A11: 9 | B11: ='홍보용(요약)'!C12 -> 골든애플단지 조성 시범사업 | C11: ='홍보용(요약)'!D12 -> 15ha | D11: ='홍보용(요약)'!E12 -> 835000 | E11: ='홍보용(요약)'!F12 -> 0.6 | F11: ='홍보용(요약)'!G12 -> 과수재배 농업인 | G11: ='홍보용(요약)'!I12 -> 지주, 관수, 묘목비 등 지원 토양정비(배수선택) 사업단가 : 33,500/0.5ha (재식거리 3X1m 이하 기준) | H11: 농업기술센터 과수기술팀
A12: 10 | B12: ='홍보용(요약)'!C13 -> 지역특화시범사업(친환경 유기사과) | C12: ='홍보용(요약)'!D13 -> 1개소 | D12: ='홍보용(요약)'!E13 -> 60000 | E12: ='홍보용(요약)'!F13 -> 0.8 | F12: ='홍보용(요약)'!G13 -> 백천사과작목반 | G12: ='홍보용(요약)'!I13 -> 친환경 컨설팅 및 기자재 등 | H12: 기 선정 (공모)
A13: 11 | B13: ='홍보용(요약)'!C14 -> 우리품종 전문생산단지 조성 시범사업 | C13: ='홍보용(요약)'!D14 -> 4ha | D13: ='홍보용(요약)'!E14 -> 140000 | E13: ='홍보용(요약)'!F14 -> 0.6 | F13: ='홍보용(요약)'!G14 -> 과수재배 농업인 | G13: ='홍보용(요약)'!I14 -> 지주, 관설, 묘목비 지원 등 사업단가 : 22,500천원/0.5ha (재식거리 4X2m 기준) | H13: 농업기술센터 과수기술팀
A14: 12 | B14: ='홍보용(요약)'!C15 -> 사과 가정용 소형선별기 지원사업 | C14: ='홍보용(요약)'!D15 -> 10대 | D14: ='홍보용(요약)'!E15 -> 70000 | E14: ='홍보용(요약)'!F15 -> 0.5 | F14: ='홍보용(요약)'!G15 -> 사과 개인농가 및 단체 | G14: ='홍보용(요약)'!I15 -> 사과 소형 선별기 지원 단가 : 7,000천원 직거래실적에 따라 우선지원 | H14: 읍·면
... A25: 23 | B25: ='홍보용(요약)'!C26 -> 미래형 사과 다축과원 조성 시범사업 | C25: ='홍보용(요약)'!D26 -> 3개소 | D25: ='홍보용(요약)'!E26 -> 116670 | E25: ='홍보용(요약)'!F26 -> 0.6 | F25: ='홍보용(요약)'!G26 -> 과수재배 농업인 | G25: ='홍보용(요약)'!I26 -> 지주, 관수, 묘목비 등 지원 배수시설(선택) 사업단가 : 33,500천원/0.5ha (재식거리 3X1m 이하 기준) | H25: 농업기술센터 과수기술팀
