Workbook

Sheet 업무담당자용
A1: 2024년 봉화군 과수분야 지원사업
A2: 부서명 | B2: 담당자 | C2: 사업명 | D2: 사업량 | E2: 사업비(천원) | F2: 보조비율(%) | G2: 지원대상 | H2: 추진시기 | I2: 지원내용 | J2: 접수처 | K2: 비고
A3: 계 | C3: =COUNTA(C4:C28) -> 25 | E3: =SUM(E4:E28) -> 10195520
A4: 과수기술팀 | B4: 김대호 | C4: 농작물 병해충 방제비 지원(검역병해충) | D4: 2,000ha | E4: 1200000 | F4: 1 | G4: 과수재배 농업인 | H4: 1월 ~ 12월 | I4: 화상병 방제비 지원 700천원/ha | J4: 읍·면 | K4: 국비+도비
A5: 과수기술팀 | B5: 임종흥 | C5: 과수분야 스마트팜 확산사업 | D5: 2개소 | E5: 26050 | F5: 0.8 | G5: 춘양면, 명호면 | H5: 1월 ~ 11월 | I5: 과수 스마트팜 기자재 지원 | J5: 기 선정 (공모) | K5: 국비
A6: 과수기술팀 | B6: 임종흥 | C6: 다목적 농가형 저온저장고 설치 지원사업 | D6: 11동(10평) | E6: 327000 | F6: 0.5 | G6: 농업인, 농업단체 | H6: 1월 ~ 10월 | I6: (신규) 10평이상 28,000천원/동 (개·보수) 개소당 1,400천원/3.3㎡ | J6: 읍·면 | K6: 도비
A7: 과수기술팀 | B7: 김귀영 | C7: 과수 생력화 장비 지원사업 | D7: 104대 | E7: 1318000 | F7: 25%(SS기) 50%(그외) | G7: 과수재배 농업인, 단체 | H7: 1월 ~ 12월 | I7: SS기 20,000천원 /5.000천원 지원 승용예초기 9,000천원/4,500지원 고소작업차 9,000천원/4,500지원 동력분무기 6,000천원/3,000지원 | J7: 읍·면 | K7: 도비
A8: 과수기술팀 | B8: 김귀영 | C8: 과실 생산비 절감 및 품질제고 지원사업 | D8: 33,150㎡ | E8: 735970 | F8: 0.5 | G8: 과수재배 농업인, 단체 | H8: 1월 ~ 12월 | I8: 친환경 사과적화제 280천원/ha 과실 장기저장제 72천원/3.3㎡당 비파괴당도측정기 3,300천원/대 신선도유지기 2,500천원/대 | J8: 읍·면 농 협 (적화제 장기저장제) | K8: 도비
A9: 과수기술팀 | B9: 김대호 | C9: 저품위사과 시장격리 수매 지원사업 | D9: 41,400상자 | E9: 414000 | F9: 상자당 10,000원 | G9: 사과재배 농업인 | H9: 1월 ~ 12월 | I9: 사전 수요조사 신청必 1상자 20kg/1만원 | J9: 읍·면 | K9: 도비
A10: 과수기술팀 | B10: 김귀영 | C10: 미래형 사과 다축과원 조성 시범사업 | D10: 17ha | E10: 1386000 | F10: 0.6 | G10: 과수재배 농업인 | H10: 1월 ~ 12월 | I10: 지주,관수,배수,묘목비 등 지원 사업단가 : 40,000/0.5ha | J10: 농업기술센터 과수기술팀 | K10: 도비
A11: 과수기술팀 | B11: 김귀영 | C11: 경북 미래형 사과 조성사업 | D11: 4.5ha | E11: 360000 | F11: 0.6 | G11: 과수재배 농업인 | H11: 1월 ~ 12월 | I11: 지주,관수,배수,묘목비 등 지원 사업단가 : 40,000/0.5ha | J11: 농업기술센터 과수기술팀 | K11: 도비
A12: 과수기술팀 | B12: 임종흥 | C12: 다공질필름 활용 과수품질 향상 시범사업 | D12: 3ha | E12: 20000 | F12: 0.6 | G12: 과수재배 농업인 | H12: 1월~12월 | I12: 다공질 필름 등 지원 | J12: 능금농협 | K12: 도비
A13: 과수기술팀 | B13: 임종흥 | C13: 교미교란제 활용 과수해충 방제 시범사업 | D13: 2개소 | E13: 20000 | F13: 0.7 | G13: 과수단체 | H13: 1월 ~ 12월 | I13: 교미교란제 등 지원 | J13: 읍·면 | K13: 도비
A14: 과수기술팀 | B14: 김대호 | C14: 우리품종전문생산단지 조성 시범사업 | D14: 20ha | E14: 910000 | F14: 0.5 | G14: 과수재배 농업인 | H14: 1월 ~ 6월 | I14: 지주,관수,배수,묘목비 등 지원 사업단가 : 40,000/0.5ha | J14: 농업기술센터 과수기술팀 | K14: 군비
A15: 과수기술팀 | B15: 김귀영 | C15: 사과 가정용 소형선별기 지원사업 | D15: 5대 | E15: 35000 | F15: 0.5 | G15: 사과 개인농가 및 단체 | H15: 1월 ~ 6월 | I15: 사과 소형 선별기 지원 단가 : 7,000천원 직거래실적에 따라 우선지원 | J15: 읍·면 | K15: 군비
A16: 과수기술팀 | B16: 김대호 | C16: 과수 수세안정화 기자재 지원사업 | D16: 2개사업 | E16: 180000 | F16: 0.5 | G16: 과수재배 농업인 | H16: 1월 ~ 12월 | I16: 원형가지유인기, 가지유인 기자재 지원 | J16: 읍·면 농 협 | K16: 군비
A17: 과수기술팀 | B17: 김대호 | C17: 사과 수출단지 병해충 예찰 시범사업 | D17: 100ha | E17: 50000 | F17: 1 | G17: 해외 사과 수출단체 | H17: 1월 ~ 12월 | I17: 병해충 예찰 컨설팅, 예찰트랩, 품질향상 기자재 지원 | J17: 지정 수출선과장 신청 | K17: 군비
A18: 과수기술팀 | B18: 김대호 | C18: 글로벌 GAP 인증단체 육성 시범사업 | D18: 1개소 | E18: 50000 | F18: 1 | G18: 글로벌GAP인증단체 | H18: 1월 ~ 12월 | I18: 글로벌 GAP인증 획득을 위한 일괄 컨설팅 및 교육비 등 지원 | J18: 농업기술센터 과수기술팀 | K18: 군비
A19: 과수기술팀 | B19: 김귀영 | C19: 과수 우량묘목 지원사업 | D19: 80,000주 | E19: 1200000 | F19: 0.5 | G19: 과수재배 농업인 | H19: 1월 ~ 12월 | I19: 우량 묘목비 지원 단가 : 1주당 15,000원 (묘목계약서 첨부必) | J19: 읍·면 | K19: 군비
A20: 과수기술팀 | B20: 김귀영 | C20: 사과원 고품질 과실 생산기술 컨설팅 시범사업 | D20: 5개소 | E20: 310000 | F20: 0.5 | G20: 사과 재배단체 | H20: 1월 ~ 12월 | I20: 재배기술컨설팅, 친환경자재비 지원 (단체별 기본3년+2년연장 추진) | J20: 농업기술센터 과수기술팀 | K20: 군비
A21: 과수기술팀 | B21: 김귀영 | C21: 과수 결실향상 지원사업 | D21: 60ha | E21: 30000 | F21: 0.5 | G21: 과수재배 농업인 | H21: 1월 ~ 6월 | I21: 인공수분 기자재 지원 (꽃가루, 수정벌, 디스펜서 ) | J21: 읍·면 | K21: 군비
... A28: 과수기술팀 | B28: 임종흥 | C28: 다축재배 적용 묘목생산 일관화 시범사업 | D28: 1개소 | E28: 70000 | F28: 0.6 | G28: 묘목생산단체 | H28: 1월 ~ 12월 | I28: 다축묘목생산 기자재, 컨설팅 | J28: 농업기술센터 과수기술팀 | K28: 군비

Sheet 홈페이지 게시용
A1: 2024년 봉화군 과수분야 지원사업
A2: 연번 | B2: 사업명 | C2: 사업량 | D2: 사업비 (천원) | E2: 보조비율 (%) | F2: 지원대상 | G2: 지원내용 | H2: 접수처 | I2: 비고
A3: 1 | B3: =업무담당자용!C4 -> 농작물 병해충 방제비 지원(검역병해충) | C3: =업무담당자용!D4 -> 2,000ha | D3: =업무담당자용!E4 -> 1200000 | E3: =업무담당자용!F4 -> 1 | F3: =업무담당자용!G4 -> 과수재배 농업인 | G3: =업무담당자용!I4 -> 화상병 방제비 지원 700천원/ha | H3: =업무담당자용!J4 -> 읍·면
A4: 2 | B4: =업무담당자용!C5 -> 과수분야 스마트팜 확산사업 | C4: =업무담당자용!D5 -> 2개소 | D4: =업무담당자용!E5 -> 26050 | E4: =업무담당자용!F5 -> 0.8 | F4: =업무담당자용!G5 -> 춘양면, 명호면 | G4: =업무담당자용!I5 -> 과수 스마트팜 기자재 지원 | H4: =업무담당자용!J5 -> 기 선정 (공모)
A5: 3 | B5: =업무담당자용!C6 -> 다목적 농가형 저온저장고 설치 지원사업 | C5: =업무담당자용!D6 -> 11동(10평) | D5: =업무담당자용!E6 -> 327000 | E5: =업무담당자용!F6 -> 0.5 | F5: =업무담당자용!G6 -> 농업인, 농업단체 | G5: =업무담당자용!I6 -> (신규) 10평이상 28,000천원/동 (개·보수) 개소당 1,400천원/3.3㎡ | H5: =업무담당자용!J6 -> 읍·면
A6: 4 | B6: =업무담당자용!C7 -> 과수 생력화 장비 지원사업 | C6: =업무담당자용!D7 -> 104대 | D6: =업무담당자용!E7 -> 1318000 | E6: =업무담당자용!F7 -> 25%(SS기) 50%(그외) | F6: =업무담당자용!G7 -> 과수재배 농업인, 단체 | G6: =업무담당자용!I7 -> SS기 20,000천원 /5.000천원 지원 승용예초기 9,000천원/4,500지원 고소작업차 9,000천원/4,500지원 동력분무기 6,000천원/3,000지원 | H6: =업무담당자용!J7 -> 읍·면
A7: 5 | B7: =업무담당자용!C8 -> 과실 생산비 절감 및 품질제고 지원사업 | C7: =업무담당자용!D8 -> 33,150㎡ | D7: =업무담당자용!E8 -> 735970 | E7: =업무담당자용!F8 -> 0.5 | F7: =업무담당자용!G8 -> 과수재배 농업인, 단체 | G7: =업무담당자용!I8 -> 친환경 사과적화제 280천원/ha 과실 장기저장제 72천원/3.3㎡당 비파괴당도측정기 3,300천원/대 신선도유지기 2,500천원/대 | H7: =업무담당자용!J8 -> 읍·면 농 협 (적화제 장기저장제)
A8: 6 | B8: =업무담당자용!C9 -> 저품위사과 시장격리 수매 지원사업 | C8: =업무담당자용!D9 -> 41,400상자 | D8: =업무담당자용!E9 -> 414000 | E8: =업무담당자용!F9 -> 상자당 10,000원 | F8: =업무담당자용!G9 -> 사과재배 농업인 | G8: =업무담당자용!I9 -> 사전 수요조사 신청必 1상자 20kg/1만원 | H8: =업무담당자용!J9 -> 읍·면
A9: 7 | B9: =업무담당자용!C10 -> 미래형 사과 다축과원 조성 시범사업 | C9: =업무담당자용!D10 -> 17ha | D9: =업무담당자용!E10 -> 1386000 | E9: =업무담당자용!F10 -> 0.6 | F9: =업무담당자용!G10 -> 과수재배 농업인 | G9: =업무담당자용!I10 -> 지주,관수,배수,묘목비 등 지원 사업단가 : 40,000/0.5ha | H9: =업무담당자용!J10 -> 농업기술센터 과수기술팀
A10: 8 | B10: =업무담당자용!C11 -> 경북 미래형 사과 조성사업 | C10: =업무담당자용!D11 -> 4.5ha | D10: =업무담당자용!E11 -> 360000 | E10: =업무담당자용!F11 -> 0.6 | F10: =업무담당자용!G11 -> 과수재배 농업인 | G10: =업무담당자용!I11 -> 지주,관수,배수,묘목비 등 지원 사업단가 : 40,000/0.5ha | H10: =업무담당자용!J11 -> 농업기술센터 과수기술팀
A11: 9 | B11: =업무담당자용!C12 -> 다공질필름 활용 과수품질 향상 시범사업 | C11: =업무담당자용!D12 -> 3ha | D11: =업무담당자용!E12 -> 20000 | E11: =업무담당자용!F12 -> 0.6 | F11: =업무담당자용!G12 -> 과수재배 농업인 | G11: =업무담당자용!I12 -> 다공질 필름 등 지원 | H11: =업무담당자용!J12 -> 능금농협
A12: 10 | B12: =업무담당자용!C13 -> 교미교란제 활용 과수해충 방제 시범사업 | C12: =업무담당자용!D13 -> 2개소 | D12: =업무담당자용!E13 -> 20000 | E12: =업무담당자용!F13 -> 0.7 | F12: =업무담당자용!G13 -> 과수단체 | G12: =업무담당자용!I13 -> 교미교란제 등 지원 | H12: =업무담당자용!J13 -> 읍·면
A13: 11 | B13: =업무담당자용!C14 -> 우리품종전문생산단지 조성 시범사업 | C13: =업무담당자용!D14 -> 20ha | D13: =업무담당자용!E14 -> 910000 | E13: =업무담당자용!F14 -> 0.5 | F13: =업무담당자용!G14 -> 과수재배 농업인 | G13: =업무담당자용!I14 -> 지주,관수,배수,묘목비 등 지원 사업단가 : 40,000/0.5ha | H13: =업무담당자용!J14 -> 농업기술센터 과수기술팀
A14: 12 | B14: =업무담당자용!C15 -> 사과 가정용 소형선별기 지원사업 | C14: =업무담당자용!D15 -> 5대 | D14: =업무담당자용!E15 -> 35000 | E14: =업무담당자용!F15 -> 0.5 | F14: =업무담당자용!G15 -> 사과 개인농가 및 단체 | G14: =업무담당자용!I15 -> 사과 소형 선별기 지원 단가 : 7,000천원 직거래실적에 따라 우선지원 | H14: =업무담당자용!J15 -> 읍·면
... A27: 25 | B27: =업무담당자용!C28 -> 다축재배 적용 묘목생산 일관화 시범사업 | C27: =업무담당자용!D28 -> 1개소 | D27: =업무담당자용!E28 -> 70000 | E27: =업무담당자용!F28 -> 0.6 | F27: =업무담당자용!G28 -> 묘목생산단체 | G27: =업무담당자용!I28 -> 다축묘목생산 기자재, 컨설팅 | H27: =업무담당자용!J28 -> 농업기술센터 과수기술팀

Sheet 국도비재원 구분
C3: 보조사업명 | D3: 보조내역
D4: 총사업비 | E4: 보조금 계 | F4: 보조금(국) | G4: 보조금(도) | H4: 보조금(군) | I4: 자부담 | J4: 보조비율(%)
D5: =SUM(D6:D30) -> 8237610 | E5: =SUM(E6:E29) -> 4766020 | F5: =SUM(F6:F29) -> 452000 | G5: =SUM(G6:G29) -> 449406 | H5: =SUM(H6:H29) -> 3864614 | I5: =SUM(I6:I29) -> 3471590
C6: 농작물 병해충 방제비 지원(검역병해충) | D6: 1240000 | E6: =SUM(F6:H6) -> 1240000 | F6: 400000 | G6: 132000 | H6: 708000 | I6: 0 | J6: 1
C7: 과수 수분스트레스기반 스마트관개시스템 기술시범 | D7: 188570 | E7: =SUM(F7:H7) -> 132000 | F7: 45000 | H7: 87000 | I7: =D7-E7 -> 56570 | J7: 0.7 | K7: 자동관수시스템 추가
C8: 과수분야 스마트팜 확산사업 | D8: 35000 | E8: =SUM(F8:H8) -> 28000 | F8: 7000 | G8: 3000 | H8: 18000 | I8: =D8-E8 -> 7000 | J8: 0.8 | K8: 대상자선정완료
C9: 다목적 농가형 저온저장고 설치 지원사업 | D9: 840000 | E9: =SUM(F9:H9) -> 420000 | G9: 75600 | H9: 344400 | I9: =D9-E9 -> 420000 | J9: 0.5
C10: 과수 생력화 장비 지원사업 | D10: 1151000 | E10: =SUM(F10:H10) -> 405500 | G10: 27150 | H10: 378350 | I10: =D10-E10 -> 745500 | J10: 25%(SS기) 50%(그외)
C11: 과실 생산비 절감 및 품질제고 지원사업 | D11: 762440 | E11: =SUM(F11:H11) -> 381220 | G11: 28116 | H11: 353104 | I11: =D11-E11 -> 381220 | J11: 0.5
C12: FTA대응 대체과수 명품사업 | D12: 58000 | E12: =SUM(F12:H12) -> 29000 | F12: 0 | G12: 8700 | H12: 20300 | I12: =D12-E12 -> 29000 | J12: 0.5
C13: 저품위사과 시장격리 수매 지원사업 | D13: 341600 | E13: =SUM(F13:H13) -> 170800 | G13: 51240 | H13: 119560 | I13: =D13-E13 -> 170800 | J13: 상자당 10,000원
C14: 미래형 사과 다축과원 조성 시범사업 | D14: 350000 | E14: =SUM(F14:H14) -> 210000 | G14: 105000 | H14: 105000 | I14: =D14-E14 -> 140000 | J14: 0.6
C15: 국내육성 과수 중소과 전문생산체계 구축 시범사업 | D15: 290000 | E15: =SUM(F15:H15) -> 174000 | G15: 12000 | H15: 162000 | I15: =D15-E15 -> 116000 | J15: 0.6 | K15: 우리품종전문생산단지 추가
C16: 아열대작물 전문생산단지 조성 지원사업 | D16: 44000 | E16: =SUM(F16:H16) -> 22000 | G16: 6600 | H16: 15400 | I16: =D16-E16 -> 22000 | J16: 0.5 | K16: 대상자미선정
C17: 사과 가정용 소형선별기 지원사업 | D17: 70000 | E17: =SUM(F17:H17) -> 35000 | H17: 35000 | I17: =D17-E17 -> 35000 | J17: 0.5
C18: 과수 수세안정화 기자재 지원사업 | D18: 240000 | E18: =SUM(F18:H18) -> 120000 | H18: 120000 | I18: =D18-E18 -> 120000 | J18: 0.5
C19: 사과 수출단지 병해충 예찰 시범사업 | D19: 50000 | E19: =SUM(F19:H19) -> 50000 | H19: 50000 | I19: =D19-E19 -> 0 | J19: 1
C20: 글로벌 GAP 인증단체 육성 시범사업 | D20: 50000 | E20: =SUM(F20:H20) -> 50000 | H20: 50000 | I20: =D20-E20 -> 0 | J20: 1
C21: 과수 우량묘목 지원사업 | D21: 702000 | E21: =SUM(F21:H21) -> 351000 | H21: 351000 | I21: =D21-E21 -> 351000 | J21: 0.5
C22: 사과원 고품질 과실 생산기술 컨설팅 시범사업 | D22: 310000 | E22: =SUM(F22:H22) -> 155000 | H22: 155000 | I22: =D22-E22 -> 155000 | J22: 0.5
C23: 과수 결실향상 지원사업 | D23: 30000 | E23: =SUM(F23:H23) -> 15000 | H23: 15000 | I23: =D23-E23 -> 15000 | J23: 0.5
C24: 과수 착색향상 기자재 보급 지원사업 | D24: 1160000 | E24: =SUM(F24:H24) -> 580000 | H24: 580000 | I24: =D24-E24 -> 580000 | J24: 0.5
C25: 과수 연작대응 지원사업 | D25: 60000 | E25: =SUM(F25:H25) -> 45000 | H25: 45000 | I25: =D25-E25 -> 15000 | J25: 0.5
C26: 기후변화대응 시설과수 기반조성 시범사업 | D26: 105000 | E26: =SUM(F26:H26) -> 52500 | H26: 52500 | I26: =D26-E26 -> 52500 | J26: 0.5
C27: 친환경 유기사과 재배기술 적용 시범사업 | D27: 50000 | E27: =SUM(F27:H27) -> 35000 | H27: 35000 | I27: =D27-E27 -> 15000 | J27: 0.7
C28: 핵과류 품질향상기자재 지원사업 | D28: 60000 | E28: =SUM(F28:H28) -> 30000 | H28: 30000 | I28: =D28-E28 -> 30000 | J28: 0.5
C29: 유망 아열대작목 보급 시범사업 | D29: 50000 | E29: =SUM(F29:H29) -> 35000 | H29: 35000 | I29: =D29-E29 -> 15000 | J29: 0.7 | K29: 대상자선정
