Workbook

Sheet 업무담당자용
A1: 2021년 봉화군 과수분야 지원사업
A2: 부서명 | B2: 담당자 | C2: 사업명 | D2: 사업량 | E2: 사업비(천원) | F2: 보조비율(%) | G2: 지원대상 | H2: 추진시기 | I2: 지원내용 | J2: 접수처 | K2: 비고
A3: 계 | C3: =COUNTA(C4:C27) -> 24 | E3: =SUM(E4:E27) -> 6620310
A4: 과수기술팀 | B4: 김대호 | C4: 농작물 병해충 방제비 지원(검역병해충) | D4: 1,900ha | E4: 800000 | F4: 1 | G4: 과수재배 농업인 | H4: 1월 ~ 12월 | I4: 화상병 방제비 지원 420천원/ha | J4: 읍·면 | K4: 국비
A5: 과수기술팀 | B5: 김귀영 | C5: 미래형 사과 다축과원 조성 시범사업 | D5: 3.5ha | E5: 171430 | F5: 0.7 | G5: 과수재배 농업인 | H5: 1월 ~ 12월 | I5: 지주, 관수, 묘목비 등 지원 배수시설(선택) 사업단가 : 33,000천원/0.5ha | J5: 농업기술센터 과수기술팀 | K5: 국비
A6: 과수기술팀 | B6: 김귀영 | C6: 다목적 농가형 저온저장고 설치 지원사업 | D6: 1,106㎡ (10평형 - 33동) | E6: 665000 | F6: 0.5 | G6: 농업인, 농업단체 | H6: 1월 ~ 12월 | I6: (신규) 10평이상 20,000천원/동 (개·보수) 개소당 1,000천원/3.3㎡ | J6: 읍·면 | K6: 도비
A7: 과수기술팀 | B7: 김귀영 | C7: 과수 생력화 장비 지원사업 | D7: 70대 | E7: 889000 | F7: 25%(SS기) 50%(그외) | G7: 과수재배 농업인, 단체 | H7: 1월 ~ 12월 | I7: SS기 20,000천원 /5.000천원 지원 승용예초기 9,000천원/4,500지원 고소작업차 9,000천원/4,500지원 동력분무기 6,000천원/3,000지원 | J7: 읍·면 | K7: 도비
A8: 과수기술팀 | B8: 김귀영 | C8: 과실 생산비 절감 및 품질제고 지원사업 | D8: 9,520㎡ | E8: 514780 | F8: 0.5 | G8: 과수재배 농업인, 단체 | H8: 1월 ~ 12월 | I8: 친환경 사과적화제 280천원/ha 과실 장기저장제 80천원/3.3㎡당 농업용수처리기 6,600천원/대 비파괴당도측정기 3,300천원/대 신선도유지기 2,500천원/대 | J8: 읍·면 농 협 (적화제 장기저장제) | K8: 도비
A9: 과수기술팀 | B9: 김귀영 | C9: FTA대응 대체과수 명품사업 | D9: 10ha | E9: 13000 | F9: 0.5 | G9: 대체과수과수재배 농업인 및 단체 | H9: 1월 ~ 12월 | I9: 대체과수 과원조성 및 기자재 지원 | J9: 읍·면 | K9: 도비
A10: 과수기술팀 | B10: 김귀영 | C10: 저품위사과 시장격리 수매 지원사업 | D10: 61,100상자 | E10: 488800 | F10: 상자당 8,000원 | G10: 사과재배 농가 | H10: 1월 ~ 12월 | I10: 사전 수요조사 신청必 1상자 20kg/8천원 | J10: 읍·면 | K10: 도비
A11: 과수기술팀 | B11: 우인덕 | C11: 골든애플단지 조성 시범사업 | D11: 14ha | E11: 833300 | F11: 70% 60%+10% (농협) | G11: 과수재배 농업인 | H11: 1월 ~ 12월 | I11: 지주, 관수, 묘목비 등 지원 토양정비(배수선택) 사업단가 : 29,560천원/0.5ha | J11: 농업기술센터 과수기술팀 | K11: 도비
A12: 과수기술팀 | B12: 우인덕 | C12: 지역특화시범사업(친환경 유기사과) | D12: 1개소 | E12: 150000 | F12: 0.8 | G12: 백천사과작목반 | H12: 1월 ~ 12월 | I12: 친환경 컨설팅 및 기자재 등 | J12: 농업기술센터 과수기술팀 | K12: 도비
A13: 과수기술팀 | B13: 이상학 | C13: 우리품종 전문생산단지 조성 시범사업 | D13: 3ha | E13: 112000 | F13: 0.6 | G13: 과수재배 농업인 | H13: 1월 ~ 12월 | I13: 지주, 관설, 묘목비 지원 등 사업단가 : 22,500천원/0.5ha | J13: 농업기술센터 과수기술팀 | K13: 군비
A14: 과수기술팀 | B14: 김대호 | C14: 과수 유해 조수류 피해방지 기자재 지원사업 | D14: 22대 | E14: 30000 | F14: 0.5 | G14: 과수재배 농업인 | H14: 1월 ~ 12월 | I14: 지능형 조류퇴치기 단가 : 3,000천원 야생동물 퇴치기 지원 : 610~880천원 | J14: 읍·면 | K14: 군비
A15: 과수기술팀 | B15: 이상학 | C15: 사과 가정용 소형선별기 지원사업 | D15: 10대 | E15: 70000 | F15: 0.5 | G15: 사과 개인농가 및 단체 | H15: 1월 ~ 6월 | I15: 사과 소형 선별기 지원 단가 : 7,000천원 직거래실적에 따라 우선지원 | J15: 읍·면 | K15: 군비
A16: 과수기술팀 | B16: 이상학 | C16: 과수 전정용 전동가위 보급 지원사업 | D16: 50대 | E16: 100000 | F16: 0.5 | G16: 과수재배 농업인 | H16: 1월 ~ 6월 | I16: 과수 전정용 전동가위 지원 | J16: 읍·면 | K16: 군비
A17: 과수기술팀 | B17: 김대호 | C17: 과수 수세안정화 기자재 지원사업 | D17: 2개사업 | E17: 200000 | F17: 0.5 | G17: 과수재배 농업인 | H17: 1월 ~ 12월 | I17: 원형가지유인기, 가지유인 기자재 지원 | J17: 읍·면 농 협 | K17: 군비
A18: 과수기술팀 | B18: 김대호 | C18: 사과 수출단지 병해충 예찰 시범사업 | D18: 140ha | E18: 50000 | F18: 1 | G18: 해외 사과 수출단체 | H18: 1월 ~ 12월 | I18: 병해충 예찰 컨설팅, 예찰트랩, 품질향상 기자재 지원 | J18: 농업기술센터 과수기술팀 | K18: 군비
A19: 과수기술팀 | B19: 김대호 | C19: 글로벌 GAP 인증단체 육성 시범사업 | D19: 1개소 | E19: 50000 | F19: 1 | G19: 글로벌GAP인증단체 | H19: 1월 ~ 12월 | I19: 글로벌 GAP인증 획득을 위한 일괄 컨설팅 및 교육비 등 지원 | J19: 농업기술센터 과수기술팀 | K19: 군비
A20: 과수기술팀 | B20: 이상학 | C20: 과수 우량묘목 지원사업 | D20: 30,000주 | E20: 300000 | F20: 0.5 | G20: 과수재배 농업인 | H20: 1월 ~ 12월 | I20: 우량 묘목비 지원 단가 : 1주당 10,000원 | J20: 읍·면 | K20: 군비
A21: 과수기술팀 | B21: 이상학 | C21: 사과원 고품질 과실 생산기술 컨설팅 시범사업 | D21: 7개소 | E21: 310000 | F21: 0.5 | G21: 사과 재배단체 | H21: 1월 ~ 12월 | I21: 재배기술컨설팅, 친환경자재비 지원 | J21: 농업기술센터 과수기술팀 | K21: 군비
A22: 과수기술팀 | B22: 이상학 | C22: 과수 결실향상 지원사업 | D22: 60ha | E22: 30000 | F22: 0.5 | G22: 과수재배 농업인 | H22: 1월 ~ 6월 | I22: 인공수분 기자재 지원 (꽃가루, 수정벌, 디스펜서 ) | J22: 읍·면 | K22: 군비
A23: 과수기술팀 | B23: 김대호 | C23: 기후변화 대응 돌발 병해충 예찰 시범사업 | D23: 40개소 | E23: 50000 | F23: 1 | G23: 과수 재배단체 | H23: 1월 ~ 12월 | I23: 나무좀, 노린재 예찰 및 트랩 지원 | J23: 읍·면 | K23: 군비
... A27: 과수기술팀 | B27: 김귀영 | C27: 기후변화대응 시설과수 기반조성 시범사업 | D27: 3개소 | E27: 75000 | F27: 0.6 | G27: 과수재배 농업인 | H27: 1월 ~ 12월 | I27: 시설과수 시설 및 장비지원 25,000천원/0.2ha | J27: 농업기술센터 과수기술팀 | K27: 군비

Sheet 홈페이지 게시용
A1: 2021년 봉화군 과수분야 지원사업
A2: 연번 | B2: 사업명 | C2: 사업량 | D2: 사업비 (천원) | E2: 보조비율 (%) | F2: 지원대상 | G2: 지원내용 | H2: 접수처 | I2: 비고
A3: 1 | B3: =업무담당자용!C4 -> 농작물 병해충 방제비 지원(검역병해충) | C3: =업무담당자용!D4 -> 1,900ha | D3: =업무담당자용!E4 -> 800000 | E3: =업무담당자용!F4 -> 1 | F3: =업무담당자용!G4 -> 과수재배 농업인 | G3: =업무담당자용!I4 -> 화상병 방제비 지원 420천원/ha | H3: =업무담당자용!J4 -> 읍·면
A4: 2 | B4: =업무담당자용!C5 -> 미래형 사과 다축과원 조성 시범사업 | C4: =업무담당자용!D5 -> 3.5ha | D4: =업무담당자용!E5 -> 171430 | E4: =업무담당자용!F5 -> 0.7 | F4: =업무담당자용!G5 -> 과수재배 농업인 | G4: =업무담당자용!I5 -> 지주, 관수, 묘목비 등 지원 배수시설(선택) 사업단가 : 33,000천원/0.5ha | H4: =업무담당자용!J5 -> 농업기술센터 과수기술팀
A5: 3 | B5: =업무담당자용!C6 -> 다목적 농가형 저온저장고 설치 지원사업 | C5: =업무담당자용!D6 -> 1,106㎡ (10평형 - 33동) | D5: =업무담당자용!E6 -> 665000 | E5: =업무담당자용!F6 -> 0.5 | F5: =업무담당자용!G6 -> 농업인, 농업단체 | G5: =업무담당자용!I6 -> (신규) 10평이상 20,000천원/동 (개·보수) 개소당 1,000천원/3.3㎡ | H5: =업무담당자용!J6 -> 읍·면
A6: 4 | B6: =업무담당자용!C7 -> 과수 생력화 장비 지원사업 | C6: =업무담당자용!D7 -> 70대 | D6: =업무담당자용!E7 -> 889000 | E6: =업무담당자용!F7 -> 25%(SS기) 50%(그외) | F6: =업무담당자용!G7 -> 과수재배 농업인, 단체 | G6: =업무담당자용!I7 -> SS기 20,000천원 /5.000천원 지원 승용예초기 9,000천원/4,500지원 고소작업차 9,000천원/4,500지원 동력분무기 6,000천원/3,000지원 | H6: =업무담당자용!J7 -> 읍·면
A7: 5 | B7: =업무담당자용!C8 -> 과실 생산비 절감 및 품질제고 지원사업 | C7: =업무담당자용!D8 -> 9,520㎡ | D7: =업무담당자용!E8 -> 514780 | E7: =업무담당자용!F8 -> 0.5 | F7: =업무담당자용!G8 -> 과수재배 농업인, 단체 | G7: =업무담당자용!I8 -> 친환경 사과적화제 280천원/ha 과실 장기저장제 80천원/3.3㎡당 농업용수처리기 6,600천원/대 비파괴당도측정기 3,300천원/대 신선도유지기 2,500천원/대 | H7: =업무담당자용!J8 -> 읍·면 농 협 (적화제 장기저장제)
A8: 6 | B8: =업무담당자용!C9 -> FTA대응 대체과수 명품사업 | C8: =업무담당자용!D9 -> 10ha | D8: =업무담당자용!E9 -> 13000 | E8: =업무담당자용!F9 -> 0.5 | F8: =업무담당자용!G9 -> 대체과수과수재배 농업인 및 단체 | G8: =업무담당자용!I9 -> 대체과수 과원조성 및 기자재 지원 | H8: =업무담당자용!J9 -> 읍·면
A9: 7 | B9: =업무담당자용!C10 -> 저품위사과 시장격리 수매 지원사업 | C9: =업무담당자용!D10 -> 61,100상자 | D9: =업무담당자용!E10 -> 488800 | E9: =업무담당자용!F10 -> 상자당 8,000원 | F9: =업무담당자용!G10 -> 사과재배 농가 | G9: =업무담당자용!I10 -> 사전 수요조사 신청必 1상자 20kg/8천원 | H9: =업무담당자용!J10 -> 읍·면
A10: 8 | B10: =업무담당자용!C11 -> 골든애플단지 조성 시범사업 | C10: =업무담당자용!D11 -> 14ha | D10: =업무담당자용!E11 -> 833300 | E10: =업무담당자용!F11 -> 70% 60%+10% (농협) | F10: =업무담당자용!G11 -> 과수재배 농업인 | G10: =업무담당자용!I11 -> 지주, 관수, 묘목비 등 지원 토양정비(배수선택) 사업단가 : 29,560천원/0.5ha | H10: =업무담당자용!J11 -> 농업기술센터 과수기술팀
A11: 9 | B11: =업무담당자용!C12 -> 지역특화시범사업(친환경 유기사과) | C11: =업무담당자용!D12 -> 1개소 | D11: =업무담당자용!E12 -> 150000 | E11: =업무담당자용!F12 -> 0.8 | F11: =업무담당자용!G12 -> 백천사과작목반 | G11: =업무담당자용!I12 -> 친환경 컨설팅 및 기자재 등 | H11: =업무담당자용!J12 -> 농업기술센터 과수기술팀
A12: 10 | B12: =업무담당자용!C13 -> 우리품종 전문생산단지 조성 시범사업 | C12: =업무담당자용!D13 -> 3ha | D12: =업무담당자용!E13 -> 112000 | E12: =업무담당자용!F13 -> 0.6 | F12: =업무담당자용!G13 -> 과수재배 농업인 | G12: =업무담당자용!I13 -> 지주, 관설, 묘목비 지원 등 사업단가 : 22,500천원/0.5ha | H12: =업무담당자용!J13 -> 농업기술센터 과수기술팀
A13: 11 | B13: =업무담당자용!C14 -> 과수 유해 조수류 피해방지 기자재 지원사업 | C13: =업무담당자용!D14 -> 22대 | D13: =업무담당자용!E14 -> 30000 | E13: =업무담당자용!F14 -> 0.5 | F13: =업무담당자용!G14 -> 과수재배 농업인 | G13: =업무담당자용!I14 -> 지능형 조류퇴치기 단가 : 3,000천원 야생동물 퇴치기 지원 : 610~880천원 | H13: =업무담당자용!J14 -> 읍·면
A14: 12 | B14: =업무담당자용!C15 -> 사과 가정용 소형선별기 지원사업 | C14: =업무담당자용!D15 -> 10대 | D14: =업무담당자용!E15 -> 70000 | E14: =업무담당자용!F15 -> 0.5 | F14: =업무담당자용!G15 -> 사과 개인농가 및 단체 | G14: =업무담당자용!I15 -> 사과 소형 선별기 지원 단가 : 7,000천원 직거래실적에 따라 우선지원 | H14: =업무담당자용!J15 -> 읍·면
... A25: 23 | B25: =업무담당자용!C26 -> 과수 착색향상 기자재 보급 지원사업 | C25: =업무담당자용!D26 -> 1,260ha | D25: =업무담당자용!E26 -> 630000 | E25: =업무담당자용!F26 -> 0.5 | F25: =업무담당자용!G26 -> 과수재배 농업인 | G25: =업무담당자용!I26 -> 반사필름, 착색제, 친환경반사시트지원 반사필름 단가 : 90,000원/롤 착색제 : 60,000원/병 친환경시트 : 103,400원~155,100원 | H25: =업무담당자용!J26 -> 읍·면 농 협
A26: 24 | B26: =업무담당자용!C27 -> 기후변화대응 시설과수 기반조성 시범사업 | C26: s | D26: =업무담당자용!E27 -> 75000 | E26: =업무담당자용!F27 -> 0.6 | F26: =업무담당자용!G27 -> 과수재배 농업인 | G26: =업무담당자용!I27 -> 시설과수 시설 및 장비지원 25,000천원/0.2ha | H26: =업무담당자용!J27 -> 농업기술센터 과수기술팀
