Workbook

Sheet 홈페이지 게시용
A1: 2025년 봉화군 과수분야 지원사업
A2: 연번 | B2: 사업명 | C2: 사업량 | D2: 사업비 (천원) | E2: 보조비율 (%) | F2: 지원대상 | G2: 지원내용 | H2: 접수처 | I2: 비고
A3: 1 | B3: =[1]업무담당자용!C4 -> 농작물 병해충 방제비 지원(검역병해충) (+과수화상병확산방지사전방제지원) | C3: =[1]업무담당자용!D4 -> 1,800ha | D3: =[1]업무담당자용!E4 -> 1333424 | E3: =[1]업무담당자용!F4 -> 1 | F3: =[1]업무담당자용!G4 -> 과수재배 농업인 | G3: =[1]업무담당자용!I4 -> 화상병 방제비 지원 720천원/ha | H3: =[1]업무담당자용!J4 -> 읍·면
A4: 2 | B4: =[1]업무담당자용!C5 -> 다목적 농가형 저온저장고 설치 지원사업 | C4: =[1]업무담당자용!D5 -> 11동(10평) | D4: =[1]업무담당자용!E5 -> 308000 | E4: =[1]업무담당자용!F5 -> 0.5 | F4: =[1]업무담당자용!G5 -> 과수재배 농업인, 단체 | G4: =[1]업무담당자용!I5 -> (신규) 10평이상 28,000천원/동 (개·보수) 개소당 1,400천원/3.3㎡ *신규 설치 우선, 개보수 후순위 | H4: =[1]업무담당자용!J5 -> 읍·면
A5: 3 | B5: =[1]업무담당자용!C6 -> 과수 생력화 장비 지원사업 | C5: =[1]업무담당자용!D6 -> 80대 | D5: =[1]업무담당자용!E6 -> 911000 | E5: =[1]업무담당자용!F6 -> 0.5 | F5: =[1]업무담당자용!G6 -> 과수재배 농업인, 단체 | G5: =[1]업무담당자용!I6 -> SS기 20,000천원 /10.000천원 지원 승용예초기 9,000천원/4,500지원 고소작업차 9,000천원/4,500지원 동력분무기 6,000천원/3,000지원 | H5: =[1]업무담당자용!J6 -> 읍·면
A6: 4 | B6: =[1]업무담당자용!C7 -> 과실 생산비 절감 및 품질제고 지원사업 | C6: =[1]업무담당자용!D7 -> 31,000㎡ | D6: =[1]업무담당자용!E7 -> 764440 | E6: =[1]업무담당자용!F7 -> 0.5 | F6: =[1]업무담당자용!G7 -> 과수재배 농업인, 단체 | G6: =[1]업무담당자용!I7 -> 친환경 사과적화제 280천원/ha 과실 장기저장제 72천원/3.3㎡당 비파괴당도측정기 3,000천원/대 신선도유지기 2,500천원/대 | H6: =[1]업무담당자용!J7 -> 읍·면 농 협 (적화제 장기저장제)
A7: 5 | B7: =[1]업무담당자용!C8 -> 저품위사과 시장격리 수매 지원사업 | C7: =[1]업무담당자용!D8 -> 39,500상자 | D7: =[1]업무담당자용!E8 -> 395000 | E7: =[1]업무담당자용!F8 -> 0.5 | F7: =[1]업무담당자용!G8 -> 사과재배 농업인 | G7: =[1]업무담당자용!I8 -> 사전 수요조사 신청必 1상자 20kg/1만원 | H7: =[1]업무담당자용!J8 -> 읍·면
A8: 6 | B8: =[1]업무담당자용!C9 -> 미래형 사과 다축과원 조성 시범사업 | C8: =[1]업무담당자용!D9 -> 12.5ha | D8: =[1]업무담당자용!E9 -> 1000000 | E8: =[1]업무담당자용!F9 -> 0.6 | F8: =[1]업무담당자용!G9 -> 과수재배 농업인 | G8: =[1]업무담당자용!I9 -> 지주,관수,배수,묘목비 등 지원 사업단가 : 40,000/0.5ha | H8: =[1]업무담당자용!J9 -> 농업기술센터 과수기술팀
A9: 7 | B9: =[1]업무담당자용!C10 -> 경북 평면형 사과원 조성사업 | C9: =[1]업무담당자용!D10 -> 6ha | D9: =[1]업무담당자용!E10 -> 720000 | E9: =[1]업무담당자용!F10 -> 0.5 | F9: =[1]업무담당자용!G10 -> 과수재배 농업인 | G9: =[1]업무담당자용!I10 -> 지주,관수,배수,묘목비 등 지원 사업단가 : 48,000/0.5ha | H9: =[1]업무담당자용!J10 -> 농업기술센터 과수기술팀
A10: 8 | B10: =[1]업무담당자용!C11 -> 대체과수 품목 육성 지원사업 | C10: =[1]업무담당자용!D11 -> 1ha | D10: =[1]업무담당자용!E11 -> 33000 | E10: =[1]업무담당자용!F11 -> 0.5 | F10: =[1]업무담당자용!G11 -> 과수재배 농업인 | G10: =[1]업무담당자용!I11 -> 대체과수 생산기반시설 및 시설현대화 -실단가 적용, 적정가격 검토후 산정 | H10: =[1]업무담당자용!J11 -> 읍·면
A11: 9 | B11: =[1]업무담당자용!C12 -> 과수분야 저온피해 경감제 지원사업 | C11: =[1]업무담당자용!D12 -> 2,200ha | D11: =[1]업무담당자용!E12 -> 363000 | E11: =[1]업무담당자용!F12 -> 0.5 | F11: =[1]업무담당자용!G12 -> 과수재배 농업인 | G11: =[1]업무담당자용!I12 -> 저온피해 경감제 구입비 지원 사업단가 : 165,000원/1ha | H11: =[1]업무담당자용!J12 -> 읍·면
A12: 10 | B12: =[1]업무담당자용!C13 -> 과수 결실안정 수분수 화분재배 시범사업 | C12: =[1]업무담당자용!D13 -> 5ha | D12: =[1]업무담당자용!E13 -> 50000 | E12: =[1]업무담당자용!F13 -> 0.8 | F12: =[1]업무담당자용!G13 -> 과수재배 농업인, 단체 | G12: =[1]업무담당자용!I13 -> 에어포트 화분, 수분수묘목, 화분매개충 등 9,000천원/1ha | H12: =[1]업무담당자용!J13 -> 농업기술센터 과수기술팀
A13: 11 | B13: =[1]업무담당자용!C14 -> 사과 다목적망 보급 시범사업 | C13: =[1]업무담당자용!D14 -> 2개소 | D13: =[1]업무담당자용!E14 -> 50000 | E13: =[1]업무담당자용!F14 -> 0.8 | F13: =[1]업무담당자용!G14 -> 과수재배 농업인 | G13: =[1]업무담당자용!I14 -> 일소, 우박 방지 차광망 파이프지지대 등 지원 0.6ha이상 신청 | H13: =[1]업무담당자용!J14 -> 농업기술센터 과수기술팀
A14: 12 | B14: =[1]업무담당자용!C15 -> 기후 온난화대응 사과품종 다양화 시범사업 | C14: =[1]업무담당자용!D15 -> 1ha | D14: =[1]업무담당자용!E15 -> 100000 | E14: =[1]업무담당자용!F15 -> 0.7 | F14: =[1]업무담당자용!G15 -> 과수재배 농업인 | G14: =[1]업무담당자용!I15 -> 지주,관수,배수,묘목비 등 지원 사업단가 : 40,000/0.5ha | H14: =[1]업무담당자용!J15 -> 농업기술센터 과수기술팀
... A26: 24 | B26: =[1]업무담당자용!C27 -> 핵과류 품질향상기자재 지원사업 | C26: =[1]업무담당자용!D27 -> 3개소 | D26: =[1]업무담당자용!E27 -> 60000 | E26: =[1]업무담당자용!F27 -> 0.5 | F26: =[1]업무담당자용!G27 -> 핵과류 생산단체 | G26: =[1]업무담당자용!I27 -> 핵과류 품질향상 기자재 지원(단체신청) | H26: =[1]업무담당자용!J27 -> 농업기술센터 과수기술팀
